BEGIN:VCALENDAR
VERSION:2.0
PRODID:-//Go Batroun - ECPv6.14.2//NONSGML v1.0//EN
CALSCALE:GREGORIAN
METHOD:PUBLISH
X-ORIGINAL-URL:https://gobatroun.com
X-WR-CALDESC:Events for Go Batroun
REFRESH-INTERVAL;VALUE=DURATION:PT1H
X-Robots-Tag:noindex
X-PUBLISHED-TTL:PT1H
BEGIN:VTIMEZONE
TZID:Asia/Beirut
BEGIN:DAYLIGHT
TZOFFSETFROM:+0200
TZOFFSETTO:+0300
TZNAME:EEST
DTSTART:20230325T220000
END:DAYLIGHT
BEGIN:STANDARD
TZOFFSETFROM:+0300
TZOFFSETTO:+0200
TZNAME:EET
DTSTART:20231028T210000
END:STANDARD
END:VTIMEZONE
BEGIN:VEVENT
DTSTART;TZID=Asia/Beirut:20231118T223000
DTEND;TZID=Asia/Beirut:20231118T223000
DTSTAMP:20260423T064239
CREATED:20231114T102500Z
LAST-MODIFIED:20231114T102500Z
UID:10005167-1700346600-1700346600@gobatroun.com
SUMMARY:Dj Bibb and Mc-H at Void
DESCRIPTION:First night at VOID this season– don’t miss the rhythm! 🌌🎶\nOPENING SEASON | SAT NOV 18
URL:https://gobatroun.com/event/dj-bibb-and-mc-h-at-void-19/
LOCATION:Void Nightclub
CATEGORIES:Performing Arts
ATTACH;FMTTYPE=image/png:https://gobatroun.com/wp-content/uploads/2023/11/Screenshot-2494.png
END:VEVENT
BEGIN:VEVENT
DTSTART;TZID=Asia/Beirut:20230513T220000
DTEND;TZID=Asia/Beirut:20230513T220000
DTSTAMP:20260423T064239
CREATED:20230508T122025Z
LAST-MODIFIED:20230508T122025Z
UID:10002298-1684015200-1684015200@gobatroun.com
SUMMARY:Dj Bibb Rushi and Mc-H ad Void
DESCRIPTION:
URL:https://gobatroun.com/event/dj-bibb-rushi-and-mc-h-ad-void/
LOCATION:Void Nightclub
CATEGORIES:Performing Arts
ATTACH;FMTTYPE=image/png:https://gobatroun.com/wp-content/uploads/2023/05/Screenshot-666.png
END:VEVENT
BEGIN:VEVENT
DTSTART;TZID=Asia/Beirut:20230506T220000
DTEND;TZID=Asia/Beirut:20230506T220000
DTSTAMP:20260423T064239
CREATED:20230503T133000Z
LAST-MODIFIED:20230503T133000Z
UID:10002286-1683410400-1683410400@gobatroun.com
SUMMARY:Dj Bibb\, Rush1 and Mc-H at Void
DESCRIPTION:One last party this season with @dj.bibb @dj.rush1 and MC @harout_hd 🔥
URL:https://gobatroun.com/event/dj-bibb-rush1-and-mc-h-at-void/
LOCATION:Void Nightclub
CATEGORIES:Performing Arts
ATTACH;FMTTYPE=image/png:https://gobatroun.com/wp-content/uploads/2023/05/Screenshot-599.png
END:VEVENT
BEGIN:VEVENT
DTSTART;TZID=Asia/Beirut:20230505T220000
DTEND;TZID=Asia/Beirut:20230505T220000
DTSTAMP:20260423T064239
CREATED:20230503T132808Z
LAST-MODIFIED:20230503T132808Z
UID:10002285-1683324000-1683324000@gobatroun.com
SUMMARY:Zayn Ed\, Raffitop and Mc-H at Void
DESCRIPTION:We’re ending this amazing season of Void with 2 memorable nights this weekend! Make sure to bid farewell with us 🤍
URL:https://gobatroun.com/event/zayn-ed-raffitop-and-mc-h-at-void/
LOCATION:Void Nightclub
CATEGORIES:Performing Arts
ATTACH;FMTTYPE=image/png:https://gobatroun.com/wp-content/uploads/2023/05/Screenshot-598.png
END:VEVENT
BEGIN:VEVENT
DTSTART;TZID=Asia/Beirut:20230430T220000
DTEND;TZID=Asia/Beirut:20230430T220000
DTSTAMP:20260423T064239
CREATED:20230424T104841Z
LAST-MODIFIED:20230424T104841Z
UID:10002248-1682892000-1682892000@gobatroun.com
SUMMARY:Dj Bibb and Mc-H at Void
DESCRIPTION:
URL:https://gobatroun.com/event/dj-bibb-and-mc-h-at-void-18/
LOCATION:Void Nightclub
CATEGORIES:Performing Arts
ATTACH;FMTTYPE=image/png:https://gobatroun.com/wp-content/uploads/2023/04/Screenshot-450.png
END:VEVENT
BEGIN:VEVENT
DTSTART;TZID=Asia/Beirut:20230429T220000
DTEND;TZID=Asia/Beirut:20230429T220000
DTSTAMP:20260423T064239
CREATED:20230424T104619Z
LAST-MODIFIED:20230424T104619Z
UID:10002247-1682805600-1682805600@gobatroun.com
SUMMARY:Dj Oh Jayy\, Dj Beats and Mc-H at Void
DESCRIPTION:
URL:https://gobatroun.com/event/dj-oh-jayy-dj-beats-and-mc-h-at-void/
LOCATION:Void Nightclub
CATEGORIES:Performing Arts
ATTACH;FMTTYPE=image/png:https://gobatroun.com/wp-content/uploads/2023/04/Screenshot-449.png
END:VEVENT
BEGIN:VEVENT
DTSTART;TZID=Asia/Beirut:20230428T220000
DTEND;TZID=Asia/Beirut:20230428T220000
DTSTAMP:20260423T064239
CREATED:20230424T104426Z
LAST-MODIFIED:20230424T104426Z
UID:10002246-1682719200-1682719200@gobatroun.com
SUMMARY:Raffitop and Ed at Void
DESCRIPTION:
URL:https://gobatroun.com/event/raffitop-and-ed-at-void/
LOCATION:Void Nightclub
CATEGORIES:Performing Arts
ATTACH;FMTTYPE=image/png:https://gobatroun.com/wp-content/uploads/2023/04/Screenshot-448.png
END:VEVENT
BEGIN:VEVENT
DTSTART;TZID=Asia/Beirut:20230422T220000
DTEND;TZID=Asia/Beirut:20230422T220000
DTSTAMP:20260423T064239
CREATED:20230419T132947Z
LAST-MODIFIED:20230419T132947Z
UID:10002226-1682200800-1682200800@gobatroun.com
SUMMARY:Dj Bibb and Mc-H at Void
DESCRIPTION:
URL:https://gobatroun.com/event/dj-bibb-and-mc-h-at-void-17/
LOCATION:Void Nightclub
CATEGORIES:Performing Arts
ATTACH;FMTTYPE=image/png:https://gobatroun.com/wp-content/uploads/2023/04/Screenshot-431.png
END:VEVENT
BEGIN:VEVENT
DTSTART;TZID=Asia/Beirut:20230421T220000
DTEND;TZID=Asia/Beirut:20230421T220000
DTSTAMP:20260423T064239
CREATED:20230418T132615Z
LAST-MODIFIED:20230418T132615Z
UID:10002221-1682114400-1682114400@gobatroun.com
SUMMARY:Raffitop Ed and Mc-H at Void
DESCRIPTION:
URL:https://gobatroun.com/event/raffitop-ed-and-mc-h-at-void/
LOCATION:Void Nightclub
CATEGORIES:Performing Arts
ATTACH;FMTTYPE=image/png:https://gobatroun.com/wp-content/uploads/2023/04/Screenshot-425.png
END:VEVENT
BEGIN:VEVENT
DTSTART;TZID=Asia/Beirut:20230416T213000
DTEND;TZID=Asia/Beirut:20230416T213000
DTSTAMP:20260423T064239
CREATED:20230411T110928Z
LAST-MODIFIED:20230411T110947Z
UID:10002186-1681680600-1681680600@gobatroun.com
SUMMARY:Dj Bibb at Void
DESCRIPTION:
URL:https://gobatroun.com/event/dj-bibb-at-void-4/
LOCATION:Void Nightclub
CATEGORIES:Performing Arts
ATTACH;FMTTYPE=image/png:https://gobatroun.com/wp-content/uploads/2023/04/Screenshot-370.png
END:VEVENT
BEGIN:VEVENT
DTSTART;TZID=Asia/Beirut:20230415T213000
DTEND;TZID=Asia/Beirut:20230415T213000
DTSTAMP:20260423T064239
CREATED:20230411T110651Z
LAST-MODIFIED:20230411T110651Z
UID:10002185-1681594200-1681594200@gobatroun.com
SUMMARY:Dj Zayn Ed and Raffitop at Void
DESCRIPTION:
URL:https://gobatroun.com/event/dj-zayn-ed-and-raffitop-at-void/
LOCATION:Void Nightclub
CATEGORIES:Performing Arts
ATTACH;FMTTYPE=image/png:https://gobatroun.com/wp-content/uploads/2023/04/Screenshot-369.png
END:VEVENT
BEGIN:VEVENT
DTSTART;TZID=Asia/Beirut:20230409T210000
DTEND;TZID=Asia/Beirut:20230409T210000
DTSTAMP:20260423T064239
CREATED:20230404T110405Z
LAST-MODIFIED:20230404T110524Z
UID:10002156-1681074000-1681074000@gobatroun.com
SUMMARY:Ed Ghadi and Anto at Void
DESCRIPTION:
URL:https://gobatroun.com/event/ed-ghadi-and-anto-at-void/
LOCATION:Void Nightclub
CATEGORIES:Performing Arts
ATTACH;FMTTYPE=image/png:https://gobatroun.com/wp-content/uploads/2023/04/Screenshot-337.png
END:VEVENT
BEGIN:VEVENT
DTSTART;TZID=Asia/Beirut:20230408T213000
DTEND;TZID=Asia/Beirut:20230408T213000
DTSTAMP:20260423T064239
CREATED:20230404T110842Z
LAST-MODIFIED:20230404T110842Z
UID:10002157-1680989400-1680989400@gobatroun.com
SUMMARY:Dj Bibb and Mc-H at Void
DESCRIPTION:
URL:https://gobatroun.com/event/dj-bibb-and-mc-h-at-void-16/
LOCATION:Void Nightclub
CATEGORIES:Performing Arts
ATTACH;FMTTYPE=image/png:https://gobatroun.com/wp-content/uploads/2023/04/Screenshot-336.png
END:VEVENT
BEGIN:VEVENT
DTSTART;TZID=Asia/Beirut:20230401T213000
DTEND;TZID=Asia/Beirut:20230401T213000
DTSTAMP:20260423T064239
CREATED:20230328T181746Z
LAST-MODIFIED:20230328T181746Z
UID:10002142-1680384600-1680384600@gobatroun.com
SUMMARY:Dj Bibb and Mc-H at Void
DESCRIPTION:
URL:https://gobatroun.com/event/dj-bibb-and-mc-h-at-void-15/
LOCATION:Void Nightclub
CATEGORIES:Performing Arts
ATTACH;FMTTYPE=image/png:https://gobatroun.com/wp-content/uploads/2023/03/Screenshot-253.png
END:VEVENT
BEGIN:VEVENT
DTSTART;TZID=Asia/Beirut:20230325T210000
DTEND;TZID=Asia/Beirut:20230325T210000
DTSTAMP:20260423T064239
CREATED:20230320T143929Z
LAST-MODIFIED:20230320T143929Z
UID:10002115-1679778000-1679778000@gobatroun.com
SUMMARY:Dj Bibb and Mc-H at Void
DESCRIPTION:
URL:https://gobatroun.com/event/dj-bibb-and-mc-h-at-void-14/
LOCATION:Void Nightclub
CATEGORIES:Performing Arts
ATTACH;FMTTYPE=image/png:https://gobatroun.com/wp-content/uploads/2023/03/Screenshot-228.png
END:VEVENT
BEGIN:VEVENT
DTSTART;TZID=Asia/Beirut:20230324T213000
DTEND;TZID=Asia/Beirut:20230324T213000
DTSTAMP:20260423T064239
CREATED:20230321T152049Z
LAST-MODIFIED:20230321T152049Z
UID:10002122-1679693400-1679693400@gobatroun.com
SUMMARY:Ed Zayn and Mc-H at Void
DESCRIPTION:
URL:https://gobatroun.com/event/ed-zayn-and-mc-h-at-void-2/
LOCATION:Void Nightclub
CATEGORIES:Performing Arts
ATTACH;FMTTYPE=image/png:https://gobatroun.com/wp-content/uploads/2023/03/Screenshot-231.png
END:VEVENT
BEGIN:VEVENT
DTSTART;TZID=Asia/Beirut:20230318T220000
DTEND;TZID=Asia/Beirut:20230318T220000
DTSTAMP:20260423T064239
CREATED:20230314T104806Z
LAST-MODIFIED:20230314T104806Z
UID:10002101-1679176800-1679176800@gobatroun.com
SUMMARY:Dj Bibb at Void
DESCRIPTION:
URL:https://gobatroun.com/event/dj-bibb-at-void-3/
LOCATION:Void Nightclub
CATEGORIES:Performing Arts
ATTACH;FMTTYPE=image/png:https://gobatroun.com/wp-content/uploads/2023/03/Screenshot-134.png
END:VEVENT
BEGIN:VEVENT
DTSTART;TZID=Asia/Beirut:20230317T220000
DTEND;TZID=Asia/Beirut:20230317T220000
DTSTAMP:20260423T064239
CREATED:20230314T104658Z
LAST-MODIFIED:20230314T104825Z
UID:10002100-1679090400-1679090400@gobatroun.com
SUMMARY:Dj Kayy TMak and Mc-H at Void
DESCRIPTION:
URL:https://gobatroun.com/event/dj-kayy-tmak-and-mc-h-at-void/
LOCATION:Void Nightclub
CATEGORIES:Performing Arts
ATTACH;FMTTYPE=image/png:https://gobatroun.com/wp-content/uploads/2023/03/Screenshot-133.png
END:VEVENT
BEGIN:VEVENT
DTSTART;TZID=Asia/Beirut:20230311T220000
DTEND;TZID=Asia/Beirut:20230311T220000
DTSTAMP:20260423T064239
CREATED:20230307T092701Z
LAST-MODIFIED:20230307T092701Z
UID:10002061-1678572000-1678572000@gobatroun.com
SUMMARY:Dj Bibb and Mc-H at Void
DESCRIPTION:
URL:https://gobatroun.com/event/dj-bibb-and-mc-h-at-void-13/
LOCATION:Void Nightclub
CATEGORIES:Performing Arts
ATTACH;FMTTYPE=image/png:https://gobatroun.com/wp-content/uploads/2023/03/Screenshot-114.png
END:VEVENT
BEGIN:VEVENT
DTSTART;TZID=Asia/Beirut:20230310T220000
DTEND;TZID=Asia/Beirut:20230310T220000
DTSTAMP:20260423T064239
CREATED:20230307T092556Z
LAST-MODIFIED:20230307T092556Z
UID:10002060-1678485600-1678485600@gobatroun.com
SUMMARY:Ed Zayn and Mc-H at Void
DESCRIPTION:
URL:https://gobatroun.com/event/ed-zayn-and-mc-h-at-void/
LOCATION:Void Nightclub
CATEGORIES:Performing Arts
ATTACH;FMTTYPE=image/png:https://gobatroun.com/wp-content/uploads/2023/03/Screenshot-113.png
END:VEVENT
BEGIN:VEVENT
DTSTART;TZID=Asia/Beirut:20230304T220000
DTEND;TZID=Asia/Beirut:20230304T220000
DTSTAMP:20260423T064239
CREATED:20230228T083632Z
LAST-MODIFIED:20230228T083632Z
UID:10002026-1677967200-1677967200@gobatroun.com
SUMMARY:Dj Bibb and Mc-H at Void
DESCRIPTION:
URL:https://gobatroun.com/event/dj-bibb-and-mc-h-at-void-12/
LOCATION:Void Nightclub
CATEGORIES:Performing Arts
ATTACH;FMTTYPE=image/png:https://gobatroun.com/wp-content/uploads/2023/02/Screenshot-101.png
END:VEVENT
BEGIN:VEVENT
DTSTART;TZID=Asia/Beirut:20230303T220000
DTEND;TZID=Asia/Beirut:20230303T220000
DTSTAMP:20260423T064239
CREATED:20230228T083514Z
LAST-MODIFIED:20230228T083659Z
UID:10002025-1677880800-1677880800@gobatroun.com
SUMMARY:Dj Kayy and Mc-H at Void
DESCRIPTION:
URL:https://gobatroun.com/event/dj-kayy-and-mc-h-at-void-4/
LOCATION:Void Nightclub
CATEGORIES:Performing Arts
ATTACH;FMTTYPE=image/png:https://gobatroun.com/wp-content/uploads/2023/02/Screenshot-100.png
END:VEVENT
BEGIN:VEVENT
DTSTART;TZID=Asia/Beirut:20230225T220000
DTEND;TZID=Asia/Beirut:20230225T220000
DTSTAMP:20260423T064239
CREATED:20230221T093403Z
LAST-MODIFIED:20230221T093403Z
UID:10001989-1677362400-1677362400@gobatroun.com
SUMMARY:Dj Bibb and Mc-H at Void
DESCRIPTION:
URL:https://gobatroun.com/event/dj-bibb-and-mc-h-at-void-11/
LOCATION:Void Nightclub
CATEGORIES:Performing Arts
ATTACH;FMTTYPE=image/png:https://gobatroun.com/wp-content/uploads/2023/02/Screenshot-42.png
END:VEVENT
BEGIN:VEVENT
DTSTART;TZID=Asia/Beirut:20230218T230000
DTEND;TZID=Asia/Beirut:20230218T230000
DTSTAMP:20260423T064239
CREATED:20230217T100652Z
LAST-MODIFIED:20230217T100652Z
UID:10001964-1676761200-1676761200@gobatroun.com
SUMMARY:Dj Ed Geoffroy and Mc-H at Void
DESCRIPTION:
URL:https://gobatroun.com/event/dj-ed-geoffroy-and-mc-h-at-void/
LOCATION:Void Nightclub
CATEGORIES:Performing Arts
ATTACH;FMTTYPE=image/png:https://gobatroun.com/wp-content/uploads/2023/02/Screenshot-35.png
END:VEVENT
BEGIN:VEVENT
DTSTART;TZID=Asia/Beirut:20230213T220000
DTEND;TZID=Asia/Beirut:20230213T220000
DTSTAMP:20260423T064239
CREATED:20230207T141234Z
LAST-MODIFIED:20230207T141234Z
UID:10001913-1676325600-1676325600@gobatroun.com
SUMMARY:Dj Bibb and Mc-H at Void
DESCRIPTION:
URL:https://gobatroun.com/event/dj-bibb-and-mc-h-at-void-10/
LOCATION:Void Nightclub
CATEGORIES:Performing Arts
ATTACH;FMTTYPE=image/png:https://gobatroun.com/wp-content/uploads/2023/02/Screenshot-2700.png
END:VEVENT
BEGIN:VEVENT
DTSTART;TZID=Asia/Beirut:20230210T220000
DTEND;TZID=Asia/Beirut:20230210T220000
DTSTAMP:20260423T064239
CREATED:20230207T141006Z
LAST-MODIFIED:20230207T141006Z
UID:10001911-1676066400-1676066400@gobatroun.com
SUMMARY:Dj Zayn Ed Drew and Mc-H at Void
DESCRIPTION:
URL:https://gobatroun.com/event/dj-zayn-ed-drew-and-mc-h-at-void/
LOCATION:Void Nightclub
CATEGORIES:Performing Arts
ATTACH;FMTTYPE=image/png:https://gobatroun.com/wp-content/uploads/2023/02/Screenshot-2698.png
END:VEVENT
BEGIN:VEVENT
DTSTART;TZID=Asia/Beirut:20230207T080000
DTEND;TZID=Asia/Beirut:20230207T170000
DTSTAMP:20260423T064239
CREATED:20230207T141118Z
LAST-MODIFIED:20230207T141118Z
UID:10001912-1675756800-1675789200@gobatroun.com
SUMMARY:Dj Bibb and Mc-h at Void
DESCRIPTION:
URL:https://gobatroun.com/event/dj-bibb-and-mc-h-at-void-9/
LOCATION:Void Nightclub
CATEGORIES:Performing Arts
ATTACH;FMTTYPE=image/png:https://gobatroun.com/wp-content/uploads/2023/02/Screenshot-2699.png
END:VEVENT
BEGIN:VEVENT
DTSTART;TZID=Asia/Beirut:20230204T220000
DTEND;TZID=Asia/Beirut:20230204T220000
DTSTAMP:20260423T064239
CREATED:20230131T073806Z
LAST-MODIFIED:20230201T074600Z
UID:10001863-1675548000-1675548000@gobatroun.com
SUMMARY:Dj Bibb and Mc-H at Void
DESCRIPTION:The outstanding duo @dj.bibb and MC @harout_hd dropping sick beats and firing up the dancefloor this Saturday Feb 4th💥
URL:https://gobatroun.com/event/dj-bibb-and-mc-h-at-void-8/
LOCATION:Void Nightclub
CATEGORIES:Performing Arts
ATTACH;FMTTYPE=image/png:https://gobatroun.com/wp-content/uploads/2023/01/Screenshot-2599.png
END:VEVENT
BEGIN:VEVENT
DTSTART;TZID=Asia/Beirut:20230203T220000
DTEND;TZID=Asia/Beirut:20230203T220000
DTSTAMP:20260423T064239
CREATED:20230131T073657Z
LAST-MODIFIED:20230201T074609Z
UID:10001862-1675461600-1675461600@gobatroun.com
SUMMARY:ED Zayn TRX and Mc-H at Void
DESCRIPTION:@itsdjed @_djzayn @trx_music aaaand no other than MC @harout_hd this friday!!
URL:https://gobatroun.com/event/ed-zayn-trx-and-mc-h-at-void/
LOCATION:Void Nightclub
CATEGORIES:Performing Arts
ATTACH;FMTTYPE=image/png:https://gobatroun.com/wp-content/uploads/2023/01/Screenshot-2598.png
END:VEVENT
BEGIN:VEVENT
DTSTART;TZID=Asia/Beirut:20230128T220000
DTEND;TZID=Asia/Beirut:20230128T220000
DTSTAMP:20260423T064239
CREATED:20230123T144628Z
LAST-MODIFIED:20230123T144628Z
UID:10001816-1674943200-1674943200@gobatroun.com
SUMMARY:Dj Bibb and Mc-H at Void
DESCRIPTION:
URL:https://gobatroun.com/event/dj-bibb-and-mc-h-at-void-7/
LOCATION:Void Nightclub
CATEGORIES:Performing Arts
ATTACH;FMTTYPE=image/png:https://gobatroun.com/wp-content/uploads/2023/01/Screenshot-2537.png
END:VEVENT
END:VCALENDAR