BEGIN:VCALENDAR
VERSION:2.0
PRODID:-//Go Batroun - ECPv6.14.2//NONSGML v1.0//EN
CALSCALE:GREGORIAN
METHOD:PUBLISH
X-WR-CALNAME:Go Batroun
X-ORIGINAL-URL:https://gobatroun.com
X-WR-CALDESC:Events for Go Batroun
REFRESH-INTERVAL;VALUE=DURATION:PT1H
X-Robots-Tag:noindex
X-PUBLISHED-TTL:PT1H
BEGIN:VTIMEZONE
TZID:Asia/Beirut
BEGIN:DAYLIGHT
TZOFFSETFROM:+0200
TZOFFSETTO:+0300
TZNAME:EEST
DTSTART:20220326T220000
END:DAYLIGHT
BEGIN:STANDARD
TZOFFSETFROM:+0300
TZOFFSETTO:+0200
TZNAME:EET
DTSTART:20221029T210000
END:STANDARD
END:VTIMEZONE
BEGIN:VEVENT
DTSTART;TZID=Asia/Beirut:20221126T220000
DTEND;TZID=Asia/Beirut:20221126T220000
DTSTAMP:20260426T070904
CREATED:20221124T110821Z
LAST-MODIFIED:20221124T110821Z
UID:10001581-1669500000-1669500000@gobatroun.com
SUMMARY:Dj Bibb and Dj Mc-H at Void
DESCRIPTION:
URL:https://gobatroun.com/event/dj-bibb-and-dj-mc-h-at-void-2/
LOCATION:Void Nightclub
CATEGORIES:Performing Arts
ATTACH;FMTTYPE=image/png:https://gobatroun.com/wp-content/uploads/2022/11/Screenshot-2107.png
END:VEVENT
BEGIN:VEVENT
DTSTART;TZID=Asia/Beirut:20221125T220000
DTEND;TZID=Asia/Beirut:20221125T220000
DTSTAMP:20260426T070904
CREATED:20221123T074506Z
LAST-MODIFIED:20221123T074506Z
UID:10001576-1669413600-1669413600@gobatroun.com
SUMMARY:Dj T-Mak at Void
DESCRIPTION:
URL:https://gobatroun.com/event/dj-t-mak-at-void/
LOCATION:Void Nightclub
CATEGORIES:Performing Arts
ATTACH;FMTTYPE=image/png:https://gobatroun.com/wp-content/uploads/2022/11/Screenshot-2101.png
END:VEVENT
BEGIN:VEVENT
DTSTART;TZID=Asia/Beirut:20221121T220000
DTEND;TZID=Asia/Beirut:20221121T220000
DTSTAMP:20260426T070904
CREATED:20221121T073952Z
LAST-MODIFIED:20221121T073952Z
UID:10001479-1669068000-1669068000@gobatroun.com
SUMMARY:Di Bibb and Mc-H at Void
DESCRIPTION:
URL:https://gobatroun.com/event/di-bibb-and-mc-h-at-void/
LOCATION:Void Nightclub
CATEGORIES:Performing Arts
ATTACH;FMTTYPE=image/png:https://gobatroun.com/wp-content/uploads/2022/11/Screenshot-2097.png
END:VEVENT
BEGIN:VEVENT
DTSTART;TZID=Asia/Beirut:20221119T220000
DTEND;TZID=Asia/Beirut:20221119T220000
DTSTAMP:20260426T070904
CREATED:20221115T073726Z
LAST-MODIFIED:20221115T073726Z
UID:10001561-1668895200-1668895200@gobatroun.com
SUMMARY:Dj Bibb and Mc-H at Void
DESCRIPTION:
URL:https://gobatroun.com/event/dj-bibb-and-mc-h-at-void-2/
LOCATION:Void Nightclub
CATEGORIES:Performing Arts
ATTACH;FMTTYPE=image/png:https://gobatroun.com/wp-content/uploads/2022/11/Screenshot-2082.png
END:VEVENT
BEGIN:VEVENT
DTSTART;TZID=Asia/Beirut:20221118T220000
DTEND;TZID=Asia/Beirut:20221118T220000
DTSTAMP:20260426T070904
CREATED:20221115T073602Z
LAST-MODIFIED:20221115T073602Z
UID:10001563-1668808800-1668808800@gobatroun.com
SUMMARY:T-Mak Waxy Bling at Void
DESCRIPTION:
URL:https://gobatroun.com/event/t-mak-waxy-bling-at-void/
LOCATION:Void Nightclub
CATEGORIES:Performing Arts
ATTACH;FMTTYPE=image/png:https://gobatroun.com/wp-content/uploads/2022/11/Screenshot-2081.png
END:VEVENT
BEGIN:VEVENT
DTSTART;TZID=Asia/Beirut:20221112T223000
DTEND;TZID=Asia/Beirut:20221112T223000
DTSTAMP:20260426T070904
CREATED:20221108T142031Z
LAST-MODIFIED:20221108T142031Z
UID:10001309-1668292200-1668292200@gobatroun.com
SUMMARY:Dj Bibb and Mc H at Void
DESCRIPTION:
URL:https://gobatroun.com/event/dj-bibb-and-mc-h-at-void/
LOCATION:Void Nightclub
CATEGORIES:Performing Arts
ATTACH;FMTTYPE=image/png:https://gobatroun.com/wp-content/uploads/2022/11/Screenshot-2055.png
END:VEVENT
BEGIN:VEVENT
DTSTART;TZID=Asia/Beirut:20221111T223000
DTEND;TZID=Asia/Beirut:20221111T223000
DTSTAMP:20260426T070904
CREATED:20221108T103435Z
LAST-MODIFIED:20221108T103435Z
UID:10001295-1668205800-1668205800@gobatroun.com
SUMMARY:DJ Zayn En Bling at Void
DESCRIPTION:
URL:https://gobatroun.com/event/dj-zayn-en-bling-at-void/
LOCATION:Void Nightclub
CATEGORIES:Performing Arts
ATTACH;FMTTYPE=image/png:https://gobatroun.com/wp-content/uploads/2022/11/Screenshot-2051.png
END:VEVENT
BEGIN:VEVENT
DTSTART;TZID=Asia/Beirut:20221105T223000
DTEND;TZID=Asia/Beirut:20221105T223000
DTSTAMP:20260426T070904
CREATED:20221101T081117Z
LAST-MODIFIED:20221101T081117Z
UID:10001519-1667687400-1667687400@gobatroun.com
SUMMARY:DJ Bibb at Void
DESCRIPTION:
URL:https://gobatroun.com/event/dj-bibb-at-void/
LOCATION:Void Nightclub
CATEGORIES:Performing Arts
ATTACH;FMTTYPE=image/png:https://gobatroun.com/wp-content/uploads/2022/11/Screenshot-2035.png
END:VEVENT
BEGIN:VEVENT
DTSTART;TZID=Asia/Beirut:20221105T220000
DTEND;TZID=Asia/Beirut:20221105T220000
DTSTAMP:20260426T070904
CREATED:20221102T132200Z
LAST-MODIFIED:20221102T132200Z
UID:10001527-1667685600-1667685600@gobatroun.com
SUMMARY:Dj Bibb and Dj Mc H at Void
DESCRIPTION:
URL:https://gobatroun.com/event/dj-bibb-and-dj-mc-h-at-void/
LOCATION:Void Nightclub
CATEGORIES:Performing Arts
ATTACH;FMTTYPE=image/png:https://gobatroun.com/wp-content/uploads/2022/11/Screenshot-2042.png
END:VEVENT
BEGIN:VEVENT
DTSTART;TZID=Asia/Beirut:20221104T220000
DTEND;TZID=Asia/Beirut:20221104T220000
DTSTAMP:20260426T070904
CREATED:20221102T074942Z
LAST-MODIFIED:20221102T074942Z
UID:10001525-1667599200-1667599200@gobatroun.com
SUMMARY:T-Mak Bling at Void
DESCRIPTION:
URL:https://gobatroun.com/event/t-mak-bling-at-void/
LOCATION:Void Nightclub
CATEGORIES:Performing Arts
ATTACH;FMTTYPE=image/png:https://gobatroun.com/wp-content/uploads/2022/11/Screenshot-2039.png
END:VEVENT
BEGIN:VEVENT
DTSTART;TZID=Asia/Beirut:20221029T220000
DTEND;TZID=Asia/Beirut:20221029T220000
DTSTAMP:20260426T070904
CREATED:20221024T072726Z
LAST-MODIFIED:20221024T072726Z
UID:10001486-1667080800-1667080800@gobatroun.com
SUMMARY:Dj Bibb and Mc H at Void Nightclub
DESCRIPTION:Have you missed us as much as we’ve missed you? We’re back!!! Welcoming you this Saturday 29th of October with a Halloween-themed party – Be your favorite Super Hero for a night\, and may the best-dressed win. \nInfo & rsvp 76 424 999
URL:https://gobatroun.com/event/dj-bibb-and-mc-h-at-void-nightclub/
LOCATION:Void Nightclub
CATEGORIES:Performing Arts
ATTACH;FMTTYPE=image/jpeg:https://gobatroun.com/wp-content/uploads/2022/10/WhatsApp-Image-2022-10-22-at-7.58.37-PM.jpeg
END:VEVENT
END:VCALENDAR