BEGIN:VCALENDAR
VERSION:2.0
PRODID:-//Go Batroun - ECPv6.14.2//NONSGML v1.0//EN
CALSCALE:GREGORIAN
METHOD:PUBLISH
X-WR-CALNAME:Go Batroun
X-ORIGINAL-URL:https://gobatroun.com
X-WR-CALDESC:Events for Go Batroun
REFRESH-INTERVAL;VALUE=DURATION:PT1H
X-Robots-Tag:noindex
X-PUBLISHED-TTL:PT1H
BEGIN:VTIMEZONE
TZID:Asia/Beirut
BEGIN:DAYLIGHT
TZOFFSETFROM:+0200
TZOFFSETTO:+0300
TZNAME:EEST
DTSTART:20220326T220000
END:DAYLIGHT
BEGIN:STANDARD
TZOFFSETFROM:+0300
TZOFFSETTO:+0200
TZNAME:EET
DTSTART:20221029T210000
END:STANDARD
END:VTIMEZONE
BEGIN:VEVENT
DTSTART;TZID=Asia/Beirut:20220729T203000
DTEND;TZID=Asia/Beirut:20220729T203000
DTSTAMP:20260425T200845
CREATED:20220727T060916Z
LAST-MODIFIED:20220727T060916Z
UID:10000997-1659126600-1659126600@gobatroun.com
SUMMARY:Cheryl Ghostine at Vine Wine Bar
DESCRIPTION:Join us this Friday\, July 29 for some pop funk – electro – nu disco – with D-Che 🎶- @cherylghostine – starting at 8:30 pm\n.\nFor bookings – 71 455 882
URL:https://gobatroun.com/event/cheryl-ghostine-at-vine-wine-bar/
LOCATION:Vine\, Smar Jbeil\, 6M9R+95 Smar Jbeil\, Smar Jbeil\, Lebanon
CATEGORIES:Performing Arts
ATTACH;FMTTYPE=image/png:https://gobatroun.com/wp-content/uploads/2022/07/Screenshot-1011.png
END:VEVENT
BEGIN:VEVENT
DTSTART;TZID=Asia/Beirut:20220724T200000
DTEND;TZID=Asia/Beirut:20220724T200000
DTSTAMP:20260425T200845
CREATED:20220722T092830Z
LAST-MODIFIED:20220722T092830Z
UID:10000981-1658692800-1658692800@gobatroun.com
SUMMARY:Joelle and  Elie Dargham at Vine Wine Bar
DESCRIPTION:join us for some live acoustic music with @joelle__makhoul & @mrdargham this Sunday\, July 24 \nstarting 8:00 pm \n. \nFor bookings – 71 455 882
URL:https://gobatroun.com/event/joelle-and-elie-dargham-at-vine-wine-bar/
LOCATION:Vine\, Smar Jbeil\, 6M9R+95 Smar Jbeil\, Smar Jbeil\, Lebanon
CATEGORIES:Performing Arts
ATTACH;FMTTYPE=image/png:https://gobatroun.com/wp-content/uploads/2022/07/Screenshot-85.png
END:VEVENT
BEGIN:VEVENT
DTSTART;TZID=Asia/Beirut:20220717T200000
DTEND;TZID=Asia/Beirut:20220717T200000
DTSTAMP:20260425T200845
CREATED:20220715T051149Z
LAST-MODIFIED:20220715T051230Z
UID:10000926-1658088000-1658088000@gobatroun.com
SUMMARY:Elie Margi at Vine Wine Bar
DESCRIPTION:Join us for some live acoustic music with @eliemargi this Sunday July17\nstarting 8:00 pm\n.\nFor bookings – 71 455 882
URL:https://gobatroun.com/event/elie-margi-at-vine-wine-bar/
LOCATION:Vine\, Smar Jbeil\, 6M9R+95 Smar Jbeil\, Smar Jbeil\, Lebanon
CATEGORIES:Performing Arts
ATTACH;FMTTYPE=image/png:https://gobatroun.com/wp-content/uploads/2022/07/Screenshot-944.png
END:VEVENT
BEGIN:VEVENT
DTSTART;TZID=Asia/Beirut:20220716T203000
DTEND;TZID=Asia/Beirut:20220716T203000
DTSTAMP:20260425T200845
CREATED:20220713T104914Z
LAST-MODIFIED:20220713T104914Z
UID:10000816-1658003400-1658003400@gobatroun.com
SUMMARY:Dj Ingrid Assouad at Vine Wine
DESCRIPTION:Join us this Saturday\, July 16 for some electro/groovy music with @ingridasd\nstarting 8:30 pm\n.\nFor bookings – 71 455 882
URL:https://gobatroun.com/event/dj-ingrid-assouad-at-vine-wine/
LOCATION:Vine\, Smar Jbeil\, 6M9R+95 Smar Jbeil\, Smar Jbeil\, Lebanon
CATEGORIES:Performing Arts
ATTACH;FMTTYPE=image/png:https://gobatroun.com/wp-content/uploads/2022/07/Screenshot-939.png
END:VEVENT
BEGIN:VEVENT
DTSTART;TZID=Asia/Beirut:20220709T203000
DTEND;TZID=Asia/Beirut:20220709T203000
DTSTAMP:20260425T200845
CREATED:20220707T100957Z
LAST-MODIFIED:20220707T100957Z
UID:10000910-1657398600-1657398600@gobatroun.com
SUMMARY:Danton Attieh at Vine Wine Bar & Deli
DESCRIPTION:Join us for some live acoustic music with @dantonattieh this Saturday 9 July\nstarting 8:30 pm\n.\nFor bookings – 71 455 882
URL:https://gobatroun.com/event/danton-attieh-at-vine-wine-bar-deli/
LOCATION:Vine\, Smar Jbeil\, 6M9R+95 Smar Jbeil\, Smar Jbeil\, Lebanon
CATEGORIES:Performing Arts
ATTACH;FMTTYPE=image/png:https://gobatroun.com/wp-content/uploads/2022/07/Screenshot-885.png
END:VEVENT
BEGIN:VEVENT
DTSTART;TZID=Asia/Beirut:20220618T203000
DTEND;TZID=Asia/Beirut:20220618T234500
DTSTAMP:20260425T200845
CREATED:20220618T144004Z
LAST-MODIFIED:20220728T075000Z
UID:10000871-1655584200-1655595900@gobatroun.com
SUMMARY:Joelle Makhoul Live Acoustic Music
DESCRIPTION:Joelle Makhoul Live Acoustic Music at Vine\, Smar Jbeil – Batroun\nJoin the event for some live acoustic music with Joelle Makhoul this Saturday June 18th\nstarting 8:30 pm\nBand charge: 100 000 LL\nFor bookings – 71 455 882
URL:https://gobatroun.com/event/joelle-makhoul-live-acoustic-music-at-vine-smar-jbeil-batroun/
LOCATION:Vine\, Smar Jbeil\, 6M9R+95 Smar Jbeil\, Smar Jbeil\, Lebanon
CATEGORIES:Performing Arts
ATTACH;FMTTYPE=image/jpeg:https://gobatroun.com/wp-content/uploads/2022/06/joelle_makhoul_live_acoustic_music_at_vine_batroun.jpg
END:VEVENT
END:VCALENDAR