BEGIN:VCALENDAR
VERSION:2.0
PRODID:-//Go Batroun - ECPv6.14.2//NONSGML v1.0//EN
CALSCALE:GREGORIAN
METHOD:PUBLISH
X-ORIGINAL-URL:https://gobatroun.com
X-WR-CALDESC:Events for Go Batroun
REFRESH-INTERVAL;VALUE=DURATION:PT1H
X-Robots-Tag:noindex
X-PUBLISHED-TTL:PT1H
BEGIN:VTIMEZONE
TZID:Asia/Beirut
BEGIN:DAYLIGHT
TZOFFSETFROM:+0200
TZOFFSETTO:+0300
TZNAME:EEST
DTSTART:20230325T220000
END:DAYLIGHT
BEGIN:STANDARD
TZOFFSETFROM:+0300
TZOFFSETTO:+0200
TZNAME:EET
DTSTART:20231028T210000
END:STANDARD
END:VTIMEZONE
BEGIN:VEVENT
DTSTART;TZID=Asia/Beirut:20231223T220000
DTEND;TZID=Asia/Beirut:20231223T220000
DTSTAMP:20260423T055424
CREATED:20231219T104843Z
LAST-MODIFIED:20231220T083627Z
UID:10005562-1703368800-1703368800@gobatroun.com
SUMMARY:Chadi Al Saghir & DJ Chub  at Tramway
DESCRIPTION:What’s happening this weekend at Tramway ✨ \nMeet us for fully packed nights with a special menu\, fresh cocktails\, brilliant entertainment\, and a DJ. \n🎄The Christmas magic awaits. RSVP: 03 514 101
URL:https://gobatroun.com/event/chadi-al-saghir-dj-chub-at-tramway-2/2023-12-23/
LOCATION:Tramway Gastro Pub\, 7M45+CQ Batroun\, Batroun\, Lebanon
CATEGORIES:Performing Arts
ATTACH;FMTTYPE=image/png:https://gobatroun.com/wp-content/uploads/2023/12/Screenshot-2788.png
END:VEVENT
BEGIN:VEVENT
DTSTART;TZID=Asia/Beirut:20231222T220000
DTEND;TZID=Asia/Beirut:20231222T220000
DTSTAMP:20260423T055424
CREATED:20231219T104800Z
LAST-MODIFIED:20231220T083907Z
UID:10005551-1703282400-1703282400@gobatroun.com
SUMMARY:Tony Najem and Dj Chub  at Tramway
DESCRIPTION:Get into the holiday spirit with singer Tony Najem this Friday\, December 22! 🎄 \nStarting at 10:30 p.m. we’ll be grooving to his amazing voice\, followed by the hottest tracks played by DJ Chub. \n✨ Join us for a night you won’t forget\, reserve by calling 03 514 101
URL:https://gobatroun.com/event/tony-najem-and-dj-chub-at-tramway-2/
LOCATION:Tramway Gastro Pub\, 7M45+CQ Batroun\, Batroun\, Lebanon
CATEGORIES:Performing Arts
ATTACH;FMTTYPE=image/png:https://gobatroun.com/wp-content/uploads/2023/12/Screenshot-2790.png
END:VEVENT
BEGIN:VEVENT
DTSTART;TZID=Asia/Beirut:20231216T223000
DTEND;TZID=Asia/Beirut:20231216T223000
DTSTAMP:20260423T055424
CREATED:20231212T073331Z
LAST-MODIFIED:20231212T073331Z
UID:10005384-1702765800-1702765800@gobatroun.com
SUMMARY:Chadi Al Saghir & DJ Chub at Tramway
DESCRIPTION:Oriental music & authentic vibes! ✨\nWhat can a person ask more for this weekend? \nSinger Chadi Al Saghir & DJ Chub are bringing to you the best of melodies this Saturday starting at 10:30 p.m. \n📲 RSVP: 03 514 101
URL:https://gobatroun.com/event/chadi-al-saghir-dj-chub-at-tramway/
LOCATION:Tramway Gastro Pub\, 7M45+CQ Batroun\, Batroun\, Lebanon
CATEGORIES:Performing Arts
ATTACH;FMTTYPE=image/png:https://gobatroun.com/wp-content/uploads/2023/12/Screenshot-2681.png
END:VEVENT
BEGIN:VEVENT
DTSTART;TZID=Asia/Beirut:20231215T223000
DTEND;TZID=Asia/Beirut:20231215T223000
DTSTAMP:20260423T055424
CREATED:20231212T073941Z
LAST-MODIFIED:20231212T073941Z
UID:10005385-1702679400-1702679400@gobatroun.com
SUMMARY:Tony Najem and DJ Chub at Tramway
DESCRIPTION:Join us this Friday for the weekly Tramway Vibe featuring the star Tony Najem and DJ Chub. \nDon’t miss out on the holiday party of the year at your favorite place in Batroun! 🎄✨ \nCall 03 514 101 to reserve your spot now.
URL:https://gobatroun.com/event/tony-najem-and-dj-chub-at-tramway/
LOCATION:Tramway Gastro Pub\, 7M45+CQ Batroun\, Batroun\, Lebanon
CATEGORIES:Performing Arts
ATTACH;FMTTYPE=image/png:https://gobatroun.com/wp-content/uploads/2023/12/Screenshot-2682.png
END:VEVENT
BEGIN:VEVENT
DTSTART;TZID=Asia/Beirut:20231209T223000
DTEND;TZID=Asia/Beirut:20231209T223000
DTSTAMP:20260423T055424
CREATED:20231205T091144Z
LAST-MODIFIED:20231205T091144Z
UID:10005337-1702161000-1702161000@gobatroun.com
SUMMARY:Tony Najem at Tramway Batroun
DESCRIPTION:Weekend rituals with singer Tony Najem ✨ \nJoin us this Sutrday for the ultimate Oriental vibes. \nRSVP: 03 514 101
URL:https://gobatroun.com/event/tony-najem-at-tramway-batroun-17/
LOCATION:Tramway Gastro Pub\, 7M45+CQ Batroun\, Batroun\, Lebanon
CATEGORIES:Performing Arts
ATTACH;FMTTYPE=image/png:https://gobatroun.com/wp-content/uploads/2023/10/Screenshot-2273.png
END:VEVENT
BEGIN:VEVENT
DTSTART;TZID=Asia/Beirut:20231208T223000
DTEND;TZID=Asia/Beirut:20231208T223000
DTSTAMP:20260423T055424
CREATED:20231205T090817Z
LAST-MODIFIED:20231205T090922Z
UID:10005336-1702074600-1702074600@gobatroun.com
SUMMARY:Tony Najem at Tramway Batroun
DESCRIPTION:Weekend rituals with singer Tony Najem ✨ \nJoin us this Friday for the ultimate Oriental vibes. \nRSVP: 03 514 101
URL:https://gobatroun.com/event/tony-najem-at-tramway-batroun-16/
LOCATION:Tramway Gastro Pub\, 7M45+CQ Batroun\, Batroun\, Lebanon
CATEGORIES:Performing Arts
ATTACH;FMTTYPE=image/png:https://gobatroun.com/wp-content/uploads/2023/10/Screenshot-2273.png
END:VEVENT
BEGIN:VEVENT
DTSTART;TZID=Asia/Beirut:20231202T103000
DTEND;TZID=Asia/Beirut:20231202T170000
DTSTAMP:20260423T055424
CREATED:20231128T092507Z
LAST-MODIFIED:20231128T092507Z
UID:10005256-1701513000-1701536400@gobatroun.com
SUMMARY:Chadi Al Saghir at Tramway
DESCRIPTION:Get ready to kick off the first weekend of the jolly month in style! Join us for an unforgettable oriental night\, featuring the talented singer @chadialsaghir.official and the amazing beats of @dj_chub_official \nWho’s ready to immerse themselves in the magic of oriental music? ✨ \nRSVP: 03 514 101
URL:https://gobatroun.com/event/chadi-al-saghir-at-tramway/
LOCATION:Tramway Gastro Pub\, 7M45+CQ Batroun\, Batroun\, Lebanon
CATEGORIES:Performing Arts
ATTACH;FMTTYPE=image/png:https://gobatroun.com/wp-content/uploads/2023/11/Screenshot-2560.png
END:VEVENT
BEGIN:VEVENT
DTSTART;TZID=Asia/Beirut:20231124T223000
DTEND;TZID=Asia/Beirut:20231124T223000
DTSTAMP:20260423T055424
CREATED:20231124T090408Z
LAST-MODIFIED:20231124T090408Z
UID:10005243-1700865000-1700865000@gobatroun.com
SUMMARY:Tony Najem at Tramway Batroun
DESCRIPTION:Weekend rituals with singer Tony Najem ✨ \nJoin us this Friday for the ultimate Oriental vibes. \nRSVP: 03 514 101
URL:https://gobatroun.com/event/tony-najem-at-tramway-batroun-15/
LOCATION:Tramway Gastro Pub\, 7M45+CQ Batroun\, Batroun\, Lebanon
CATEGORIES:Performing Arts
ATTACH;FMTTYPE=image/png:https://gobatroun.com/wp-content/uploads/2023/10/Screenshot-2273.png
END:VEVENT
BEGIN:VEVENT
DTSTART;TZID=Asia/Beirut:20231121T210000
DTEND;TZID=Asia/Beirut:20231121T210000
DTSTAMP:20260423T055424
CREATED:20231120T132233Z
LAST-MODIFIED:20231120T132233Z
UID:10005229-1700600400-1700600400@gobatroun.com
SUMMARY:Dj Chub at Tramway
DESCRIPTION:Mark your calendar and join us this Tuesday to celebrate Lebanese Independence Day – a day of unity\, pride\, and joy! 🤍 \nReserve your tables by calling 03 514 101
URL:https://gobatroun.com/event/dj-chub-at-tramway-2/
LOCATION:Tramway Gastro Pub\, 7M45+CQ Batroun\, Batroun\, Lebanon
CATEGORIES:Performing Arts
ATTACH;FMTTYPE=image/png:https://gobatroun.com/wp-content/uploads/2023/11/Screenshot-2523.png
END:VEVENT
BEGIN:VEVENT
DTSTART;TZID=Asia/Beirut:20231117T223000
DTEND;TZID=Asia/Beirut:20231117T223000
DTSTAMP:20260423T055424
CREATED:20231114T101849Z
LAST-MODIFIED:20231114T101849Z
UID:10005166-1700260200-1700260200@gobatroun.com
SUMMARY:Tony Najem at Tramway Batroun
DESCRIPTION:Weekend rituals with singer Tony Najem ✨ \nJoin us this Friday for the ultimate Oriental vibes. \nRSVP: 03 514 101
URL:https://gobatroun.com/event/tony-najem-at-tramway-batroun-14/
LOCATION:Tramway Gastro Pub\, 7M45+CQ Batroun\, Batroun\, Lebanon
CATEGORIES:Performing Arts
ATTACH;FMTTYPE=image/png:https://gobatroun.com/wp-content/uploads/2023/10/Screenshot-2273.png
END:VEVENT
BEGIN:VEVENT
DTSTART;TZID=Asia/Beirut:20231111T223000
DTEND;TZID=Asia/Beirut:20231111T223000
DTSTAMP:20260423T055424
CREATED:20231107T121919Z
LAST-MODIFIED:20231107T121919Z
UID:10005134-1699741800-1699741800@gobatroun.com
SUMMARY:Tony Najem at Tramway Batroun
DESCRIPTION:We keep the good vibes rolling..\nMark your calendars for an unforgettable evening this Saturday with star Tony Najem! \nRSVP: 📲 03 514 101
URL:https://gobatroun.com/event/tony-najem-at-tramway-batroun-13/
LOCATION:Tramway Gastro Pub\, 7M45+CQ Batroun\, Batroun\, Lebanon
CATEGORIES:Performing Arts
ATTACH;FMTTYPE=image/png:https://gobatroun.com/wp-content/uploads/2023/10/Screenshot-2273.png
END:VEVENT
BEGIN:VEVENT
DTSTART;TZID=Asia/Beirut:20231110T220000
DTEND;TZID=Asia/Beirut:20231110T220000
DTSTAMP:20260423T055424
CREATED:20231109T125240Z
LAST-MODIFIED:20231109T125240Z
UID:10005147-1699653600-1699653600@gobatroun.com
SUMMARY:Bassam Deeb at Tramway
DESCRIPTION:Kicking off the weekend with singer Bassam Deeb 💫 \nGet ready this Friday for a special night out with your friends and loved ones! \n📍Batroun Old Souks\nRSVP: 03 514 101
URL:https://gobatroun.com/event/bassam-deeb-at-tramway/
LOCATION:Tramway Gastro Pub\, 7M45+CQ Batroun\, Batroun\, Lebanon
CATEGORIES:Performing Arts
ATTACH;FMTTYPE=image/png:https://gobatroun.com/wp-content/uploads/2023/11/Screenshot-2474.png
END:VEVENT
BEGIN:VEVENT
DTSTART;TZID=Asia/Beirut:20231104T223000
DTEND;TZID=Asia/Beirut:20231104T223000
DTSTAMP:20260423T055424
CREATED:20231031T110804Z
LAST-MODIFIED:20231031T110804Z
UID:10005094-1699137000-1699137000@gobatroun.com
SUMMARY:Tony Najem at Tramway Batroun
DESCRIPTION:We keep the good vibes rolling..\nMark your calendars for an unforgettable evening this Saturday with star Tony Najem! \nRSVP: 📲 03 514 101
URL:https://gobatroun.com/event/tony-najem-at-tramway-batroun-12/
LOCATION:Tramway Gastro Pub\, 7M45+CQ Batroun\, Batroun\, Lebanon
CATEGORIES:Performing Arts
ATTACH;FMTTYPE=image/png:https://gobatroun.com/wp-content/uploads/2023/10/Screenshot-2273.png
END:VEVENT
BEGIN:VEVENT
DTSTART;TZID=Asia/Beirut:20231103T220000
DTEND;TZID=Asia/Beirut:20231103T220000
DTSTAMP:20260423T055424
CREATED:20231102T092724Z
LAST-MODIFIED:20231102T092724Z
UID:10005130-1699048800-1699048800@gobatroun.com
SUMMARY:Dj Chub at Tramway
DESCRIPTION:
URL:https://gobatroun.com/event/dj-chub-at-tramway/
LOCATION:Tramway Gastro Pub\, 7M45+CQ Batroun\, Batroun\, Lebanon
CATEGORIES:Performing Arts
ATTACH;FMTTYPE=image/png:https://gobatroun.com/wp-content/uploads/2023/11/Screenshot-2427.png
END:VEVENT
BEGIN:VEVENT
DTSTART;TZID=Asia/Beirut:20231028T223000
DTEND;TZID=Asia/Beirut:20231028T223000
DTSTAMP:20260423T055424
CREATED:20231027T075420Z
LAST-MODIFIED:20231027T075420Z
UID:10005086-1698532200-1698532200@gobatroun.com
SUMMARY:Tony Najem at Tramway Batroun
DESCRIPTION:We keep the good vibes rolling..\nMark your calendars for an unforgettable evening this Saturday with star Tony Najem! \nRSVP: 📲 03 514 101
URL:https://gobatroun.com/event/tony-najem-at-tramway-batroun-11/
LOCATION:Tramway Gastro Pub\, 7M45+CQ Batroun\, Batroun\, Lebanon
CATEGORIES:Performing Arts
ATTACH;FMTTYPE=image/png:https://gobatroun.com/wp-content/uploads/2023/10/Screenshot-2273.png
END:VEVENT
BEGIN:VEVENT
DTSTART;TZID=Asia/Beirut:20231021T223000
DTEND;TZID=Asia/Beirut:20231021T223000
DTSTAMP:20260423T055424
CREATED:20231020T092856Z
LAST-MODIFIED:20231020T092856Z
UID:10005062-1697927400-1697927400@gobatroun.com
SUMMARY:Tony Najem at Tramway Batroun
DESCRIPTION:We keep the good vibes rolling..\nMark your calendars for an unforgettable evening this Saturday with star Tony Najem! \nRSVP: 📲 03 514 101
URL:https://gobatroun.com/event/tony-najem-at-tramway-batroun-10/
LOCATION:Tramway Gastro Pub\, 7M45+CQ Batroun\, Batroun\, Lebanon
CATEGORIES:Performing Arts
ATTACH;FMTTYPE=image/png:https://gobatroun.com/wp-content/uploads/2023/10/Screenshot-2273.png
END:VEVENT
BEGIN:VEVENT
DTSTART;TZID=Asia/Beirut:20231014T223000
DTEND;TZID=Asia/Beirut:20231014T223000
DTSTAMP:20260423T055424
CREATED:20231010T125634Z
LAST-MODIFIED:20231010T125634Z
UID:10005038-1697322600-1697322600@gobatroun.com
SUMMARY:Tony Najem at Tramway Batroun
DESCRIPTION:This saturday 14 october\, Tony Najem at Tramway batroun \nFor reservation call us on-03514101 or whatsapp us\n⏰ starting at 10:30 pm
URL:https://gobatroun.com/event/tony-najem-at-tramway-batroun-9/
LOCATION:Tramway Gastro Pub\, 7M45+CQ Batroun\, Batroun\, Lebanon
CATEGORIES:Performing Arts
ATTACH;FMTTYPE=image/png:https://gobatroun.com/wp-content/uploads/2023/10/Screenshot-2273.png
END:VEVENT
BEGIN:VEVENT
DTSTART;TZID=Asia/Beirut:20231007T223000
DTEND;TZID=Asia/Beirut:20231007T223000
DTSTAMP:20260423T055424
CREATED:20231003T115234Z
LAST-MODIFIED:20231003T115234Z
UID:10005016-1696717800-1696717800@gobatroun.com
SUMMARY:Tony Najem at Tramway Batroun
DESCRIPTION:This Saturday 7 October\, Tony Najem at Tramway Batroun \nFor reservation call us on-03 51 41 01 \n⏰ starting 10:30 pm
URL:https://gobatroun.com/event/tony-najem-at-tramway-batroun-8/
LOCATION:Tramway Gastro Pub\, 7M45+CQ Batroun\, Batroun\, Lebanon
CATEGORIES:Performing Arts
ATTACH;FMTTYPE=image/png:https://gobatroun.com/wp-content/uploads/2023/10/Screenshot-2273.png
END:VEVENT
BEGIN:VEVENT
DTSTART;TZID=Asia/Beirut:20230930T220000
DTEND;TZID=Asia/Beirut:20230930T220000
DTSTAMP:20260423T055424
CREATED:20230928T075005Z
LAST-MODIFIED:20230928T075005Z
UID:10004982-1696111200-1696111200@gobatroun.com
SUMMARY:Tony Najem at Tramway Batroun
DESCRIPTION:This Saturday 30 september\, Tony Najem at Tramway Batroun\nFor reservations call us on – 03 51 41 01\nOr WhatsApp us on – https://wa.link/4z3wsz\n🕘starting 10 Pm
URL:https://gobatroun.com/event/tony-najem-at-tramway-batroun-7/
LOCATION:Tramway Gastro Pub\, 7M45+CQ Batroun\, Batroun\, Lebanon
CATEGORIES:Performing Arts
ATTACH;FMTTYPE=image/png:https://gobatroun.com/wp-content/uploads/2023/09/Screenshot-2238.png
END:VEVENT
BEGIN:VEVENT
DTSTART;TZID=Asia/Beirut:20230923T220000
DTEND;TZID=Asia/Beirut:20230923T220000
DTSTAMP:20260423T055424
CREATED:20230919T120348Z
LAST-MODIFIED:20230919T120610Z
UID:10004892-1695506400-1695506400@gobatroun.com
SUMMARY:Joud Dallal at Tramway Batroun
DESCRIPTION:This Saturday 23 september\, Joud Dallal at Tramway Batroun\nFor reservations call us on – 03 51 41 01\nOr WhatsApp us on – https://wa.link/4z3wsz\n🕘starting 10 Pm
URL:https://gobatroun.com/event/joud-dallal-at-tramway-batroun-27/
LOCATION:Tramway Gastro Pub\, 7M45+CQ Batroun\, Batroun\, Lebanon
CATEGORIES:Performing Arts
ATTACH;FMTTYPE=image/png:https://gobatroun.com/wp-content/uploads/2023/07/Screenshot-1485.png
END:VEVENT
BEGIN:VEVENT
DTSTART;TZID=Asia/Beirut:20230922T220000
DTEND;TZID=Asia/Beirut:20230922T220000
DTSTAMP:20260423T055424
CREATED:20230919T120559Z
LAST-MODIFIED:20230919T120559Z
UID:10004893-1695420000-1695420000@gobatroun.com
SUMMARY:Tony Najem at Tramway Batroun
DESCRIPTION:This Friday 22 september\, Tony Najem at Tramway Batroun\nFor reservations call us on – 03 51 41 01\nOr WhatsApp us on – https://wa.link/4z3wsz\n🕘starting 10 Pm
URL:https://gobatroun.com/event/tony-najem-at-tramway-batroun-6/
LOCATION:Tramway Gastro Pub\, 7M45+CQ Batroun\, Batroun\, Lebanon
CATEGORIES:Performing Arts
ATTACH;FMTTYPE=image/png:https://gobatroun.com/wp-content/uploads/2023/09/Screenshot-2170.png
END:VEVENT
BEGIN:VEVENT
DTSTART;TZID=Asia/Beirut:20230916T220000
DTEND;TZID=Asia/Beirut:20230916T220000
DTSTAMP:20260423T055424
CREATED:20230912T120525Z
LAST-MODIFIED:20230912T120525Z
UID:10004861-1694901600-1694901600@gobatroun.com
SUMMARY:Joud Dallal at Tramway Batroun
DESCRIPTION:This Saturday 16 september\, Joud Dallal at Tramway Batroun\nFor reservations call us on – 03 51 41 01\nOr WhatsApp us on – https://wa.link/4z3wsz\n🕘starting 10 Pm
URL:https://gobatroun.com/event/joud-dallal-at-tramway-batroun-26/
LOCATION:Tramway Gastro Pub\, 7M45+CQ Batroun\, Batroun\, Lebanon
CATEGORIES:Performing Arts
ATTACH;FMTTYPE=image/png:https://gobatroun.com/wp-content/uploads/2023/07/Screenshot-1485.png
END:VEVENT
BEGIN:VEVENT
DTSTART;TZID=Asia/Beirut:20230909T220000
DTEND;TZID=Asia/Beirut:20230909T220000
DTSTAMP:20260423T055424
CREATED:20230912T120635Z
LAST-MODIFIED:20230912T120635Z
UID:10004862-1694296800-1694296800@gobatroun.com
SUMMARY:Tony Najem at Tramway Batroun
DESCRIPTION:This Friday 15 september\, Tony Najem at Tramway Batroun\nFor reservations call us on – 03 51 41 01\nOr WhatsApp us on – https://wa.link/4z3wsz\n🕘starting 10 Pm
URL:https://gobatroun.com/event/tony-najem-at-tramway-batroun-5/
LOCATION:Tramway Gastro Pub\, 7M45+CQ Batroun\, Batroun\, Lebanon
CATEGORIES:Performing Arts
ATTACH;FMTTYPE=image/png:https://gobatroun.com/wp-content/uploads/2023/09/Screenshot-2089.png
END:VEVENT
BEGIN:VEVENT
DTSTART;TZID=Asia/Beirut:20230909T220000
DTEND;TZID=Asia/Beirut:20230909T220000
DTSTAMP:20260423T055424
CREATED:20230906T055234Z
LAST-MODIFIED:20230906T055234Z
UID:10004819-1694296800-1694296800@gobatroun.com
SUMMARY:Tony Najem at Tramway Batroun
DESCRIPTION:This Saturday\, september 9\, Tony Najem at Tramway Batroun\nFor reservations call us on – 03 51 41 01\nOr WhatsApp us on – https://wa.link/4z3wsz\n🕘starting 10 Pm
URL:https://gobatroun.com/event/tony-najem-at-tramway-batroun-4/
LOCATION:Tramway Gastro Pub\, 7M45+CQ Batroun\, Batroun\, Lebanon
CATEGORIES:Performing Arts
ATTACH;FMTTYPE=image/png:https://gobatroun.com/wp-content/uploads/2023/09/Screenshot-2050.png
END:VEVENT
BEGIN:VEVENT
DTSTART;TZID=Asia/Beirut:20230908T220000
DTEND;TZID=Asia/Beirut:20230908T220000
DTSTAMP:20260423T055424
CREATED:20230906T055050Z
LAST-MODIFIED:20230906T055248Z
UID:10004818-1694210400-1694210400@gobatroun.com
SUMMARY:Joud Dallal at Tramway Batroun
DESCRIPTION:This friday\, september 8\, Joud Dallal at Tramway Batroun\nFor reservations call us on – 03 51 41 01\nOr WhatsApp us on – https://wa.link/4z3wsz\n🕘starting 10 Pm
URL:https://gobatroun.com/event/joud-dallal-at-tramway-batroun-25/
LOCATION:Tramway Gastro Pub\, 7M45+CQ Batroun\, Batroun\, Lebanon
CATEGORIES:Performing Arts
ATTACH;FMTTYPE=image/png:https://gobatroun.com/wp-content/uploads/2023/07/Screenshot-1485.png
END:VEVENT
BEGIN:VEVENT
DTSTART;TZID=Asia/Beirut:20230902T220000
DTEND;TZID=Asia/Beirut:20230902T220000
DTSTAMP:20260423T055424
CREATED:20230830T054228Z
LAST-MODIFIED:20230830T054228Z
UID:10004758-1693692000-1693692000@gobatroun.com
SUMMARY:Joud Dallal at Tramway Batroun
DESCRIPTION:his Saturday\, September 2nd\, Joud Dallal at Tramway Batroun\nFor reservations call us on – 03 51 41 01\nOr WhatsApp us on – https://wa.link/4z3wsz\n🕘starting 10 Pm
URL:https://gobatroun.com/event/joud-dallal-at-tramway-batroun-24/
LOCATION:Tramway Gastro Pub\, 7M45+CQ Batroun\, Batroun\, Lebanon
CATEGORIES:Performing Arts
ATTACH;FMTTYPE=image/png:https://gobatroun.com/wp-content/uploads/2023/07/Screenshot-1485.png
END:VEVENT
BEGIN:VEVENT
DTSTART;TZID=Asia/Beirut:20230901T220000
DTEND;TZID=Asia/Beirut:20230901T220000
DTSTAMP:20260423T055424
CREATED:20230830T054042Z
LAST-MODIFIED:20230830T054108Z
UID:10004757-1693605600-1693605600@gobatroun.com
SUMMARY:Tony Najem at Tramway Batroun
DESCRIPTION:This Friday\, September 1st\, Tony Najem at Tramway Batroun\nFor reservations call us on – 03 51 41 01\nOr WhatsApp us on – https://wa.link/4z3wsz\n🕘starting 10 Pm
URL:https://gobatroun.com/event/tony-najem-at-tramway-batroun-3/
LOCATION:Tramway Gastro Pub\, 7M45+CQ Batroun\, Batroun\, Lebanon
CATEGORIES:Performing Arts
ATTACH;FMTTYPE=image/png:https://gobatroun.com/wp-content/uploads/2023/08/Screenshot-2011.png
END:VEVENT
BEGIN:VEVENT
DTSTART;TZID=Asia/Beirut:20230825T220000
DTEND;TZID=Asia/Beirut:20230825T220000
DTSTAMP:20260423T055424
CREATED:20230823T112752Z
LAST-MODIFIED:20230823T112752Z
UID:10004683-1693000800-1693000800@gobatroun.com
SUMMARY:Joud Dallal at Tramway Batroun
DESCRIPTION:This Friday  august 25\, Joud Dallal “ at Tramway Batroun\nFor reservations call us on – 03 51 41 01\nOr WhatsApp us on – https://wa.link/4z3wsz\n🕘starting 10 Pm
URL:https://gobatroun.com/event/joud-dallal-at-tramway-batroun-23/
LOCATION:Tramway Gastro Pub\, 7M45+CQ Batroun\, Batroun\, Lebanon
CATEGORIES:Performing Arts
ATTACH;FMTTYPE=image/png:https://gobatroun.com/wp-content/uploads/2023/07/Screenshot-1485.png
END:VEVENT
BEGIN:VEVENT
DTSTART;TZID=Asia/Beirut:20230819T220000
DTEND;TZID=Asia/Beirut:20230819T220000
DTSTAMP:20260423T055424
CREATED:20230816T081010Z
LAST-MODIFIED:20230816T081010Z
UID:10004630-1692482400-1692482400@gobatroun.com
SUMMARY:Joud Dallal at Tramway Batroun
DESCRIPTION:This Sunday august 6\, Joud Dallal “ at Tramway Batroun\nFor reservations call us on – 03 51 41 01\nOr WhatsApp us on – https://wa.link/4z3wsz\n🕘starting 10 Pm
URL:https://gobatroun.com/event/joud-dallal-at-tramway-batroun-22/
LOCATION:Tramway Gastro Pub\, 7M45+CQ Batroun\, Batroun\, Lebanon
CATEGORIES:Performing Arts
ATTACH;FMTTYPE=image/png:https://gobatroun.com/wp-content/uploads/2023/07/Screenshot-1485.png
END:VEVENT
BEGIN:VEVENT
DTSTART;TZID=Asia/Beirut:20230818T220000
DTEND;TZID=Asia/Beirut:20230818T220000
DTSTAMP:20260423T055424
CREATED:20230823T112928Z
LAST-MODIFIED:20230823T112928Z
UID:10004684-1692396000-1692396000@gobatroun.com
SUMMARY:Tony Najem at Tramway Batroun
DESCRIPTION:This Saturday 26\, Tony Najem “ at Tramway Batroun\nFor reservations call us on – 03 51 41 01\nOr WhatsApp us on – https://wa.link/4z3wsz\n🕘starting 10 Pm
URL:https://gobatroun.com/event/tony-najem-at-tramway-batroun-2/
LOCATION:Tramway Gastro Pub\, 7M45+CQ Batroun\, Batroun\, Lebanon
CATEGORIES:Performing Arts
ATTACH;FMTTYPE=image/png:https://gobatroun.com/wp-content/uploads/2023/08/Screenshot-1975.png
END:VEVENT
END:VCALENDAR