BEGIN:VCALENDAR
VERSION:2.0
PRODID:-//Go Batroun - ECPv6.14.2//NONSGML v1.0//EN
CALSCALE:GREGORIAN
METHOD:PUBLISH
X-ORIGINAL-URL:https://gobatroun.com
X-WR-CALDESC:Events for Go Batroun
REFRESH-INTERVAL;VALUE=DURATION:PT1H
X-Robots-Tag:noindex
X-PUBLISHED-TTL:PT1H
BEGIN:VTIMEZONE
TZID:Asia/Beirut
BEGIN:DAYLIGHT
TZOFFSETFROM:+0200
TZOFFSETTO:+0300
TZNAME:EEST
DTSTART:20240330T220000
END:DAYLIGHT
BEGIN:STANDARD
TZOFFSETFROM:+0300
TZOFFSETTO:+0200
TZNAME:EET
DTSTART:20241026T210000
END:STANDARD
END:VTIMEZONE
BEGIN:VEVENT
DTSTART;TZID=Asia/Beirut:20240417T103000
DTEND;TZID=Asia/Beirut:20240417T150000
DTSTAMP:20260420T035243
CREATED:20240412T085930Z
LAST-MODIFIED:20240412T085948Z
UID:10006068-1713349800-1713366000@gobatroun.com
SUMMARY:Hiring for Byblos & Batroun Hotels DEOS Start-Up Group
DESCRIPTION:Hiring for Byblos & Batroun Hotels DEOS Start-Up Group \nOpen Positions: \nHostesses-Receptionists-Bell Captains-Bell Boys-Drivers-Shift Leaders-Housekeeping Agents-Housekeeping Supervisors-Maintenance Technician \n***Experience is a must \n***Living in the area \nJoin us for an Open Recruitment Day! \nLocation: The Roman Theatre Batroun in Marah el Sheikh \nWednesday 17 April 2024\, From 10:30 AM – 3:00 PM \nانضم إلينا في يوم التوظيف المفتوح! \nالموقع: المدرج الروماني البترون في مراح الشيخ \nالأربعاء 17 نيسان 2024، من الساعة 10:30 صباحًا حتى 3:00 مساءً
URL:https://gobatroun.com/event/hiring-for-byblos-batroun-hotels-deos-start-up-group/
LOCATION:The Roman Theatre Batroun in Marah el Sheikh المدرج الروماني البترون في مراح الشيخ\, 7M46+CMG\, Batroun\, Lebanon
CATEGORIES:Community
ATTACH;FMTTYPE=image/webp:https://gobatroun.com/wp-content/uploads/2024/04/Deos-hiring.webp
END:VEVENT
END:VCALENDAR