BEGIN:VCALENDAR
VERSION:2.0
PRODID:-//Go Batroun - ECPv6.14.2//NONSGML v1.0//EN
CALSCALE:GREGORIAN
METHOD:PUBLISH
X-WR-CALNAME:Go Batroun
X-ORIGINAL-URL:https://gobatroun.com
X-WR-CALDESC:Events for Go Batroun
REFRESH-INTERVAL;VALUE=DURATION:PT1H
X-Robots-Tag:noindex
X-PUBLISHED-TTL:PT1H
BEGIN:VTIMEZONE
TZID:Asia/Beirut
BEGIN:DAYLIGHT
TZOFFSETFROM:+0200
TZOFFSETTO:+0300
TZNAME:EEST
DTSTART:20240330T220000
END:DAYLIGHT
BEGIN:STANDARD
TZOFFSETFROM:+0300
TZOFFSETTO:+0200
TZNAME:EET
DTSTART:20241026T210000
END:STANDARD
BEGIN:DAYLIGHT
TZOFFSETFROM:+0200
TZOFFSETTO:+0300
TZNAME:EEST
DTSTART:20250329T220000
END:DAYLIGHT
BEGIN:STANDARD
TZOFFSETFROM:+0300
TZOFFSETTO:+0200
TZNAME:EET
DTSTART:20251025T210000
END:STANDARD
END:VTIMEZONE
BEGIN:VEVENT
DTSTART;TZID=Asia/Beirut:20250118T163000
DTEND;TZID=Asia/Beirut:20250118T183000
DTSTAMP:20260425T173227
CREATED:20241125T085118Z
LAST-MODIFIED:20250117T083555Z
UID:10006800-1737217800-1737225000@gobatroun.com
SUMMARY:Candle making with the Corner Hub
DESCRIPTION:Candle making with the Corner Hub \nCome learn how to make your own candles in Batroun \nReserve your spot on +961 81 868 947
URL:https://gobatroun.com/event/dar-al-mona-november-december-2024-calendar/
LOCATION:The Corner Hub\, 7M45+FH Batroun\, Batroun\, Lebanon
CATEGORIES:Performing Arts
ATTACH;FMTTYPE=image/jpeg:https://gobatroun.com/wp-content/uploads/2024/11/January-18-Event.jpg
END:VEVENT
BEGIN:VEVENT
DTSTART;TZID=Asia/Beirut:20250111T163000
DTEND;TZID=Asia/Beirut:20250111T183000
DTSTAMP:20260425T173227
CREATED:20250108T063216Z
LAST-MODIFIED:20250108T063216Z
UID:10006786-1736613000-1736620200@gobatroun.com
SUMMARY:The Corner Hub Pottery Class
DESCRIPTION:The Corner Hub Pottery Class \nProfessional Instruction \nHand-Building Methods \nCreative Techniques \nSign up Limited spots
URL:https://gobatroun.com/event/the-corner-hub-pottery-class/2025-01-11/
LOCATION:The Corner Hub\, 7M45+FH Batroun\, Batroun\, Lebanon
CATEGORIES:Performing Arts
ATTACH;FMTTYPE=image/jpeg:https://gobatroun.com/wp-content/uploads/2025/01/January-11-and-25-Events.jpg
END:VEVENT
BEGIN:VEVENT
DTSTART;TZID=Asia/Beirut:20250110T163000
DTEND;TZID=Asia/Beirut:20250110T183000
DTSTAMP:20260425T173227
CREATED:20250108T064426Z
LAST-MODIFIED:20250108T064426Z
UID:10006790-1736526600-1736533800@gobatroun.com
SUMMARY:The Corner Hub Drink & Draw Class
DESCRIPTION:The Corner Hub Drink & Draw Class \nSign up Limited spots
URL:https://gobatroun.com/event/the-corner-hub-drink-draw-class/
LOCATION:The Corner Hub\, 7M45+FH Batroun\, Batroun\, Lebanon
CATEGORIES:Performing Arts
ATTACH;FMTTYPE=image/jpeg:https://gobatroun.com/wp-content/uploads/2025/01/January-11-and-25-Events.jpg
END:VEVENT
BEGIN:VEVENT
DTSTART;TZID=Asia/Beirut:20241208T150000
DTEND;TZID=Asia/Beirut:20241208T150000
DTSTAMP:20260425T173227
CREATED:20241203T065313Z
LAST-MODIFIED:20241203T065313Z
UID:10006686-1733670000-1733670000@gobatroun.com
SUMMARY:A Winter Celebration at The Corner Hub
DESCRIPTION:A Winter Celebration at The Corner Hub \nCome meet your favorite creators\, have a drink celebrating our new space and explore the winter collections live in store\nThe Corner Hub\, Old souk Batroun\n8 December at 3pm \n 
URL:https://gobatroun.com/event/a-winter-celebration-at-the-corner-hub/
LOCATION:The Corner Hub\, 7M45+FH Batroun\, Batroun\, Lebanon
CATEGORIES:Performing Arts
ATTACH;FMTTYPE=image/jpeg:https://gobatroun.com/wp-content/uploads/2024/12/December-8-Event.jpg
END:VEVENT
BEGIN:VEVENT
DTSTART;TZID=Asia/Beirut:20241122T190000
DTEND;TZID=Asia/Beirut:20241122T190000
DTSTAMP:20260425T173227
CREATED:20241121T122710Z
LAST-MODIFIED:20241121T123445Z
UID:10006670-1732302000-1732302000@gobatroun.com
SUMMARY:Drink & Draw at The Hub Club
DESCRIPTION:Drink & Draw at The Hub Club \nWe’re happy to start welcoming you on Fridays for The Hub Club\, where we use our corner to unwind\, drink and create something cool. No complications. No overthinking. Let’s drink and draw this week \nThe Corner Hub\, Batroun \n7 pm \n20$ \nReserve your spot +961 81 868 947
URL:https://gobatroun.com/event/drink-draw-at-the-hub-club/
LOCATION:The Corner Hub\, 7M45+FH Batroun\, Batroun\, Lebanon
CATEGORIES:Performing Arts
ATTACH;FMTTYPE=image/jpeg:https://gobatroun.com/wp-content/uploads/2024/11/22-November-Event.jpg
END:VEVENT
END:VCALENDAR