BEGIN:VCALENDAR
VERSION:2.0
PRODID:-//Go Batroun - ECPv6.14.2//NONSGML v1.0//EN
CALSCALE:GREGORIAN
METHOD:PUBLISH
X-WR-CALNAME:Go Batroun
X-ORIGINAL-URL:https://gobatroun.com
X-WR-CALDESC:Events for Go Batroun
REFRESH-INTERVAL;VALUE=DURATION:PT1H
X-Robots-Tag:noindex
X-PUBLISHED-TTL:PT1H
BEGIN:VTIMEZONE
TZID:Asia/Beirut
BEGIN:DAYLIGHT
TZOFFSETFROM:+0200
TZOFFSETTO:+0300
TZNAME:EEST
DTSTART:20230325T220000
END:DAYLIGHT
BEGIN:STANDARD
TZOFFSETFROM:+0300
TZOFFSETTO:+0200
TZNAME:EET
DTSTART:20231028T210000
END:STANDARD
END:VTIMEZONE
BEGIN:VEVENT
DTSTART;TZID=Asia/Beirut:20230416T213000
DTEND;TZID=Asia/Beirut:20230416T213000
DTSTAMP:20260421T164541
CREATED:20230405T102758Z
LAST-MODIFIED:20230405T102758Z
UID:10002172-1681680600-1681680600@gobatroun.com
SUMMARY:Chady Jamil and Maria Elissa at Sawary Resort
DESCRIPTION:Chady Jamil and Maria Elissa will be live at Sawary Resort on Sunday 16 April.
URL:https://gobatroun.com/event/chady-jamil-and-maria-elissa-at-sawary-resort/
LOCATION:Sawary Resort
CATEGORIES:Performing Arts
ATTACH;FMTTYPE=image/png:https://gobatroun.com/wp-content/uploads/2023/04/Screenshot-357.png
END:VEVENT
END:VCALENDAR