BEGIN:VCALENDAR
VERSION:2.0
PRODID:-//Go Batroun - ECPv6.14.2//NONSGML v1.0//EN
CALSCALE:GREGORIAN
METHOD:PUBLISH
X-ORIGINAL-URL:https://gobatroun.com
X-WR-CALDESC:Events for Go Batroun
REFRESH-INTERVAL;VALUE=DURATION:PT1H
X-Robots-Tag:noindex
X-PUBLISHED-TTL:PT1H
BEGIN:VTIMEZONE
TZID:Asia/Beirut
BEGIN:DAYLIGHT
TZOFFSETFROM:+0200
TZOFFSETTO:+0300
TZNAME:EEST
DTSTART:20230325T220000
END:DAYLIGHT
BEGIN:STANDARD
TZOFFSETFROM:+0300
TZOFFSETTO:+0200
TZNAME:EET
DTSTART:20231028T210000
END:STANDARD
BEGIN:DAYLIGHT
TZOFFSETFROM:+0200
TZOFFSETTO:+0300
TZNAME:EEST
DTSTART:20240330T220000
END:DAYLIGHT
BEGIN:STANDARD
TZOFFSETFROM:+0300
TZOFFSETTO:+0200
TZNAME:EET
DTSTART:20241026T210000
END:STANDARD
END:VTIMEZONE
BEGIN:VEVENT
DTSTART;TZID=Asia/Beirut:20240209T213000
DTEND;TZID=Asia/Beirut:20240209T213000
DTSTAMP:20260425T190202
CREATED:20240206T074930Z
LAST-MODIFIED:20240206T074930Z
UID:10005841-1707514200-1707514200@gobatroun.com
SUMMARY:Ghinwa and Dj Gio at Omnia
DESCRIPTION:Groove to the beats of Ghinwa and DJ Gio with an à la carte menu.
URL:https://gobatroun.com/event/ghinwa-and-dj-gio-at-omnia/
LOCATION:Omnia bistro bar\, 7M45+GQ Batroun\, Batroun\, Lebanon
CATEGORIES:Performing Arts
ATTACH;FMTTYPE=image/webp:https://gobatroun.com/wp-content/uploads/2024/02/Screenshot-3087-1.webp
GEO:34.256282323463;35.65947578638
X-APPLE-STRUCTURED-LOCATION;VALUE=URI;X-ADDRESS=Omnia bistro bar 7M45+GQ Batroun Batroun Lebanon;X-APPLE-RADIUS=500;X-TITLE=7M45+GQ Batroun:geo:35.65947578638,34.256282323463
END:VEVENT
BEGIN:VEVENT
DTSTART;TZID=Asia/Beirut:20240203T210000
DTEND;TZID=Asia/Beirut:20240203T210000
DTSTAMP:20260425T190202
CREATED:20240130T133741Z
LAST-MODIFIED:20240130T133741Z
UID:10005801-1706994000-1706994000@gobatroun.com
SUMMARY:DJ Naso and Ghinwa at Omnia
DESCRIPTION:Exciting Saturday vibes with DJ Naso and Ghinwa! ✨ \nJoin us for a stellar experience! \nFor more info & reservations\, contact 81 166 642
URL:https://gobatroun.com/event/dj-naso-and-ghinwa-at-omnia-2/
LOCATION:Omnia bistro bar\, 7M45+GQ Batroun\, Batroun\, Lebanon
CATEGORIES:Performing Arts
ATTACH;FMTTYPE=image/png:https://gobatroun.com/wp-content/uploads/2024/01/Screenshot-3050.png
GEO:34.256282323463;35.65947578638
X-APPLE-STRUCTURED-LOCATION;VALUE=URI;X-ADDRESS=Omnia bistro bar 7M45+GQ Batroun Batroun Lebanon;X-APPLE-RADIUS=500;X-TITLE=7M45+GQ Batroun:geo:35.65947578638,34.256282323463
END:VEVENT
BEGIN:VEVENT
DTSTART;TZID=Asia/Beirut:20240127T213000
DTEND;TZID=Asia/Beirut:20240127T213000
DTSTAMP:20260425T190202
CREATED:20240125T063505Z
LAST-MODIFIED:20240125T063505Z
UID:10005774-1706391000-1706391000@gobatroun.com
SUMMARY:DJ Gio\, Santa Georgia and Ghinwa at Omnia
DESCRIPTION:Exciting Saturday vibes with DJ Gio\, Santa Georgia and Ghinwa ! ✨ \nJoin us for a stellar experience! \nFor more info & reservations\, contact 81 166 642
URL:https://gobatroun.com/event/dj-gio-santa-georgia-and-ghinwa-at-omnia/
LOCATION:Omnia bistro bar\, 7M45+GQ Batroun\, Batroun\, Lebanon
CATEGORIES:Performing Arts
ATTACH;FMTTYPE=image/png:https://gobatroun.com/wp-content/uploads/2024/01/Screenshot-3017.png
GEO:34.256282323463;35.65947578638
X-APPLE-STRUCTURED-LOCATION;VALUE=URI;X-ADDRESS=Omnia bistro bar 7M45+GQ Batroun Batroun Lebanon;X-APPLE-RADIUS=500;X-TITLE=7M45+GQ Batroun:geo:35.65947578638,34.256282323463
END:VEVENT
BEGIN:VEVENT
DTSTART;TZID=Asia/Beirut:20240126T213000
DTEND;TZID=Asia/Beirut:20240126T213000
DTSTAMP:20260425T190202
CREATED:20240125T063338Z
LAST-MODIFIED:20240125T063338Z
UID:10005773-1706304600-1706304600@gobatroun.com
SUMMARY:DJ Joe Hannoun and Ghinwa at Omnia
DESCRIPTION:Exciting Friday vibes with DJ Joe Hannoun and Ghinwa ! ✨ \nJoin us for a stellar experience! \nFor more info & reservations\, contact 81 166 642
URL:https://gobatroun.com/event/dj-joe-hannoun-and-ghinwa-at-omnia/
LOCATION:Omnia bistro bar\, 7M45+GQ Batroun\, Batroun\, Lebanon
CATEGORIES:Performing Arts
ATTACH;FMTTYPE=image/png:https://gobatroun.com/wp-content/uploads/2024/01/Screenshot-3016.png
GEO:34.256282323463;35.65947578638
X-APPLE-STRUCTURED-LOCATION;VALUE=URI;X-ADDRESS=Omnia bistro bar 7M45+GQ Batroun Batroun Lebanon;X-APPLE-RADIUS=500;X-TITLE=7M45+GQ Batroun:geo:35.65947578638,34.256282323463
END:VEVENT
BEGIN:VEVENT
DTSTART;TZID=Asia/Beirut:20240120T210000
DTEND;TZID=Asia/Beirut:20240120T210000
DTSTAMP:20260425T190202
CREATED:20240118T104716Z
LAST-MODIFIED:20240118T104716Z
UID:10005747-1705784400-1705784400@gobatroun.com
SUMMARY:Dj Gio at Omnia
DESCRIPTION:
URL:https://gobatroun.com/event/dj-gio-at-omnia/
LOCATION:Omnia bistro bar\, 7M45+GQ Batroun\, Batroun\, Lebanon
CATEGORIES:Performing Arts
ATTACH;FMTTYPE=image/jpeg:https://gobatroun.com/wp-content/uploads/2024/01/WhatsApp-Image-2024-01-18-at-12.41.49_9b48b35c.jpg
GEO:34.256282323463;35.65947578638
X-APPLE-STRUCTURED-LOCATION;VALUE=URI;X-ADDRESS=Omnia bistro bar 7M45+GQ Batroun Batroun Lebanon;X-APPLE-RADIUS=500;X-TITLE=7M45+GQ Batroun:geo:35.65947578638,34.256282323463
END:VEVENT
BEGIN:VEVENT
DTSTART;TZID=Asia/Beirut:20240119T220000
DTEND;TZID=Asia/Beirut:20240119T220000
DTSTAMP:20260425T190202
CREATED:20240117T075619Z
LAST-MODIFIED:20240117T075619Z
UID:10005736-1705701600-1705701600@gobatroun.com
SUMMARY:Dj Naso and Ghinwa at Omnia
DESCRIPTION:
URL:https://gobatroun.com/event/dj-naso-and-ghinwa-at-omnia/
LOCATION:Omnia bistro bar\, 7M45+GQ Batroun\, Batroun\, Lebanon
CATEGORIES:Performing Arts
ATTACH;FMTTYPE=image/png:https://gobatroun.com/wp-content/uploads/2024/01/Screenshot-2972.png
GEO:34.256282323463;35.65947578638
X-APPLE-STRUCTURED-LOCATION;VALUE=URI;X-ADDRESS=Omnia bistro bar 7M45+GQ Batroun Batroun Lebanon;X-APPLE-RADIUS=500;X-TITLE=7M45+GQ Batroun:geo:35.65947578638,34.256282323463
END:VEVENT
BEGIN:VEVENT
DTSTART;TZID=Asia/Beirut:20240106T213000
DTEND;TZID=Asia/Beirut:20240106T213000
DTSTAMP:20260425T190202
CREATED:20240105T121755Z
LAST-MODIFIED:20240105T121755Z
UID:10005675-1704576600-1704576600@gobatroun.com
SUMMARY:Dj Gio\, Roy Hanna\, and Ghinwa at Omnia
DESCRIPTION:
URL:https://gobatroun.com/event/dj-gio-roy-hanna-and-ghinwa-at-omnia-2/
LOCATION:Omnia bistro bar\, 7M45+GQ Batroun\, Batroun\, Lebanon
CATEGORIES:Performing Arts
ATTACH;FMTTYPE=image/png:https://gobatroun.com/wp-content/uploads/2024/01/Screenshot-2919.png
GEO:34.256282323463;35.65947578638
X-APPLE-STRUCTURED-LOCATION;VALUE=URI;X-ADDRESS=Omnia bistro bar 7M45+GQ Batroun Batroun Lebanon;X-APPLE-RADIUS=500;X-TITLE=7M45+GQ Batroun:geo:35.65947578638,34.256282323463
END:VEVENT
BEGIN:VEVENT
DTSTART;TZID=Asia/Beirut:20240105T213000
DTEND;TZID=Asia/Beirut:20240105T213000
DTSTAMP:20260425T190202
CREATED:20240105T121722Z
LAST-MODIFIED:20240105T121722Z
UID:10005674-1704490200-1704490200@gobatroun.com
SUMMARY:Dj Gio\, Roy Hanna\, and Ghinwa at Omnia
DESCRIPTION:
URL:https://gobatroun.com/event/dj-gio-roy-hanna-and-ghinwa-at-omnia/
LOCATION:Omnia bistro bar\, 7M45+GQ Batroun\, Batroun\, Lebanon
CATEGORIES:Performing Arts
ATTACH;FMTTYPE=image/png:https://gobatroun.com/wp-content/uploads/2024/01/Screenshot-2919.png
GEO:34.256282323463;35.65947578638
X-APPLE-STRUCTURED-LOCATION;VALUE=URI;X-ADDRESS=Omnia bistro bar 7M45+GQ Batroun Batroun Lebanon;X-APPLE-RADIUS=500;X-TITLE=7M45+GQ Batroun:geo:35.65947578638,34.256282323463
END:VEVENT
BEGIN:VEVENT
DTSTART;TZID=Asia/Beirut:20231231T210000
DTEND;TZID=Asia/Beirut:20231231T210000
DTSTAMP:20260425T190202
CREATED:20231226T141905Z
LAST-MODIFIED:20231228T061649Z
UID:10005623-1704056400-1704056400@gobatroun.com
SUMMARY:New Year’s Eve at Omnia Batroun
DESCRIPTION:Cheers to a sensational New Year’s Eve at OMNIA Batroun where great food meets unforgettable entertainment!
URL:https://gobatroun.com/event/new-years-eve-at-omnia-batroun/
LOCATION:Omnia bistro bar\, 7M45+GQ Batroun\, Batroun\, Lebanon
CATEGORIES:Performing Arts
ATTACH;FMTTYPE=image/png:https://gobatroun.com/wp-content/uploads/2023/12/Screenshot-2844.png
GEO:34.256282323463;35.65947578638
X-APPLE-STRUCTURED-LOCATION;VALUE=URI;X-ADDRESS=Omnia bistro bar 7M45+GQ Batroun Batroun Lebanon;X-APPLE-RADIUS=500;X-TITLE=7M45+GQ Batroun:geo:35.65947578638,34.256282323463
END:VEVENT
BEGIN:VEVENT
DTSTART;TZID=Asia/Beirut:20231230T213000
DTEND;TZID=Asia/Beirut:20231230T213000
DTSTAMP:20260425T190202
CREATED:20231226T143552Z
LAST-MODIFIED:20231228T061801Z
UID:10005626-1703971800-1703971800@gobatroun.com
SUMMARY:Live Performance by Ghinwa at Omnia bistro bar
DESCRIPTION:As the clock ticks towards a new chapter\, Omnia Batroun invites you to a night of culinary delights and live entertainment. Join us in bidding farewell to the year gone by and embracing the promises of the year ahead.
URL:https://gobatroun.com/event/live-performance-by-ghinwa-at-omnia-bistro-bar/
LOCATION:Omnia bistro bar\, 7M45+GQ Batroun\, Batroun\, Lebanon
CATEGORIES:Performing Arts
ATTACH;FMTTYPE=image/png:https://gobatroun.com/wp-content/uploads/2023/12/Screenshot-2847.png
GEO:34.256282323463;35.65947578638
X-APPLE-STRUCTURED-LOCATION;VALUE=URI;X-ADDRESS=Omnia bistro bar 7M45+GQ Batroun Batroun Lebanon;X-APPLE-RADIUS=500;X-TITLE=7M45+GQ Batroun:geo:35.65947578638,34.256282323463
END:VEVENT
BEGIN:VEVENT
DTSTART;TZID=Asia/Beirut:20231229T213000
DTEND;TZID=Asia/Beirut:20231229T213000
DTSTAMP:20260425T190202
CREATED:20231226T143328Z
LAST-MODIFIED:20231228T061736Z
UID:10005625-1703885400-1703885400@gobatroun.com
SUMMARY:Live Guitarist Performer at Omnia bistro bar
DESCRIPTION:Experience the magic of this festive season at OMNIYA\, Batroun! From gourmet delights to live entertainment\, every moment is crafted to make your countdown extraordinary!
URL:https://gobatroun.com/event/live-guitarist-performer-at-omnia-bistro-bar/
LOCATION:Omnia bistro bar\, 7M45+GQ Batroun\, Batroun\, Lebanon
CATEGORIES:Performing Arts
ATTACH;FMTTYPE=image/png:https://gobatroun.com/wp-content/uploads/2023/12/Screenshot-2846.png
GEO:34.256282323463;35.65947578638
X-APPLE-STRUCTURED-LOCATION;VALUE=URI;X-ADDRESS=Omnia bistro bar 7M45+GQ Batroun Batroun Lebanon;X-APPLE-RADIUS=500;X-TITLE=7M45+GQ Batroun:geo:35.65947578638,34.256282323463
END:VEVENT
BEGIN:VEVENT
DTSTART;TZID=Asia/Beirut:20231228T210000
DTEND;TZID=Asia/Beirut:20231228T210000
DTSTAMP:20260425T190202
CREATED:20231226T142744Z
LAST-MODIFIED:20231228T061717Z
UID:10005624-1703797200-1703797200@gobatroun.com
SUMMARY:Live Saxophone Performance and Dj Gio at Omnia bistro bar
DESCRIPTION:Indulge in exquisite dining\, savor the festive atmosphere\, and dance your way into the New Year.
URL:https://gobatroun.com/event/live-saxophone-performance-and-dj-gio-at-omnia-bistro-bar/
LOCATION:Omnia bistro bar\, 7M45+GQ Batroun\, Batroun\, Lebanon
CATEGORIES:Performing Arts
ATTACH;FMTTYPE=image/png:https://gobatroun.com/wp-content/uploads/2023/12/Screenshot-2845.png
GEO:34.256282323463;35.65947578638
X-APPLE-STRUCTURED-LOCATION;VALUE=URI;X-ADDRESS=Omnia bistro bar 7M45+GQ Batroun Batroun Lebanon;X-APPLE-RADIUS=500;X-TITLE=7M45+GQ Batroun:geo:35.65947578638,34.256282323463
END:VEVENT
END:VCALENDAR