BEGIN:VCALENDAR
VERSION:2.0
PRODID:-//Go Batroun - ECPv6.14.2//NONSGML v1.0//EN
CALSCALE:GREGORIAN
METHOD:PUBLISH
X-WR-CALNAME:Go Batroun
X-ORIGINAL-URL:https://gobatroun.com
X-WR-CALDESC:Events for Go Batroun
REFRESH-INTERVAL;VALUE=DURATION:PT1H
X-Robots-Tag:noindex
X-PUBLISHED-TTL:PT1H
BEGIN:VTIMEZONE
TZID:Asia/Beirut
BEGIN:DAYLIGHT
TZOFFSETFROM:+0200
TZOFFSETTO:+0300
TZNAME:EEST
DTSTART:20230325T220000
END:DAYLIGHT
BEGIN:STANDARD
TZOFFSETFROM:+0300
TZOFFSETTO:+0200
TZNAME:EET
DTSTART:20231028T210000
END:STANDARD
END:VTIMEZONE
BEGIN:VEVENT
DTSTART;TZID=Asia/Beirut:20230916T220000
DTEND;TZID=Asia/Beirut:20230916T220000
DTSTAMP:20260423T103704
CREATED:20230911T112546Z
LAST-MODIFIED:20230911T112546Z
UID:10004852-1694901600-1694901600@gobatroun.com
SUMMARY:Borhan shaar at TAIGA BATROUN CLUB
DESCRIPTION:TaiGa Batroun Every Weekend!\nThis Saturday Night 🍸\n#Borhan on Stage #DjRalph\nNew Hit 3am Faker sah\n#TaiGa #Batroun #Lebanon\n#Reserve On 00961 3499408
URL:https://gobatroun.com/event/borhan-shaar-at-taiga-batroun-club-15/
LOCATION:La Taiga Resort Batroun\, 6MC3+CP Kfar Aabida\, Batroun\, Lebanon
CATEGORIES:Performing Arts
ATTACH;FMTTYPE=image/png:https://gobatroun.com/wp-content/uploads/2023/07/Screenshot-904.png
GEO:34.221113189181;35.654292376004
X-APPLE-STRUCTURED-LOCATION;VALUE=URI;X-ADDRESS=La Taiga Resort Batroun 6MC3+CP Kfar Aabida Batroun Lebanon;X-APPLE-RADIUS=500;X-TITLE=6MC3+CP Kfar Aabida:geo:35.654292376004,34.221113189181
END:VEVENT
BEGIN:VEVENT
DTSTART;TZID=Asia/Beirut:20230916T220000
DTEND;TZID=Asia/Beirut:20230916T220000
DTSTAMP:20260423T103704
CREATED:20230911T112426Z
LAST-MODIFIED:20230911T112426Z
UID:10004851-1694901600-1694901600@gobatroun.com
SUMMARY:Maher Jah at La TaiGa Beach Resort
DESCRIPTION:Your Summer Destination\nSaturday NighT \n#MaherJah\n#LaTaigaResort #Batroun #kafarabida\nStarting at 10:00 PM with #DjRalph\nMore info call +961 71 414 441
URL:https://gobatroun.com/event/maher-jah-at-la-taiga-beach-resort-12/
LOCATION:La Taiga Resort Batroun\, 6MC3+CP Kfar Aabida\, Batroun\, Lebanon
CATEGORIES:Performing Arts
ATTACH;FMTTYPE=image/png:https://gobatroun.com/wp-content/uploads/2023/08/Screenshot-1997.png
GEO:34.221113189181;35.654292376004
X-APPLE-STRUCTURED-LOCATION;VALUE=URI;X-ADDRESS=La Taiga Resort Batroun 6MC3+CP Kfar Aabida Batroun Lebanon;X-APPLE-RADIUS=500;X-TITLE=6MC3+CP Kfar Aabida:geo:35.654292376004,34.221113189181
END:VEVENT
BEGIN:VEVENT
DTSTART;TZID=Asia/Beirut:20230910T130000
DTEND;TZID=Asia/Beirut:20230910T130000
DTSTAMP:20260423T103704
CREATED:20230904T102830Z
LAST-MODIFIED:20230904T102830Z
UID:10004797-1694350800-1694350800@gobatroun.com
SUMMARY:Wadih el cheikh at La Taiga Resort Batroun 
DESCRIPTION:Your summer destination\nEvery Sunday By The PooL \n#wadihelcheikh \n#djralph starting At 1:00 PM\n#LaTaigaResort #Batroun #kafarbida\nMore info call +961 71 414 441
URL:https://gobatroun.com/event/wadih-el-cheikh-at-la-taiga-resort-batroun-14/
LOCATION:La Taiga Resort Batroun\, 6MC3+CP Kfar Aabida\, Batroun\, Lebanon
CATEGORIES:Performing Arts
ATTACH;FMTTYPE=image/png:https://gobatroun.com/wp-content/uploads/2023/07/Screenshot-964.png
GEO:34.221113189181;35.654292376004
X-APPLE-STRUCTURED-LOCATION;VALUE=URI;X-ADDRESS=La Taiga Resort Batroun 6MC3+CP Kfar Aabida Batroun Lebanon;X-APPLE-RADIUS=500;X-TITLE=6MC3+CP Kfar Aabida:geo:35.654292376004,34.221113189181
END:VEVENT
BEGIN:VEVENT
DTSTART;TZID=Asia/Beirut:20230909T220000
DTEND;TZID=Asia/Beirut:20230909T220000
DTSTAMP:20260423T103704
CREATED:20230906T055543Z
LAST-MODIFIED:20230906T055543Z
UID:10004821-1694296800-1694296800@gobatroun.com
SUMMARY:Borhan shaar at TAIGA BATROUN CLUB
DESCRIPTION:TaiGa Batroun Every Weekend!\nThis Saturday Night 🍸\n#Borhan on Stage #DjRalph\nNew Hit 3am Faker sah\n#TaiGa #Batroun #Lebanon\n#Reserve On 00961 3499408
URL:https://gobatroun.com/event/borhan-shaar-at-taiga-batroun-club-14/
LOCATION:La Taiga Resort Batroun\, 6MC3+CP Kfar Aabida\, Batroun\, Lebanon
CATEGORIES:Performing Arts
ATTACH;FMTTYPE=image/png:https://gobatroun.com/wp-content/uploads/2023/07/Screenshot-904.png
GEO:34.221113189181;35.654292376004
X-APPLE-STRUCTURED-LOCATION;VALUE=URI;X-ADDRESS=La Taiga Resort Batroun 6MC3+CP Kfar Aabida Batroun Lebanon;X-APPLE-RADIUS=500;X-TITLE=6MC3+CP Kfar Aabida:geo:35.654292376004,34.221113189181
END:VEVENT
BEGIN:VEVENT
DTSTART;TZID=Asia/Beirut:20230909T220000
DTEND;TZID=Asia/Beirut:20230909T220000
DTSTAMP:20260423T103704
CREATED:20230904T102809Z
LAST-MODIFIED:20230904T102809Z
UID:10004796-1694296800-1694296800@gobatroun.com
SUMMARY:Maher Jah at La TaiGa Beach Resort
DESCRIPTION:Your Summer Destination\nSaturday NighT \n#MaherJah\n#LaTaigaResort #Batroun #kafarabida\nStarting at 10:00 PM with #DjRalph\nMore info call +961 71 414 441
URL:https://gobatroun.com/event/maher-jah-at-la-taiga-beach-resort-11/
LOCATION:La Taiga Resort Batroun\, 6MC3+CP Kfar Aabida\, Batroun\, Lebanon
CATEGORIES:Performing Arts
ATTACH;FMTTYPE=image/png:https://gobatroun.com/wp-content/uploads/2023/08/Screenshot-1997.png
GEO:34.221113189181;35.654292376004
X-APPLE-STRUCTURED-LOCATION;VALUE=URI;X-ADDRESS=La Taiga Resort Batroun 6MC3+CP Kfar Aabida Batroun Lebanon;X-APPLE-RADIUS=500;X-TITLE=6MC3+CP Kfar Aabida:geo:35.654292376004,34.221113189181
END:VEVENT
BEGIN:VEVENT
DTSTART;TZID=Asia/Beirut:20230906T220000
DTEND;TZID=Asia/Beirut:20230906T220000
DTSTAMP:20260423T103704
CREATED:20230713T080438Z
LAST-MODIFIED:20230713T091008Z
UID:10004105-1694037600-1694037600@gobatroun.com
SUMMARY:Majd Moussally at La TaiGa Beach Resort
DESCRIPTION:Your Summer Destination\nEvery Wednesday Night \n#MajdMoussally #MM \n#LaTaigaResort #Batroun #kafarabida\nStarting at 10:00 PM with #DjRalph\nFor more info call +961 71 414 441
URL:https://gobatroun.com/event/majd-moussally-at-la-taiga-beach-resort-4/2023-09-06/
LOCATION:La Taiga Resort Batroun\, 6MC3+CP Kfar Aabida\, Batroun\, Lebanon
CATEGORIES:Performing Arts
ATTACH;FMTTYPE=image/png:https://gobatroun.com/wp-content/uploads/2023/07/Screenshot-1248.png
GEO:34.221113189181;35.654292376004
X-APPLE-STRUCTURED-LOCATION;VALUE=URI;X-ADDRESS=La Taiga Resort Batroun 6MC3+CP Kfar Aabida Batroun Lebanon;X-APPLE-RADIUS=500;X-TITLE=6MC3+CP Kfar Aabida:geo:35.654292376004,34.221113189181
END:VEVENT
BEGIN:VEVENT
DTSTART;TZID=Asia/Beirut:20230902T220000
DTEND;TZID=Asia/Beirut:20230902T220000
DTSTAMP:20260423T103704
CREATED:20230830T054433Z
LAST-MODIFIED:20230830T054433Z
UID:10004760-1693692000-1693692000@gobatroun.com
SUMMARY:Borhan shaar at TAIGA BATROUN CLUB
DESCRIPTION:TaiGa Batroun Every Weekend!\nThis Saturday Night 🍸\n#Borhan on Stage #DjRalph\nNew Hit 3am Faker sah\n#TaiGa #Batroun #Lebanon\n#Reserve On 00961 3499408
URL:https://gobatroun.com/event/borhan-shaar-at-taiga-batroun-club-13/
LOCATION:La Taiga Resort Batroun\, 6MC3+CP Kfar Aabida\, Batroun\, Lebanon
CATEGORIES:Performing Arts
ATTACH;FMTTYPE=image/png:https://gobatroun.com/wp-content/uploads/2023/07/Screenshot-904.png
GEO:34.221113189181;35.654292376004
X-APPLE-STRUCTURED-LOCATION;VALUE=URI;X-ADDRESS=La Taiga Resort Batroun 6MC3+CP Kfar Aabida Batroun Lebanon;X-APPLE-RADIUS=500;X-TITLE=6MC3+CP Kfar Aabida:geo:35.654292376004,34.221113189181
END:VEVENT
BEGIN:VEVENT
DTSTART;TZID=Asia/Beirut:20230902T220000
DTEND;TZID=Asia/Beirut:20230902T220000
DTSTAMP:20260423T103704
CREATED:20230828T085939Z
LAST-MODIFIED:20230828T085939Z
UID:10004744-1693692000-1693692000@gobatroun.com
SUMMARY:Maher Jah at La TaiGa Beach Resort
DESCRIPTION:Your Summer Destination\nSaturday NighT \n#MaherJah\n#LaTaigaResort #Batroun #kafarabida\nStarting at 10:00 PM with #DjRalph\nMore info call +961 71 414 441
URL:https://gobatroun.com/event/maher-jah-at-la-taiga-beach-resort-10/
LOCATION:La Taiga Resort Batroun\, 6MC3+CP Kfar Aabida\, Batroun\, Lebanon
CATEGORIES:Performing Arts
ATTACH;FMTTYPE=image/png:https://gobatroun.com/wp-content/uploads/2023/08/Screenshot-1997.png
GEO:34.221113189181;35.654292376004
X-APPLE-STRUCTURED-LOCATION;VALUE=URI;X-ADDRESS=La Taiga Resort Batroun 6MC3+CP Kfar Aabida Batroun Lebanon;X-APPLE-RADIUS=500;X-TITLE=6MC3+CP Kfar Aabida:geo:35.654292376004,34.221113189181
END:VEVENT
BEGIN:VEVENT
DTSTART;TZID=Asia/Beirut:20230901T220000
DTEND;TZID=Asia/Beirut:20230901T220000
DTSTAMP:20260423T103704
CREATED:20230828T085809Z
LAST-MODIFIED:20230828T085809Z
UID:10004743-1693605600-1693605600@gobatroun.com
SUMMARY:Borhan at La TaiGa Beach Resort
DESCRIPTION:Your Summer Destination\nThis Friday Night \n#BORHAN\n#LaTaigaResort #Batroun #kafarabida\nStarting at 10:00 PM with #DjRalph\nMore info call +961 71 414 441
URL:https://gobatroun.com/event/borhan-at-la-taiga-beach-resort-5/
LOCATION:La Taiga Resort Batroun\, 6MC3+CP Kfar Aabida\, Batroun\, Lebanon
CATEGORIES:Performing Arts
ATTACH;FMTTYPE=image/png:https://gobatroun.com/wp-content/uploads/2023/08/Screenshot-1996.png
GEO:34.221113189181;35.654292376004
X-APPLE-STRUCTURED-LOCATION;VALUE=URI;X-ADDRESS=La Taiga Resort Batroun 6MC3+CP Kfar Aabida Batroun Lebanon;X-APPLE-RADIUS=500;X-TITLE=6MC3+CP Kfar Aabida:geo:35.654292376004,34.221113189181
END:VEVENT
BEGIN:VEVENT
DTSTART;TZID=Asia/Beirut:20230830T220000
DTEND;TZID=Asia/Beirut:20230830T220000
DTSTAMP:20260423T103704
CREATED:20230713T080438Z
LAST-MODIFIED:20230713T091008Z
UID:10004104-1693432800-1693432800@gobatroun.com
SUMMARY:Majd Moussally at La TaiGa Beach Resort
DESCRIPTION:Your Summer Destination\nEvery Wednesday Night \n#MajdMoussally #MM \n#LaTaigaResort #Batroun #kafarabida\nStarting at 10:00 PM with #DjRalph\nFor more info call +961 71 414 441
URL:https://gobatroun.com/event/majd-moussally-at-la-taiga-beach-resort-4/2023-08-30/
LOCATION:La Taiga Resort Batroun\, 6MC3+CP Kfar Aabida\, Batroun\, Lebanon
CATEGORIES:Performing Arts
ATTACH;FMTTYPE=image/png:https://gobatroun.com/wp-content/uploads/2023/07/Screenshot-1248.png
GEO:34.221113189181;35.654292376004
X-APPLE-STRUCTURED-LOCATION;VALUE=URI;X-ADDRESS=La Taiga Resort Batroun 6MC3+CP Kfar Aabida Batroun Lebanon;X-APPLE-RADIUS=500;X-TITLE=6MC3+CP Kfar Aabida:geo:35.654292376004,34.221113189181
END:VEVENT
BEGIN:VEVENT
DTSTART;TZID=Asia/Beirut:20230827T130000
DTEND;TZID=Asia/Beirut:20230827T130000
DTSTAMP:20260423T103704
CREATED:20230828T085610Z
LAST-MODIFIED:20230828T085610Z
UID:10004742-1693141200-1693141200@gobatroun.com
SUMMARY:Wadih el cheikh at La Taiga Resort Batroun 
DESCRIPTION:Your summer destination\nEvery Sunday By The PooL \n#wadihelcheikh \n#djralph starting At 1:00 PM\n#LaTaigaResort #Batroun #kafarbida\nMore info call +961 71 414 441
URL:https://gobatroun.com/event/wadih-el-cheikh-at-la-taiga-resort-batroun-13/
LOCATION:La Taiga Resort Batroun\, 6MC3+CP Kfar Aabida\, Batroun\, Lebanon
CATEGORIES:Performing Arts
ATTACH;FMTTYPE=image/png:https://gobatroun.com/wp-content/uploads/2023/07/Screenshot-964.png
GEO:34.221113189181;35.654292376004
X-APPLE-STRUCTURED-LOCATION;VALUE=URI;X-ADDRESS=La Taiga Resort Batroun 6MC3+CP Kfar Aabida Batroun Lebanon;X-APPLE-RADIUS=500;X-TITLE=6MC3+CP Kfar Aabida:geo:35.654292376004,34.221113189181
END:VEVENT
BEGIN:VEVENT
DTSTART;TZID=Asia/Beirut:20230827T130000
DTEND;TZID=Asia/Beirut:20230827T130000
DTSTAMP:20260423T103704
CREATED:20230821T115436Z
LAST-MODIFIED:20230821T115436Z
UID:10004665-1693141200-1693141200@gobatroun.com
SUMMARY:Wadih el cheikh at La Taiga Resort Batroun 
DESCRIPTION:Your summer destination\nThis Sunday \n#wadihelcheikh \n#djralph starting At 1:00 PM\n#LaTaigaResort #Batroun #kafarbida\nFor more info call +961 71 414 441
URL:https://gobatroun.com/event/wadih-el-cheikh-at-la-taiga-resort-batroun-12/
LOCATION:La Taiga Resort Batroun\, 6MC3+CP Kfar Aabida\, Batroun\, Lebanon
CATEGORIES:Performing Arts
ATTACH;FMTTYPE=image/png:https://gobatroun.com/wp-content/uploads/2023/07/Screenshot-964.png
GEO:34.221113189181;35.654292376004
X-APPLE-STRUCTURED-LOCATION;VALUE=URI;X-ADDRESS=La Taiga Resort Batroun 6MC3+CP Kfar Aabida Batroun Lebanon;X-APPLE-RADIUS=500;X-TITLE=6MC3+CP Kfar Aabida:geo:35.654292376004,34.221113189181
END:VEVENT
BEGIN:VEVENT
DTSTART;TZID=Asia/Beirut:20230826T220000
DTEND;TZID=Asia/Beirut:20230826T220000
DTSTAMP:20260423T103704
CREATED:20230823T112448Z
LAST-MODIFIED:20230823T112448Z
UID:10004681-1693087200-1693087200@gobatroun.com
SUMMARY:Borhan shaar at TAIGA BATROUN CLUB
DESCRIPTION:TaiGa Batroun Every Weekend!\nThis Saturday Night 🍸\n#Borhan on Stage #DjRalph\nNew Hit 3am Faker sah\n#TaiGa #Batroun #Lebanon\n#Reserve On 00961 3499408
URL:https://gobatroun.com/event/borhan-shaar-at-taiga-batroun-club-12/
LOCATION:La Taiga Resort Batroun\, 6MC3+CP Kfar Aabida\, Batroun\, Lebanon
CATEGORIES:Performing Arts
ATTACH;FMTTYPE=image/png:https://gobatroun.com/wp-content/uploads/2023/07/Screenshot-904.png
GEO:34.221113189181;35.654292376004
X-APPLE-STRUCTURED-LOCATION;VALUE=URI;X-ADDRESS=La Taiga Resort Batroun 6MC3+CP Kfar Aabida Batroun Lebanon;X-APPLE-RADIUS=500;X-TITLE=6MC3+CP Kfar Aabida:geo:35.654292376004,34.221113189181
END:VEVENT
BEGIN:VEVENT
DTSTART;TZID=Asia/Beirut:20230826T220000
DTEND;TZID=Asia/Beirut:20230826T220000
DTSTAMP:20260423T103704
CREATED:20230821T115116Z
LAST-MODIFIED:20230821T115117Z
UID:10004507-1693087200-1693087200@gobatroun.com
SUMMARY:Maher Jah and Hussein Al Deek at La TaiGa Beach Resort
DESCRIPTION:Your Summer Destination\nSaturday August 26 \n#MaherJah #Husseinaldeek \n#LaTaigaResort #Batroun #kafarabida\nStarting at 10:00 PM with #DjRalph\nMore info call +961 71 414 441
URL:https://gobatroun.com/event/maher-jah-at-la-taiga-beach-resort-8-2/
LOCATION:La Taiga Resort Batroun\, 6MC3+CP Kfar Aabida\, Batroun\, Lebanon
CATEGORIES:Performing Arts
ATTACH;FMTTYPE=image/png:https://gobatroun.com/wp-content/uploads/2023/08/Screenshot-1903.png
GEO:34.221113189181;35.654292376004
X-APPLE-STRUCTURED-LOCATION;VALUE=URI;X-ADDRESS=La Taiga Resort Batroun 6MC3+CP Kfar Aabida Batroun Lebanon;X-APPLE-RADIUS=500;X-TITLE=6MC3+CP Kfar Aabida:geo:35.654292376004,34.221113189181
END:VEVENT
BEGIN:VEVENT
DTSTART;TZID=Asia/Beirut:20230825T220000
DTEND;TZID=Asia/Beirut:20230825T220000
DTSTAMP:20260423T103704
CREATED:20230821T115346Z
LAST-MODIFIED:20230821T115346Z
UID:10004664-1693000800-1693000800@gobatroun.com
SUMMARY:Mohanad Zaiteer at La TaiGa Beach Resort
DESCRIPTION:Your Summer Destination \nThis Friday August 25 \n#mohanadzaiteer\n#LaTaigaResort #Batroun #kafarabida\nStarting at 10:00 PM with #DjRalph\nMore info call +961 71 414 441
URL:https://gobatroun.com/event/mohanad-zaiteer-at-la-taiga-beach-resort/
LOCATION:La Taiga Resort Batroun\, 6MC3+CP Kfar Aabida\, Batroun\, Lebanon
CATEGORIES:Performing Arts
ATTACH;FMTTYPE=image/png:https://gobatroun.com/wp-content/uploads/2023/08/Screenshot-1904.png
GEO:34.221113189181;35.654292376004
X-APPLE-STRUCTURED-LOCATION;VALUE=URI;X-ADDRESS=La Taiga Resort Batroun 6MC3+CP Kfar Aabida Batroun Lebanon;X-APPLE-RADIUS=500;X-TITLE=6MC3+CP Kfar Aabida:geo:35.654292376004,34.221113189181
END:VEVENT
BEGIN:VEVENT
DTSTART;TZID=Asia/Beirut:20230823T220000
DTEND;TZID=Asia/Beirut:20230823T220000
DTSTAMP:20260423T103704
CREATED:20230713T080438Z
LAST-MODIFIED:20230713T091008Z
UID:10004103-1692828000-1692828000@gobatroun.com
SUMMARY:Majd Moussally at La TaiGa Beach Resort
DESCRIPTION:Your Summer Destination\nEvery Wednesday Night \n#MajdMoussally #MM \n#LaTaigaResort #Batroun #kafarabida\nStarting at 10:00 PM with #DjRalph\nFor more info call +961 71 414 441
URL:https://gobatroun.com/event/majd-moussally-at-la-taiga-beach-resort-4/2023-08-23/
LOCATION:La Taiga Resort Batroun\, 6MC3+CP Kfar Aabida\, Batroun\, Lebanon
CATEGORIES:Performing Arts
ATTACH;FMTTYPE=image/png:https://gobatroun.com/wp-content/uploads/2023/07/Screenshot-1248.png
GEO:34.221113189181;35.654292376004
X-APPLE-STRUCTURED-LOCATION;VALUE=URI;X-ADDRESS=La Taiga Resort Batroun 6MC3+CP Kfar Aabida Batroun Lebanon;X-APPLE-RADIUS=500;X-TITLE=6MC3+CP Kfar Aabida:geo:35.654292376004,34.221113189181
END:VEVENT
BEGIN:VEVENT
DTSTART;TZID=Asia/Beirut:20230819T220000
DTEND;TZID=Asia/Beirut:20230819T220000
DTSTAMP:20260423T103704
CREATED:20230814T112703Z
LAST-MODIFIED:20230814T112703Z
UID:10004607-1692482400-1692482400@gobatroun.com
SUMMARY:Borhan shaar at TAIGA BATROUN CLUB
DESCRIPTION:TaiGa Batroun Every Weekend!\nThis Saturday Night 🍸\n#Borhan on Stage #DjRalph\nNew Hit 3am Faker sah\n#TaiGa #Batroun #Lebanon\n#Reserve On 00961 3499408
URL:https://gobatroun.com/event/borhan-shaar-at-taiga-batroun-club-11/
LOCATION:La Taiga Resort Batroun\, 6MC3+CP Kfar Aabida\, Batroun\, Lebanon
CATEGORIES:Performing Arts
ATTACH;FMTTYPE=image/png:https://gobatroun.com/wp-content/uploads/2023/07/Screenshot-904.png
GEO:34.221113189181;35.654292376004
X-APPLE-STRUCTURED-LOCATION;VALUE=URI;X-ADDRESS=La Taiga Resort Batroun 6MC3+CP Kfar Aabida Batroun Lebanon;X-APPLE-RADIUS=500;X-TITLE=6MC3+CP Kfar Aabida:geo:35.654292376004,34.221113189181
END:VEVENT
BEGIN:VEVENT
DTSTART;TZID=Asia/Beirut:20230819T210000
DTEND;TZID=Asia/Beirut:20230819T210000
DTSTAMP:20260423T103704
CREATED:20230807T111759Z
LAST-MODIFIED:20230807T111759Z
UID:10004503-1692478800-1692478800@gobatroun.com
SUMMARY:Hussein Al Deek at La TaiGa Beach Resort
DESCRIPTION:Your Summer Destination\nSaturday August 19 \n@husseinaldeekofficial\n#LaTaigaResort #Batroun #kafarabida\nStarting at 10:00 PM with #DjRalph\nMore info call +961 71 414 441
URL:https://gobatroun.com/event/hussein-al-deek-at-la-taiga-beach-resort/
LOCATION:La Taiga Resort Batroun\, 6MC3+CP Kfar Aabida\, Batroun\, Lebanon
CATEGORIES:Performing Arts
ATTACH;FMTTYPE=image/png:https://gobatroun.com/wp-content/uploads/2023/08/Screenshot-1668.png
GEO:34.221113189181;35.654292376004
X-APPLE-STRUCTURED-LOCATION;VALUE=URI;X-ADDRESS=La Taiga Resort Batroun 6MC3+CP Kfar Aabida Batroun Lebanon;X-APPLE-RADIUS=500;X-TITLE=6MC3+CP Kfar Aabida:geo:35.654292376004,34.221113189181
END:VEVENT
BEGIN:VEVENT
DTSTART;TZID=Asia/Beirut:20230818T220000
DTEND;TZID=Asia/Beirut:20230818T220000
DTSTAMP:20260423T103704
CREATED:20230814T113240Z
LAST-MODIFIED:20230814T113240Z
UID:10004608-1692396000-1692396000@gobatroun.com
SUMMARY:Rabih Gemayel at La TaiGa Beach Resort
DESCRIPTION:
URL:https://gobatroun.com/event/rabih-gemayel-at-la-taiga-beach-resort-2/
LOCATION:La Taiga Resort Batroun\, 6MC3+CP Kfar Aabida\, Batroun\, Lebanon
CATEGORIES:Performing Arts
ATTACH;FMTTYPE=image/png:https://gobatroun.com/wp-content/uploads/2023/08/Screenshot-1837.png
GEO:34.221113189181;35.654292376004
X-APPLE-STRUCTURED-LOCATION;VALUE=URI;X-ADDRESS=La Taiga Resort Batroun 6MC3+CP Kfar Aabida Batroun Lebanon;X-APPLE-RADIUS=500;X-TITLE=6MC3+CP Kfar Aabida:geo:35.654292376004,34.221113189181
END:VEVENT
BEGIN:VEVENT
DTSTART;TZID=Asia/Beirut:20230816T220000
DTEND;TZID=Asia/Beirut:20230816T220000
DTSTAMP:20260423T103704
CREATED:20230713T080438Z
LAST-MODIFIED:20230713T091008Z
UID:10004102-1692223200-1692223200@gobatroun.com
SUMMARY:Majd Moussally at La TaiGa Beach Resort
DESCRIPTION:Your Summer Destination\nEvery Wednesday Night \n#MajdMoussally #MM \n#LaTaigaResort #Batroun #kafarabida\nStarting at 10:00 PM with #DjRalph\nFor more info call +961 71 414 441
URL:https://gobatroun.com/event/majd-moussally-at-la-taiga-beach-resort-4/2023-08-16/
LOCATION:La Taiga Resort Batroun\, 6MC3+CP Kfar Aabida\, Batroun\, Lebanon
CATEGORIES:Performing Arts
ATTACH;FMTTYPE=image/png:https://gobatroun.com/wp-content/uploads/2023/07/Screenshot-1248.png
GEO:34.221113189181;35.654292376004
X-APPLE-STRUCTURED-LOCATION;VALUE=URI;X-ADDRESS=La Taiga Resort Batroun 6MC3+CP Kfar Aabida Batroun Lebanon;X-APPLE-RADIUS=500;X-TITLE=6MC3+CP Kfar Aabida:geo:35.654292376004,34.221113189181
END:VEVENT
BEGIN:VEVENT
DTSTART;TZID=Asia/Beirut:20230813T130000
DTEND;TZID=Asia/Beirut:20230813T130000
DTSTAMP:20260423T103704
CREATED:20230807T113322Z
LAST-MODIFIED:20230807T113322Z
UID:10004516-1691931600-1691931600@gobatroun.com
SUMMARY:Wadih el cheikh at La Taiga Resort Batroun 
DESCRIPTION:Your summer destination\nThis Sunday \n#wadihelcheikh \n#djralph starting At 1:00 PM\n#LaTaigaResort #Batroun #kafarbida\nFor more info call +961 71 414 441
URL:https://gobatroun.com/event/wadih-el-cheikh-at-la-taiga-resort-batroun-11/
LOCATION:La Taiga Resort Batroun\, 6MC3+CP Kfar Aabida\, Batroun\, Lebanon
CATEGORIES:Performing Arts
ATTACH;FMTTYPE=image/png:https://gobatroun.com/wp-content/uploads/2023/07/Screenshot-964.png
GEO:34.221113189181;35.654292376004
X-APPLE-STRUCTURED-LOCATION;VALUE=URI;X-ADDRESS=La Taiga Resort Batroun 6MC3+CP Kfar Aabida Batroun Lebanon;X-APPLE-RADIUS=500;X-TITLE=6MC3+CP Kfar Aabida:geo:35.654292376004,34.221113189181
END:VEVENT
BEGIN:VEVENT
DTSTART;TZID=Asia/Beirut:20230812T220000
DTEND;TZID=Asia/Beirut:20230812T220000
DTSTAMP:20260423T103704
CREATED:20230821T115115Z
LAST-MODIFIED:20230821T115115Z
UID:10004663-1691877600-1691877600@gobatroun.com
SUMMARY:Maher Jah at La TaiGa Beach Resort
DESCRIPTION:Your Summer Destination\nEvery Saturday Night \n#MaherJah\n#LaTaigaResort #Batroun #kafarabida\nStarting at 10:00 PM with #DjRalph\nMore info call +961 71 414 441
URL:https://gobatroun.com/event/maher-jah-at-la-taiga-beach-resort-9/
LOCATION:La Taiga Resort Batroun\, 6MC3+CP Kfar Aabida\, Batroun\, Lebanon
CATEGORIES:Performing Arts
ATTACH;FMTTYPE=image/png:https://gobatroun.com/wp-content/uploads/2023/07/Screenshot-1476.png
GEO:34.221113189181;35.654292376004
X-APPLE-STRUCTURED-LOCATION;VALUE=URI;X-ADDRESS=La Taiga Resort Batroun 6MC3+CP Kfar Aabida Batroun Lebanon;X-APPLE-RADIUS=500;X-TITLE=6MC3+CP Kfar Aabida:geo:35.654292376004,34.221113189181
END:VEVENT
BEGIN:VEVENT
DTSTART;TZID=Asia/Beirut:20230812T220000
DTEND;TZID=Asia/Beirut:20230812T220000
DTSTAMP:20260423T103704
CREATED:20230809T114630Z
LAST-MODIFIED:20230809T114630Z
UID:10004568-1691877600-1691877600@gobatroun.com
SUMMARY:Borhan shaar at TAIGA BATROUN CLUB
DESCRIPTION:TaiGa Batroun Every Weekend!\nThis Saturday Night 🍸\n#Borhan on Stage #DjRalph\nNew Hit 3am Faker sah\n#TaiGa #Batroun #Lebanon\n#Reserve On 00961 3499408
URL:https://gobatroun.com/event/borhan-shaar-at-taiga-batroun-club-10/
LOCATION:La Taiga Resort Batroun\, 6MC3+CP Kfar Aabida\, Batroun\, Lebanon
CATEGORIES:Performing Arts
ATTACH;FMTTYPE=image/png:https://gobatroun.com/wp-content/uploads/2023/07/Screenshot-904.png
GEO:34.221113189181;35.654292376004
X-APPLE-STRUCTURED-LOCATION;VALUE=URI;X-ADDRESS=La Taiga Resort Batroun 6MC3+CP Kfar Aabida Batroun Lebanon;X-APPLE-RADIUS=500;X-TITLE=6MC3+CP Kfar Aabida:geo:35.654292376004,34.221113189181
END:VEVENT
BEGIN:VEVENT
DTSTART;TZID=Asia/Beirut:20230811T210000
DTEND;TZID=Asia/Beirut:20230811T210000
DTSTAMP:20260423T103704
CREATED:20230807T113214Z
LAST-MODIFIED:20230807T113214Z
UID:10004515-1691787600-1691787600@gobatroun.com
SUMMARY:Mohannad Zaiter at La Taiga Beach Resort
DESCRIPTION:
URL:https://gobatroun.com/event/mohannad-zaiter-at-la-taiga-beach-resort-3/
LOCATION:La Taiga Resort Batroun\, 6MC3+CP Kfar Aabida\, Batroun\, Lebanon
CATEGORIES:Performing Arts
ATTACH;FMTTYPE=image/png:https://gobatroun.com/wp-content/uploads/2023/08/Screenshot-1669.png
GEO:34.221113189181;35.654292376004
X-APPLE-STRUCTURED-LOCATION;VALUE=URI;X-ADDRESS=La Taiga Resort Batroun 6MC3+CP Kfar Aabida Batroun Lebanon;X-APPLE-RADIUS=500;X-TITLE=6MC3+CP Kfar Aabida:geo:35.654292376004,34.221113189181
END:VEVENT
BEGIN:VEVENT
DTSTART;TZID=Asia/Beirut:20230809T220000
DTEND;TZID=Asia/Beirut:20230809T220000
DTSTAMP:20260423T103704
CREATED:20230713T080438Z
LAST-MODIFIED:20230713T091008Z
UID:10004101-1691618400-1691618400@gobatroun.com
SUMMARY:Majd Moussally at La TaiGa Beach Resort
DESCRIPTION:Your Summer Destination\nEvery Wednesday Night \n#MajdMoussally #MM \n#LaTaigaResort #Batroun #kafarabida\nStarting at 10:00 PM with #DjRalph\nFor more info call +961 71 414 441
URL:https://gobatroun.com/event/majd-moussally-at-la-taiga-beach-resort-4/2023-08-09/
LOCATION:La Taiga Resort Batroun\, 6MC3+CP Kfar Aabida\, Batroun\, Lebanon
CATEGORIES:Performing Arts
ATTACH;FMTTYPE=image/png:https://gobatroun.com/wp-content/uploads/2023/07/Screenshot-1248.png
GEO:34.221113189181;35.654292376004
X-APPLE-STRUCTURED-LOCATION;VALUE=URI;X-ADDRESS=La Taiga Resort Batroun 6MC3+CP Kfar Aabida Batroun Lebanon;X-APPLE-RADIUS=500;X-TITLE=6MC3+CP Kfar Aabida:geo:35.654292376004,34.221113189181
END:VEVENT
BEGIN:VEVENT
DTSTART;TZID=Asia/Beirut:20230806T130000
DTEND;TZID=Asia/Beirut:20230806T130000
DTSTAMP:20260423T103704
CREATED:20230731T111701Z
LAST-MODIFIED:20230731T111701Z
UID:10004440-1691326800-1691326800@gobatroun.com
SUMMARY:Wadih el cheikh at La Taiga Resort Batroun 
DESCRIPTION:Your summer destination\nThis Sunday \n#wadihelcheikh \n#djralph starting At 1:00 PM\n#LaTaigaResort #Batroun #kafarbida\nFor more info call +961 71 414 441
URL:https://gobatroun.com/event/wadih-el-cheikh-at-la-taiga-resort-batroun-10/
LOCATION:La Taiga Resort Batroun\, 6MC3+CP Kfar Aabida\, Batroun\, Lebanon
CATEGORIES:Performing Arts
ATTACH;FMTTYPE=image/png:https://gobatroun.com/wp-content/uploads/2023/07/Screenshot-964.png
GEO:34.221113189181;35.654292376004
X-APPLE-STRUCTURED-LOCATION;VALUE=URI;X-ADDRESS=La Taiga Resort Batroun 6MC3+CP Kfar Aabida Batroun Lebanon;X-APPLE-RADIUS=500;X-TITLE=6MC3+CP Kfar Aabida:geo:35.654292376004,34.221113189181
END:VEVENT
BEGIN:VEVENT
DTSTART;TZID=Asia/Beirut:20230805T220000
DTEND;TZID=Asia/Beirut:20230805T220000
DTSTAMP:20260423T103704
CREATED:20230731T111418Z
LAST-MODIFIED:20230731T111418Z
UID:10004439-1691272800-1691272800@gobatroun.com
SUMMARY:BORHAN at La TaiGa Beach Resort
DESCRIPTION:Your Summer Destination\nThis Saturday \n#BORHAN #BARBIE\n#LaTaigaResort #Batroun #kafarabida\nStarting at 10:00 PM with #DjRalph\nMore info call +961 71 414 441
URL:https://gobatroun.com/event/borhan-at-la-taiga-beach-resort-4/
LOCATION:La Taiga Resort Batroun\, 6MC3+CP Kfar Aabida\, Batroun\, Lebanon
CATEGORIES:Performing Arts
ATTACH;FMTTYPE=image/png:https://gobatroun.com/wp-content/uploads/2023/07/Screenshot-1531.png
GEO:34.221113189181;35.654292376004
X-APPLE-STRUCTURED-LOCATION;VALUE=URI;X-ADDRESS=La Taiga Resort Batroun 6MC3+CP Kfar Aabida Batroun Lebanon;X-APPLE-RADIUS=500;X-TITLE=6MC3+CP Kfar Aabida:geo:35.654292376004,34.221113189181
END:VEVENT
BEGIN:VEVENT
DTSTART;TZID=Asia/Beirut:20230802T220000
DTEND;TZID=Asia/Beirut:20230802T220000
DTSTAMP:20260423T103704
CREATED:20230713T080438Z
LAST-MODIFIED:20230713T091008Z
UID:10004100-1691013600-1691013600@gobatroun.com
SUMMARY:Majd Moussally at La TaiGa Beach Resort
DESCRIPTION:Your Summer Destination\nEvery Wednesday Night \n#MajdMoussally #MM \n#LaTaigaResort #Batroun #kafarabida\nStarting at 10:00 PM with #DjRalph\nFor more info call +961 71 414 441
URL:https://gobatroun.com/event/majd-moussally-at-la-taiga-beach-resort-4/2023-08-02/
LOCATION:La Taiga Resort Batroun\, 6MC3+CP Kfar Aabida\, Batroun\, Lebanon
CATEGORIES:Performing Arts
ATTACH;FMTTYPE=image/png:https://gobatroun.com/wp-content/uploads/2023/07/Screenshot-1248.png
GEO:34.221113189181;35.654292376004
X-APPLE-STRUCTURED-LOCATION;VALUE=URI;X-ADDRESS=La Taiga Resort Batroun 6MC3+CP Kfar Aabida Batroun Lebanon;X-APPLE-RADIUS=500;X-TITLE=6MC3+CP Kfar Aabida:geo:35.654292376004,34.221113189181
END:VEVENT
BEGIN:VEVENT
DTSTART;TZID=Asia/Beirut:20230730T130000
DTEND;TZID=Asia/Beirut:20230730T130000
DTSTAMP:20260423T103704
CREATED:20230725T083111Z
LAST-MODIFIED:20230725T083143Z
UID:10004378-1690722000-1690722000@gobatroun.com
SUMMARY:Wadih el cheikh at La Taiga Resort Batroun 
DESCRIPTION:Your summer destination\nThis Sunday \n#wadihelcheikh \n#djralph starting At 1:00 PM\n#LaTaigaResort #Batroun #kafarbida\nFor more info call +961 71 414 441
URL:https://gobatroun.com/event/wadih-el-cheikh-at-la-taiga-resort-batroun-9/
LOCATION:La Taiga Resort Batroun\, 6MC3+CP Kfar Aabida\, Batroun\, Lebanon
CATEGORIES:Performing Arts
ATTACH;FMTTYPE=image/png:https://gobatroun.com/wp-content/uploads/2023/07/Screenshot-964.png
GEO:34.221113189181;35.654292376004
X-APPLE-STRUCTURED-LOCATION;VALUE=URI;X-ADDRESS=La Taiga Resort Batroun 6MC3+CP Kfar Aabida Batroun Lebanon;X-APPLE-RADIUS=500;X-TITLE=6MC3+CP Kfar Aabida:geo:35.654292376004,34.221113189181
END:VEVENT
BEGIN:VEVENT
DTSTART;TZID=Asia/Beirut:20230729T220000
DTEND;TZID=Asia/Beirut:20230729T220000
DTSTAMP:20260423T103704
CREATED:20230725T083348Z
LAST-MODIFIED:20230725T083348Z
UID:10004380-1690668000-1690668000@gobatroun.com
SUMMARY:Borhan shaar at TAIGA BATROUN CLUB
DESCRIPTION:TaiGa Batroun Every Weekend!\nThis Saturday Night 🍸\n#Borhan on Stage #DjRalph\nNew Hit 3am Faker sah\n#TaiGa #Batroun #Lebanon\n#Reserve On 00961 3499408
URL:https://gobatroun.com/event/borhan-shaar-at-taiga-batroun-club-9/
LOCATION:La Taiga Resort Batroun\, 6MC3+CP Kfar Aabida\, Batroun\, Lebanon
CATEGORIES:Performing Arts
ATTACH;FMTTYPE=image/png:https://gobatroun.com/wp-content/uploads/2023/07/Screenshot-904.png
GEO:34.221113189181;35.654292376004
X-APPLE-STRUCTURED-LOCATION;VALUE=URI;X-ADDRESS=La Taiga Resort Batroun 6MC3+CP Kfar Aabida Batroun Lebanon;X-APPLE-RADIUS=500;X-TITLE=6MC3+CP Kfar Aabida:geo:35.654292376004,34.221113189181
END:VEVENT
END:VCALENDAR