BEGIN:VCALENDAR
VERSION:2.0
PRODID:-//Go Batroun - ECPv6.14.2//NONSGML v1.0//EN
CALSCALE:GREGORIAN
METHOD:PUBLISH
X-WR-CALNAME:Go Batroun
X-ORIGINAL-URL:https://gobatroun.com
X-WR-CALDESC:Events for Go Batroun
REFRESH-INTERVAL;VALUE=DURATION:PT1H
X-Robots-Tag:noindex
X-PUBLISHED-TTL:PT1H
BEGIN:VTIMEZONE
TZID:Asia/Beirut
BEGIN:DAYLIGHT
TZOFFSETFROM:+0200
TZOFFSETTO:+0300
TZNAME:EEST
DTSTART:20230325T220000
END:DAYLIGHT
BEGIN:STANDARD
TZOFFSETFROM:+0300
TZOFFSETTO:+0200
TZNAME:EET
DTSTART:20231028T210000
END:STANDARD
END:VTIMEZONE
BEGIN:VEVENT
DTSTART;TZID=Asia/Beirut:20231222T210000
DTEND;TZID=Asia/Beirut:20231222T210000
DTSTAMP:20260421T123840
CREATED:20231219T102919Z
LAST-MODIFIED:20231219T102919Z
UID:10005547-1703278800-1703278800@gobatroun.com
SUMMARY:Eli Atala at Kori
DESCRIPTION:@eli_atala at @kori.leb\nFriday\, December 22nd\nRSVP: 79 118 887
URL:https://gobatroun.com/event/eli-atala-at-kori/
LOCATION:KŌRI
CATEGORIES:Performing Arts
ATTACH;FMTTYPE=image/png:https://gobatroun.com/wp-content/uploads/2023/12/Screenshot-2769.png
END:VEVENT
BEGIN:VEVENT
DTSTART;TZID=Asia/Beirut:20231216T210000
DTEND;TZID=Asia/Beirut:20231216T210000
DTSTAMP:20260421T123840
CREATED:20231213T073952Z
LAST-MODIFIED:20231213T073952Z
UID:10005445-1702760400-1702760400@gobatroun.com
SUMMARY:Mel at Kori
DESCRIPTION:@melmusic___ Live at @kori.leb\nSaturday\, December 16th\nRSVP: 79 118 887
URL:https://gobatroun.com/event/mel-at-kori/
LOCATION:KŌRI
CATEGORIES:Performing Arts
ATTACH;FMTTYPE=image/png:https://gobatroun.com/wp-content/uploads/2023/12/Screenshot-2709.png
END:VEVENT
BEGIN:VEVENT
DTSTART;TZID=Asia/Beirut:20231215T223000
DTEND;TZID=Asia/Beirut:20231215T223000
DTSTAMP:20260421T123840
CREATED:20231212T084219Z
LAST-MODIFIED:20231212T084219Z
UID:10005416-1702679400-1702679400@gobatroun.com
SUMMARY:Kareem Aridi at KŌRI
DESCRIPTION:@aridi____ Live at @kori.leb\nFriday\, December 15th\nRSVP: 79 118 887
URL:https://gobatroun.com/event/kareem-aridi-at-kori/
LOCATION:KŌRI
CATEGORIES:Performing Arts
ATTACH;FMTTYPE=image/png:https://gobatroun.com/wp-content/uploads/2023/12/Screenshot-2692.png
END:VEVENT
BEGIN:VEVENT
DTSTART;TZID=Asia/Beirut:20231209T210000
DTEND;TZID=Asia/Beirut:20231209T210000
DTSTAMP:20260421T123840
CREATED:20231206T113333Z
LAST-MODIFIED:20231206T113333Z
UID:10005366-1702155600-1702155600@gobatroun.com
SUMMARY:Hrag Mikkel and John Srour at Kori
DESCRIPTION:
URL:https://gobatroun.com/event/hrag-mikkel-and-john-srour-at-kori/
LOCATION:KŌRI
CATEGORIES:Performing Arts
ATTACH;FMTTYPE=image/png:https://gobatroun.com/wp-content/uploads/2023/12/Screenshot-2654.png
END:VEVENT
BEGIN:VEVENT
DTSTART;TZID=Asia/Beirut:20231021T220000
DTEND;TZID=Asia/Beirut:20231021T220000
DTSTAMP:20260421T123840
CREATED:20231017T122121Z
LAST-MODIFIED:20231017T122121Z
UID:10005055-1697925600-1697925600@gobatroun.com
SUMMARY:All Women's Band at Kori
DESCRIPTION:Saturday\, October 21st\nTENNYO all Women’s band LIVE at @kori.leb\nRSVP: 79 118 887
URL:https://gobatroun.com/event/all-womens-band-at-kori/
LOCATION:KŌRI
CATEGORIES:Performing Arts
ATTACH;FMTTYPE=image/png:https://gobatroun.com/wp-content/uploads/2023/10/Screenshot-2360.png
END:VEVENT
BEGIN:VEVENT
DTSTART;TZID=Asia/Beirut:20230930T210000
DTEND;TZID=Asia/Beirut:20230930T210000
DTSTAMP:20260421T123840
CREATED:20230925T085632Z
LAST-MODIFIED:20230925T085632Z
UID:10004917-1696107600-1696107600@gobatroun.com
SUMMARY:Aline Lahoud at KŌRI
DESCRIPTION:The Unparalleled Aline Lahoud ✨\nDazzling Us With Her Sensational Tunes\n@kori.leb\nSATURDAY SEPTEMBER 30TH\nRSVP: 79 118 887
URL:https://gobatroun.com/event/aline-lahoud-at-kori-7/
LOCATION:KŌRI
CATEGORIES:Performing Arts
ATTACH;FMTTYPE=image/png:https://gobatroun.com/wp-content/uploads/2023/09/Screenshot-2084.png
END:VEVENT
BEGIN:VEVENT
DTSTART;TZID=Asia/Beirut:20230916T210000
DTEND;TZID=Asia/Beirut:20230916T210000
DTSTAMP:20260421T123840
CREATED:20230911T113958Z
LAST-MODIFIED:20230911T113958Z
UID:10004856-1694898000-1694898000@gobatroun.com
SUMMARY:Aline Lahoud at KŌRI
DESCRIPTION:The Unparalleled Aline Lahoud✨\nIs Back To Dazzle Us With Her Sensational Tunes\nAfter a short break\nSATURDAY SEPTEMBER 16TH\nRSVP: 79 118 887
URL:https://gobatroun.com/event/aline-lahoud-at-kori-6/
LOCATION:KŌRI
CATEGORIES:Performing Arts
ATTACH;FMTTYPE=image/png:https://gobatroun.com/wp-content/uploads/2023/09/Screenshot-2084.png
END:VEVENT
BEGIN:VEVENT
DTSTART;TZID=Asia/Beirut:20230902T210000
DTEND;TZID=Asia/Beirut:20230902T210000
DTSTAMP:20260421T123840
CREATED:20230713T080426Z
LAST-MODIFIED:20230713T091659Z
UID:10004151-1693688400-1693688400@gobatroun.com
SUMMARY:Alecco’s Nights at KŌRI
DESCRIPTION:
URL:https://gobatroun.com/event/aleccos-nights-at-kori-12/2023-09-02/
LOCATION:KŌRI
CATEGORIES:Performing Arts
ATTACH;FMTTYPE=image/png:https://gobatroun.com/wp-content/uploads/2023/07/Screenshot-628.png
END:VEVENT
BEGIN:VEVENT
DTSTART;TZID=Asia/Beirut:20230826T210000
DTEND;TZID=Asia/Beirut:20230826T210000
DTSTAMP:20260421T123840
CREATED:20230713T080426Z
LAST-MODIFIED:20230713T091659Z
UID:10004150-1693083600-1693083600@gobatroun.com
SUMMARY:Alecco’s Nights at KŌRI
DESCRIPTION:
URL:https://gobatroun.com/event/aleccos-nights-at-kori-12/2023-08-26/
LOCATION:KŌRI
CATEGORIES:Performing Arts
ATTACH;FMTTYPE=image/png:https://gobatroun.com/wp-content/uploads/2023/07/Screenshot-628.png
END:VEVENT
BEGIN:VEVENT
DTSTART;TZID=Asia/Beirut:20230819T210000
DTEND;TZID=Asia/Beirut:20230819T210000
DTSTAMP:20260421T123840
CREATED:20230713T080426Z
LAST-MODIFIED:20230713T091659Z
UID:10004149-1692478800-1692478800@gobatroun.com
SUMMARY:Alecco’s Nights at KŌRI
DESCRIPTION:
URL:https://gobatroun.com/event/aleccos-nights-at-kori-12/2023-08-19/
LOCATION:KŌRI
CATEGORIES:Performing Arts
ATTACH;FMTTYPE=image/png:https://gobatroun.com/wp-content/uploads/2023/07/Screenshot-628.png
END:VEVENT
BEGIN:VEVENT
DTSTART;TZID=Asia/Beirut:20230812T210000
DTEND;TZID=Asia/Beirut:20230812T210000
DTSTAMP:20260421T123840
CREATED:20230713T080426Z
LAST-MODIFIED:20230713T091659Z
UID:10004148-1691874000-1691874000@gobatroun.com
SUMMARY:Alecco’s Nights at KŌRI
DESCRIPTION:
URL:https://gobatroun.com/event/aleccos-nights-at-kori-12/2023-08-12/
LOCATION:KŌRI
CATEGORIES:Performing Arts
ATTACH;FMTTYPE=image/png:https://gobatroun.com/wp-content/uploads/2023/07/Screenshot-628.png
END:VEVENT
BEGIN:VEVENT
DTSTART;TZID=Asia/Beirut:20230805T210000
DTEND;TZID=Asia/Beirut:20230805T210000
DTSTAMP:20260421T123840
CREATED:20230713T080426Z
LAST-MODIFIED:20230713T091659Z
UID:10004147-1691269200-1691269200@gobatroun.com
SUMMARY:Alecco’s Nights at KŌRI
DESCRIPTION:
URL:https://gobatroun.com/event/aleccos-nights-at-kori-12/2023-08-05/
LOCATION:KŌRI
CATEGORIES:Performing Arts
ATTACH;FMTTYPE=image/png:https://gobatroun.com/wp-content/uploads/2023/07/Screenshot-628.png
END:VEVENT
BEGIN:VEVENT
DTSTART;TZID=Asia/Beirut:20230729T210000
DTEND;TZID=Asia/Beirut:20230729T210000
DTSTAMP:20260421T123840
CREATED:20230713T080426Z
LAST-MODIFIED:20230713T091659Z
UID:10004146-1690664400-1690664400@gobatroun.com
SUMMARY:Alecco’s Nights at KŌRI
DESCRIPTION:
URL:https://gobatroun.com/event/aleccos-nights-at-kori-12/2023-07-29/
LOCATION:KŌRI
CATEGORIES:Performing Arts
ATTACH;FMTTYPE=image/png:https://gobatroun.com/wp-content/uploads/2023/07/Screenshot-628.png
END:VEVENT
BEGIN:VEVENT
DTSTART;TZID=Asia/Beirut:20230722T210000
DTEND;TZID=Asia/Beirut:20230722T210000
DTSTAMP:20260421T123840
CREATED:20230713T080426Z
LAST-MODIFIED:20230713T091659Z
UID:10004145-1690059600-1690059600@gobatroun.com
SUMMARY:Alecco’s Nights at KŌRI
DESCRIPTION:
URL:https://gobatroun.com/event/aleccos-nights-at-kori-12/2023-07-22/
LOCATION:KŌRI
CATEGORIES:Performing Arts
ATTACH;FMTTYPE=image/png:https://gobatroun.com/wp-content/uploads/2023/07/Screenshot-628.png
END:VEVENT
BEGIN:VEVENT
DTSTART;TZID=Asia/Beirut:20230715T210000
DTEND;TZID=Asia/Beirut:20230715T210000
DTSTAMP:20260421T123840
CREATED:20230713T080426Z
LAST-MODIFIED:20230713T091659Z
UID:10004144-1689454800-1689454800@gobatroun.com
SUMMARY:Alecco’s Nights at KŌRI
DESCRIPTION:
URL:https://gobatroun.com/event/aleccos-nights-at-kori-12/2023-07-15/
LOCATION:KŌRI
CATEGORIES:Performing Arts
ATTACH;FMTTYPE=image/png:https://gobatroun.com/wp-content/uploads/2023/07/Screenshot-628.png
END:VEVENT
BEGIN:VEVENT
DTSTART;TZID=Asia/Beirut:20230708T210000
DTEND;TZID=Asia/Beirut:20230708T210000
DTSTAMP:20260421T123840
CREATED:20230713T080426Z
LAST-MODIFIED:20230713T091659Z
UID:10004143-1688850000-1688850000@gobatroun.com
SUMMARY:Alecco’s Nights at KŌRI
DESCRIPTION:
URL:https://gobatroun.com/event/aleccos-nights-at-kori-12/2023-07-08/
LOCATION:KŌRI
CATEGORIES:Performing Arts
ATTACH;FMTTYPE=image/png:https://gobatroun.com/wp-content/uploads/2023/07/Screenshot-628.png
END:VEVENT
BEGIN:VEVENT
DTSTART;TZID=Asia/Beirut:20230701T210000
DTEND;TZID=Asia/Beirut:20230701T210000
DTSTAMP:20260421T123840
CREATED:20230713T080426Z
LAST-MODIFIED:20230713T091659Z
UID:10003990-1688245200-1688245200@gobatroun.com
SUMMARY:Alecco’s Nights at KŌRI
DESCRIPTION:
URL:https://gobatroun.com/event/aleccos-nights-at-kori-12/2023-07-01/
LOCATION:KŌRI
CATEGORIES:Performing Arts
ATTACH;FMTTYPE=image/png:https://gobatroun.com/wp-content/uploads/2023/07/Screenshot-628.png
END:VEVENT
BEGIN:VEVENT
DTSTART;TZID=Asia/Beirut:20230630T210000
DTEND;TZID=Asia/Beirut:20230630T210000
DTSTAMP:20260421T123840
CREATED:20230713T080426Z
LAST-MODIFIED:20230713T083728Z
UID:10004005-1688158800-1688158800@gobatroun.com
SUMMARY:Aline Lahoud at KŌRI
DESCRIPTION:An exceptional evening with @alinelahoudofficial\nLive @kori. leb on Friday\, June 30th\nRSVP: 79 118 887
URL:https://gobatroun.com/event/aline-lahoud-at-kori-5/
LOCATION:KŌRI
CATEGORIES:Performing Arts
ATTACH;FMTTYPE=image/png:https://gobatroun.com/wp-content/uploads/2023/07/Screenshot-1185.png
END:VEVENT
BEGIN:VEVENT
DTSTART;TZID=Asia/Beirut:20230624T210000
DTEND;TZID=Asia/Beirut:20230624T210000
DTSTAMP:20260421T123840
CREATED:20230713T080347Z
LAST-MODIFIED:20230713T090643Z
UID:10004085-1687640400-1687640400@gobatroun.com
SUMMARY:Alecco’s Nights at KŌRI
DESCRIPTION:
URL:https://gobatroun.com/event/aleccos-nights-at-kori-11/
LOCATION:KŌRI
CATEGORIES:Performing Arts
ATTACH;FMTTYPE=image/png:https://gobatroun.com/wp-content/uploads/2023/07/Screenshot-628.png
END:VEVENT
BEGIN:VEVENT
DTSTART;TZID=Asia/Beirut:20230623T220000
DTEND;TZID=Asia/Beirut:20230623T220000
DTSTAMP:20260421T123840
CREATED:20230713T080347Z
LAST-MODIFIED:20230713T091105Z
UID:10004095-1687557600-1687557600@gobatroun.com
SUMMARY:Natalya at Kori
DESCRIPTION:@natalyasafyofficial Live at @kori.leb\nFriday\, June 23rd\n• RSVP: 79 118 887
URL:https://gobatroun.com/event/natalya-at-kori-3/
LOCATION:KŌRI
CATEGORIES:Performing Arts
ATTACH;FMTTYPE=image/png:https://gobatroun.com/wp-content/uploads/2023/07/Screenshot-1021.png
END:VEVENT
BEGIN:VEVENT
DTSTART;TZID=Asia/Beirut:20230610T210000
DTEND;TZID=Asia/Beirut:20230610T210000
DTSTAMP:20260421T123840
CREATED:20230606T150439Z
LAST-MODIFIED:20230713T100621Z
UID:10003546-1686430800-1686430800@gobatroun.com
SUMMARY:Alecco’s Nights at KŌRI
DESCRIPTION:
URL:https://gobatroun.com/event/aleccos-nights-at-kori-8/
LOCATION:KŌRI
CATEGORIES:Performing Arts
ATTACH;FMTTYPE=image/png:https://gobatroun.com/wp-content/uploads/2023/05/Screenshot-628.png
END:VEVENT
BEGIN:VEVENT
DTSTART;TZID=Asia/Beirut:20230609T210000
DTEND;TZID=Asia/Beirut:20230609T210000
DTSTAMP:20260421T123840
CREATED:20230606T150410Z
LAST-MODIFIED:20230713T100732Z
UID:10003545-1686344400-1686344400@gobatroun.com
SUMMARY:TENNYO all women’s band LIVE at KŌRI
DESCRIPTION:Friday\, June 9th\nTENNYO all women’s band LIVE at @kori.leb\nRSVP: 79 118 887
URL:https://gobatroun.com/event/tennyo-all-womens-band-live-at-kori/
LOCATION:KŌRI
CATEGORIES:Performing Arts
ATTACH;FMTTYPE=image/png:https://gobatroun.com/wp-content/uploads/2023/06/Screenshot-918.png
END:VEVENT
BEGIN:VEVENT
DTSTART;TZID=Asia/Beirut:20230603T210000
DTEND;TZID=Asia/Beirut:20230603T210000
DTSTAMP:20260421T123840
CREATED:20230529T133647Z
LAST-MODIFIED:20230529T133647Z
UID:10003361-1685826000-1685826000@gobatroun.com
SUMMARY:Alecco’s Nights at KŌRI
DESCRIPTION:
URL:https://gobatroun.com/event/aleccos-nights-at-kori-7/
LOCATION:KŌRI
CATEGORIES:Performing Arts
ATTACH;FMTTYPE=image/png:https://gobatroun.com/wp-content/uploads/2023/05/Screenshot-628.png
END:VEVENT
BEGIN:VEVENT
DTSTART;TZID=Asia/Beirut:20230602T210000
DTEND;TZID=Asia/Beirut:20230602T210000
DTSTAMP:20260421T123840
CREATED:20230529T133604Z
LAST-MODIFIED:20230529T133605Z
UID:10003360-1685739600-1685739600@gobatroun.com
SUMMARY:Natalya at KŌRI
DESCRIPTION:@natalyasafyofficial Live at @kori.leb\nFriday\, June 2nd\n• RSVP: 79 118 887 \n@musicsagagroup
URL:https://gobatroun.com/event/natalya-at-kori/
LOCATION:KŌRI
CATEGORIES:Performing Arts
ATTACH;FMTTYPE=image/png:https://gobatroun.com/wp-content/uploads/2023/05/Screenshot-832.png
END:VEVENT
BEGIN:VEVENT
DTSTART;TZID=Asia/Beirut:20230527T210000
DTEND;TZID=Asia/Beirut:20230527T210000
DTSTAMP:20260421T123840
CREATED:20230523T132133Z
LAST-MODIFIED:20230523T132246Z
UID:10002396-1685221200-1685221200@gobatroun.com
SUMMARY:Alecco’s Nights at KŌRI
DESCRIPTION:
URL:https://gobatroun.com/event/aleccos-nights-at-kori-6/
LOCATION:KŌRI
CATEGORIES:Performing Arts
ATTACH;FMTTYPE=image/png:https://gobatroun.com/wp-content/uploads/2023/05/Screenshot-628.png
END:VEVENT
BEGIN:VEVENT
DTSTART;TZID=Asia/Beirut:20230526T200000
DTEND;TZID=Asia/Beirut:20230526T200000
DTSTAMP:20260421T123840
CREATED:20230509T101639Z
LAST-MODIFIED:20230509T101639Z
UID:10002313-1685131200-1685131200@gobatroun.com
SUMMARY:Aline Lahoud at KŌRI
DESCRIPTION:Two exceptional evenings with @alinelahoudofficial\nLive @kori.leb on:\n– Friday May 12th\n– Friday May 26th \nRSVP: 79 118 887
URL:https://gobatroun.com/event/aline-lahoud-at-kori-3/
LOCATION:KŌRI
CATEGORIES:Performing Arts
ATTACH;FMTTYPE=image/png:https://gobatroun.com/wp-content/uploads/2023/05/Screenshot-677.png
END:VEVENT
BEGIN:VEVENT
DTSTART;TZID=Asia/Beirut:20230520T210000
DTEND;TZID=Asia/Beirut:20230520T210000
DTSTAMP:20260421T123840
CREATED:20230516T145627Z
LAST-MODIFIED:20230516T145627Z
UID:10002356-1684616400-1684616400@gobatroun.com
SUMMARY:Alecco’s Nights at KŌRI
DESCRIPTION:
URL:https://gobatroun.com/event/aleccos-nights-at-kori-5/
LOCATION:KŌRI
CATEGORIES:Performing Arts
ATTACH;FMTTYPE=image/png:https://gobatroun.com/wp-content/uploads/2023/05/Screenshot-628.png
END:VEVENT
BEGIN:VEVENT
DTSTART;TZID=Asia/Beirut:20230519T200000
DTEND;TZID=Asia/Beirut:20230519T200000
DTSTAMP:20260421T123840
CREATED:20230512T141209Z
LAST-MODIFIED:20230512T141209Z
UID:10002337-1684526400-1684526400@gobatroun.com
SUMMARY:TENNYO women’s band at Kori
DESCRIPTION:A night to remember with TENNYO a women’s band LIVE at @kori.leb\nFriday\, May 19th\nRAVP: 79 118 887
URL:https://gobatroun.com/event/tennyo-womens-band-at-kori/
LOCATION:KŌRI
CATEGORIES:Performing Arts
ATTACH;FMTTYPE=image/png:https://gobatroun.com/wp-content/uploads/2023/05/Screenshot-706.png
END:VEVENT
BEGIN:VEVENT
DTSTART;TZID=Asia/Beirut:20230513T210000
DTEND;TZID=Asia/Beirut:20230513T210000
DTSTAMP:20260421T123840
CREATED:20230510T133359Z
LAST-MODIFIED:20230510T133359Z
UID:10002327-1684011600-1684011600@gobatroun.com
SUMMARY:Alecco’s Nights at KŌRI
DESCRIPTION:
URL:https://gobatroun.com/event/aleccos-nights-at-kori-4/
LOCATION:KŌRI
CATEGORIES:Performing Arts
ATTACH;FMTTYPE=image/png:https://gobatroun.com/wp-content/uploads/2023/05/Screenshot-628.png
END:VEVENT
BEGIN:VEVENT
DTSTART;TZID=Asia/Beirut:20230512T200000
DTEND;TZID=Asia/Beirut:20230512T200000
DTSTAMP:20260421T123840
CREATED:20230509T101535Z
LAST-MODIFIED:20230509T101535Z
UID:10002312-1683921600-1683921600@gobatroun.com
SUMMARY:Aline Lahoud at KŌRI
DESCRIPTION:Two exceptional evenings with @alinelahoudofficial\nLive @kori.leb on:\n– Friday May 12th\n– Friday May 26th \nRSVP: 79 118 887
URL:https://gobatroun.com/event/aline-lahoud-at-kori-2/
LOCATION:KŌRI
CATEGORIES:Performing Arts
ATTACH;FMTTYPE=image/png:https://gobatroun.com/wp-content/uploads/2023/05/Screenshot-677.png
END:VEVENT
END:VCALENDAR