BEGIN:VCALENDAR
VERSION:2.0
PRODID:-//Go Batroun - ECPv6.14.2//NONSGML v1.0//EN
CALSCALE:GREGORIAN
METHOD:PUBLISH
X-WR-CALNAME:Go Batroun
X-ORIGINAL-URL:https://gobatroun.com
X-WR-CALDESC:Events for Go Batroun
REFRESH-INTERVAL;VALUE=DURATION:PT1H
X-Robots-Tag:noindex
X-PUBLISHED-TTL:PT1H
BEGIN:VTIMEZONE
TZID:Asia/Beirut
BEGIN:DAYLIGHT
TZOFFSETFROM:+0200
TZOFFSETTO:+0300
TZNAME:EEST
DTSTART:20220326T220000
END:DAYLIGHT
BEGIN:STANDARD
TZOFFSETFROM:+0300
TZOFFSETTO:+0200
TZNAME:EET
DTSTART:20221029T210000
END:STANDARD
END:VTIMEZONE
BEGIN:VEVENT
DTSTART;TZID=Asia/Beirut:20220810T213000
DTEND;TZID=Asia/Beirut:20220810T213000
DTSTAMP:20260422T015947
CREATED:20220808T064935Z
LAST-MODIFIED:20220808T064935Z
UID:10001099-1660167000-1660167000@gobatroun.com
SUMMARY:George Nehme at KAI Beach Batroun
DESCRIPTION:Every Wednesday till the end of August with the phenomenal @georgenehmeofficial live at Kai Beach. \nDoors open at 10 pm.\nInfo & Reservations 79188988
URL:https://gobatroun.com/event/george-nehme-at-kai-beach-batroun-2/
LOCATION:Kai Beach\, 6J7X+FV Madfoun\, Madfoun\, Lebanon
CATEGORIES:Performing Arts
ATTACH;FMTTYPE=image/png:https://gobatroun.com/wp-content/uploads/2022/08/Screenshot-1079.png
END:VEVENT
BEGIN:VEVENT
DTSTART;TZID=Asia/Beirut:20220809T220000
DTEND;TZID=Asia/Beirut:20220809T220000
DTSTAMP:20260422T015947
CREATED:20220808T064056Z
LAST-MODIFIED:20220808T065116Z
UID:10001091-1660082400-1660082400@gobatroun.com
SUMMARY:Carlos Hikri at Kai Beach Club
DESCRIPTION:@carlos.hikri will make you fall for Tuesdays at Kai Beach Club \n  \nDoors open at 10 pm. Info & Reservations 79188988
URL:https://gobatroun.com/event/carlos-hikri-at-kai-beach-club-4/
LOCATION:Kai Beach\, 6J7X+FV Madfoun\, Madfoun\, Lebanon
CATEGORIES:Performing Arts
ATTACH;FMTTYPE=image/jpeg:https://gobatroun.com/wp-content/uploads/2022/07/Screenshot_20220713-180900_Instagram.jpg
END:VEVENT
BEGIN:VEVENT
DTSTART;TZID=Asia/Beirut:20220807T220000
DTEND;TZID=Asia/Beirut:20220807T220000
DTSTAMP:20260422T015947
CREATED:20220803T063721Z
LAST-MODIFIED:20220803T063721Z
UID:10001069-1659909600-1659909600@gobatroun.com
SUMMARY:Ziad Bourji at Kai
DESCRIPTION:We’ve got a legendary night in store for you\nthis Sunday\, 7 August with one of our all time favorite voices @ziadbourji . Get ready for a magical night-time performance at Kai Beach\, giving you the perfect finale to an extraordinary weekend. \nDoors open at 10 pm.\nInfo & Reservations 79 188 988 or 76 744 844
URL:https://gobatroun.com/event/ziad-bourji-at-kai/
LOCATION:Kai Beach\, 6J7X+FV Madfoun\, Madfoun\, Lebanon
CATEGORIES:Performing Arts
ATTACH;FMTTYPE=image/png:https://gobatroun.com/wp-content/uploads/2022/08/Screenshot-1136.png
END:VEVENT
BEGIN:VEVENT
DTSTART;TZID=Asia/Beirut:20220803T213000
DTEND;TZID=Asia/Beirut:20220803T213000
DTSTAMP:20260422T015947
CREATED:20220801T051929Z
LAST-MODIFIED:20220801T051929Z
UID:10000907-1659562200-1659562200@gobatroun.com
SUMMARY:George Nehme at KAI Beach Batroun
DESCRIPTION:Every Wednesday till the end of August with the phenomenal @georgenehmeofficial live at Kai Beach. \nDoors open at 10 pm.\nInfo & Reservations 79188988
URL:https://gobatroun.com/event/george-nehme-at-kai-beach-batroun/
LOCATION:Kai Beach\, 6J7X+FV Madfoun\, Madfoun\, Lebanon
CATEGORIES:Performing Arts
ATTACH;FMTTYPE=image/png:https://gobatroun.com/wp-content/uploads/2022/08/Screenshot-1079.png
END:VEVENT
BEGIN:VEVENT
DTSTART;TZID=Asia/Beirut:20220802T220000
DTEND;TZID=Asia/Beirut:20220802T220000
DTSTAMP:20260422T015947
CREATED:20220801T051846Z
LAST-MODIFIED:20220801T052835Z
UID:10000905-1659477600-1659477600@gobatroun.com
SUMMARY:Carlos Hikri at Kai Beach Club
DESCRIPTION:@carlos.hikri will make you fall for Tuesdays at Kai Beach Club \n  \nDoors open at 10 pm. Info & Reservations 79188988
URL:https://gobatroun.com/event/carlos-hikri-at-kai-beach-club-3/
LOCATION:Kai Beach\, 6J7X+FV Madfoun\, Madfoun\, Lebanon
CATEGORIES:Performing Arts
ATTACH;FMTTYPE=image/jpeg:https://gobatroun.com/wp-content/uploads/2022/07/Screenshot_20220713-180900_Instagram.jpg
END:VEVENT
BEGIN:VEVENT
DTSTART;TZID=Asia/Beirut:20220731T193000
DTEND;TZID=Asia/Beirut:20220731T193000
DTSTAMP:20260422T015947
CREATED:20220707T101916Z
LAST-MODIFIED:20220707T101916Z
UID:10000911-1659295800-1659295800@gobatroun.com
SUMMARY:Nassif Zeytoun at Kai Beach
DESCRIPTION:ℕ ℤℕ
URL:https://gobatroun.com/event/nassif-zeytoun-at-kai-beach/
LOCATION:Kai Beach\, 6J7X+FV Madfoun\, Madfoun\, Lebanon
CATEGORIES:Performing Arts
ATTACH;FMTTYPE=image/png:https://gobatroun.com/wp-content/uploads/2022/07/Screenshot-886.png
END:VEVENT
BEGIN:VEVENT
DTSTART;TZID=Asia/Beirut:20220727T220000
DTEND;TZID=Asia/Beirut:20220727T220000
DTSTAMP:20260422T015947
CREATED:20220725T051937Z
LAST-MODIFIED:20220725T051937Z
UID:10000984-1658959200-1658959200@gobatroun.com
SUMMARY:Naji Osta at Kai Beach Club
DESCRIPTION:Wednesday 27 July\, star @ostanaji live at Kai Beach Club. \nDoors open at 10 pm.\nInfo & Reservations 79188988
URL:https://gobatroun.com/event/naji-osta-at-kai-beach-club/
LOCATION:Kai Beach\, 6J7X+FV Madfoun\, Madfoun\, Lebanon
CATEGORIES:Performing Arts
ATTACH;FMTTYPE=image/png:https://gobatroun.com/wp-content/uploads/2022/07/Screenshot-994.png
END:VEVENT
BEGIN:VEVENT
DTSTART;TZID=Asia/Beirut:20220726T220000
DTEND;TZID=Asia/Beirut:20220726T220000
DTSTAMP:20260422T015947
CREATED:20220725T053323Z
LAST-MODIFIED:20220725T053323Z
UID:10000985-1658872800-1658872800@gobatroun.com
SUMMARY:Carlos Hikri at Kai Beach Club
DESCRIPTION:@carlos.hikri will make you fall for Tuesdays at Kai Beach Club \n  \nDoors open at 10 pm. Info & Reservations 79188988
URL:https://gobatroun.com/event/carlos-hikri-at-kai-beach-club-2/
LOCATION:Kai Beach\, 6J7X+FV Madfoun\, Madfoun\, Lebanon
CATEGORIES:Performing Arts
ATTACH;FMTTYPE=image/jpeg:https://gobatroun.com/wp-content/uploads/2022/07/Screenshot_20220713-180900_Instagram.jpg
END:VEVENT
BEGIN:VEVENT
DTSTART;TZID=Asia/Beirut:20220720T220000
DTEND;TZID=Asia/Beirut:20220720T220000
DTSTAMP:20260422T015947
CREATED:20220718T065606Z
LAST-MODIFIED:20220718T065606Z
UID:10000947-1658354400-1658354400@gobatroun.com
SUMMARY:George Nehme at Kai Beach
DESCRIPTION:Your all-time favorite @georgenehmeofficial returns at Kai Beach this Wednesday\, 20 July. \nDoors open at 10 pm.\nInfo & Reservations 79188988
URL:https://gobatroun.com/event/george-nehme-at-kai-beach-2/
LOCATION:Kai Beach\, 6J7X+FV Madfoun\, Madfoun\, Lebanon
CATEGORIES:Performing Arts
ATTACH;FMTTYPE=image/png:https://gobatroun.com/wp-content/uploads/2022/07/Screenshot-959.png
END:VEVENT
BEGIN:VEVENT
DTSTART;TZID=Asia/Beirut:20220719T220000
DTEND;TZID=Asia/Beirut:20220719T220000
DTSTAMP:20260422T015947
CREATED:20220718T065127Z
LAST-MODIFIED:20220719T085700Z
UID:10000944-1658268000-1658268000@gobatroun.com
SUMMARY:Carlos Hikri at Kai Beach Club
DESCRIPTION:@carlos.hikri will make you fall for Tuesdays at Kai Beach Club \n  \nDoors open at 10 pm. Info & Reservations 79188988
URL:https://gobatroun.com/event/carlos-hikri-at-kai-beach-club/
LOCATION:Kai Beach\, 6J7X+FV Madfoun\, Madfoun\, Lebanon
CATEGORIES:Performing Arts
ATTACH;FMTTYPE=image/jpeg:https://gobatroun.com/wp-content/uploads/2022/07/Screenshot_20220713-180900_Instagram.jpg
END:VEVENT
BEGIN:VEVENT
DTSTART;TZID=Asia/Beirut:20220713T220000
DTEND;TZID=Asia/Beirut:20220713T220000
DTSTAMP:20260422T015947
CREATED:20220708T090748Z
LAST-MODIFIED:20220708T091150Z
UID:10000811-1657749600-1657749600@gobatroun.com
SUMMARY:George Nehme at Kai Beach
DESCRIPTION:You favorite @georgenehmeofficial live at Kai Beach Wednesday July 13. \nDoors open at 10 pm.\nInfo & Reservations 79188988
URL:https://gobatroun.com/event/george-nehme-at-kai-beach/
LOCATION:Kai Beach\, 6J7X+FV Madfoun\, Madfoun\, Lebanon
CATEGORIES:Performing Arts
ATTACH;FMTTYPE=image/png:https://gobatroun.com/wp-content/uploads/2022/07/Screenshot-911.png
END:VEVENT
BEGIN:VEVENT
DTSTART;TZID=Asia/Beirut:20220712T220000
DTEND;TZID=Asia/Beirut:20220712T220000
DTSTAMP:20260422T015947
CREATED:20220713T151030Z
LAST-MODIFIED:20220719T094158Z
UID:10000818-1657663200-1657663200@gobatroun.com
SUMMARY:Carlos Hikri at Kai Beach Club
DESCRIPTION:@carlos.hikri will make you fall for Tuesdays at Kai Beach Club \n  \nDoors open at 10 pm. Info & Reservations 79188988
URL:https://gobatroun.com/event/carlos-hikri-al-kai-beach-club/
LOCATION:Kai Beach\, 6J7X+FV Madfoun\, Madfoun\, Lebanon
CATEGORIES:Performing Arts
ATTACH;FMTTYPE=image/jpeg:https://gobatroun.com/wp-content/uploads/2022/07/Screenshot_20220713-180900_Instagram.jpg
END:VEVENT
BEGIN:VEVENT
DTSTART;TZID=Asia/Beirut:20220711T220000
DTEND;TZID=Asia/Beirut:20220711T220000
DTSTAMP:20260422T015947
CREATED:20220708T090642Z
LAST-MODIFIED:20220708T091210Z
UID:10000810-1657576800-1657576800@gobatroun.com
SUMMARY:Bilal at KAI Beach Batroun
DESCRIPTION:Bilal the gipsy prince takes over Kai’s Beach Club this Monday\, 11 July. \nDoors open at 10 pm.\nInfo & Reservations 79188988
URL:https://gobatroun.com/event/bilal-at-kai-beach-batroun/
LOCATION:Kai Beach\, 6J7X+FV Madfoun\, Madfoun\, Lebanon
CATEGORIES:Performing Arts
ATTACH;FMTTYPE=image/png:https://gobatroun.com/wp-content/uploads/2022/07/Screenshot-914.png
END:VEVENT
END:VCALENDAR