BEGIN:VCALENDAR
VERSION:2.0
PRODID:-//Go Batroun - ECPv6.14.2//NONSGML v1.0//EN
CALSCALE:GREGORIAN
METHOD:PUBLISH
X-WR-CALNAME:Go Batroun
X-ORIGINAL-URL:https://gobatroun.com
X-WR-CALDESC:Events for Go Batroun
REFRESH-INTERVAL;VALUE=DURATION:PT1H
X-Robots-Tag:noindex
X-PUBLISHED-TTL:PT1H
BEGIN:VTIMEZONE
TZID:Asia/Beirut
BEGIN:DAYLIGHT
TZOFFSETFROM:+0200
TZOFFSETTO:+0300
TZNAME:EEST
DTSTART:20230325T220000
END:DAYLIGHT
BEGIN:STANDARD
TZOFFSETFROM:+0300
TZOFFSETTO:+0200
TZNAME:EET
DTSTART:20231028T210000
END:STANDARD
END:VTIMEZONE
BEGIN:VEVENT
DTSTART;TZID=Asia/Beirut:20230729T210000
DTEND;TZID=Asia/Beirut:20230729T210000
DTSTAMP:20260424T042021
CREATED:20230725T132857Z
LAST-MODIFIED:20230725T132857Z
UID:10004402-1690664400-1690664400@gobatroun.com
SUMMARY:Christina Haddad at EL Compadre Beach Bar
DESCRIPTION:Never miss a chance to dance 💃\nJoin us #saturday #July 29\nat EL Compadre Beach Bar #batroun for an unforgettable night with @christinahaddadsinger \nBook your seats now at\n81501234
URL:https://gobatroun.com/event/christina-haddad-at-el-compadre-beach-bar/
LOCATION:El Compadre Oyster Bar
CATEGORIES:Performing Arts
ATTACH;FMTTYPE=image/png:https://gobatroun.com/wp-content/uploads/2023/07/Screenshot-1487.png
END:VEVENT
BEGIN:VEVENT
DTSTART;TZID=Asia/Beirut:20230722T210000
DTEND;TZID=Asia/Beirut:20230722T210000
DTSTAMP:20260424T042021
CREATED:20230718T155429Z
LAST-MODIFIED:20230718T155429Z
UID:10004357-1690059600-1690059600@gobatroun.com
SUMMARY:Elie Rahy and Clara at El Compadre Oyster Bar
DESCRIPTION:Reserve your spots for an unforgettable Night!\nSaturday\, July 22 🔥 with @elierahyofficial\n& @claraoubaa at el compadre #Batroun 😍 \nContact us for more details\n81501234
URL:https://gobatroun.com/event/elie-rahy-and-clara-at-el-compadre-oyster-bar/
LOCATION:El Compadre Oyster Bar
CATEGORIES:Performing Arts
ATTACH;FMTTYPE=image/png:https://gobatroun.com/wp-content/uploads/2023/07/Screenshot-1438.png
END:VEVENT
BEGIN:VEVENT
DTSTART;TZID=Asia/Beirut:20230721T210000
DTEND;TZID=Asia/Beirut:20230721T210000
DTSTAMP:20260424T042021
CREATED:20230718T155936Z
LAST-MODIFIED:20230718T155936Z
UID:10004358-1689973200-1689973200@gobatroun.com
SUMMARY:Aline Lahoud at El Compadre Oyster Bar
DESCRIPTION:Meet us this #friday with the one and only\n@alinelahoudofficial\nWaiting for you all 🌅💃
URL:https://gobatroun.com/event/aline-lahoud-at-el-compadre-oyster-bar/
LOCATION:El Compadre Oyster Bar
CATEGORIES:Performing Arts
ATTACH;FMTTYPE=image/png:https://gobatroun.com/wp-content/uploads/2023/07/Screenshot-1439.png
END:VEVENT
BEGIN:VEVENT
DTSTART;TZID=Asia/Beirut:20230715T220000
DTEND;TZID=Asia/Beirut:20230715T220000
DTSTAMP:20260424T042021
CREATED:20230714T135148Z
LAST-MODIFIED:20230714T135148Z
UID:10004266-1689458400-1689458400@gobatroun.com
SUMMARY:Christina Haddad at El Compadre Oyster Bar
DESCRIPTION:Even it’s Monday!\nMake plans for #saturday 😍 \nBook your seats now for an amazing night with @christinahaddadsinger \n#Batroun\nRSVP 81 50 1234
URL:https://gobatroun.com/event/christina-haddad-at-el-compadre-oyster-bar/
LOCATION:El Compadre Oyster Bar
CATEGORIES:Performing Arts
ATTACH;FMTTYPE=image/png:https://gobatroun.com/wp-content/uploads/2023/07/Screenshot-1360.png
END:VEVENT
BEGIN:VEVENT
DTSTART;TZID=Asia/Beirut:20230714T213000
DTEND;TZID=Asia/Beirut:20230714T213000
DTSTAMP:20260424T042021
CREATED:20230714T135541Z
LAST-MODIFIED:20230714T135541Z
UID:10004267-1689370200-1689370200@gobatroun.com
SUMMARY:Aline N.Lahoud at El Compadre Oyster Bar
DESCRIPTION:Mark your calendars\, call your friends\, create unforgettable memories and get ready Friday July 14th\, with our star @alinelahoudofficial starting 9.30 🔥\nat el compadre #Batroun. \nBook your seats now at 81 50 1234
URL:https://gobatroun.com/event/aline-n-lahoud-at-el-compadre-oyster-bar/
LOCATION:El Compadre Oyster Bar
CATEGORIES:Performing Arts
ATTACH;FMTTYPE=image/png:https://gobatroun.com/wp-content/uploads/2023/07/Screenshot-1361.png
END:VEVENT
END:VCALENDAR