BEGIN:VCALENDAR
VERSION:2.0
PRODID:-//Go Batroun - ECPv6.14.2//NONSGML v1.0//EN
CALSCALE:GREGORIAN
METHOD:PUBLISH
X-ORIGINAL-URL:https://gobatroun.com
X-WR-CALDESC:Events for Go Batroun
REFRESH-INTERVAL;VALUE=DURATION:PT1H
X-Robots-Tag:noindex
X-PUBLISHED-TTL:PT1H
BEGIN:VTIMEZONE
TZID:Asia/Beirut
BEGIN:DAYLIGHT
TZOFFSETFROM:+0200
TZOFFSETTO:+0300
TZNAME:EEST
DTSTART:20230325T220000
END:DAYLIGHT
BEGIN:STANDARD
TZOFFSETFROM:+0300
TZOFFSETTO:+0200
TZNAME:EET
DTSTART:20231028T210000
END:STANDARD
END:VTIMEZONE
BEGIN:VEVENT
DTSTART;TZID=Asia/Beirut:20230521T103000
DTEND;TZID=Asia/Beirut:20230521T113000
DTSTAMP:20260424T143933
CREATED:20230501T154402Z
LAST-MODIFIED:20230501T154402Z
UID:10002274-1684665000-1684668600@gobatroun.com
SUMMARY:Hatha Yoga With Josiane at Darma Ji
DESCRIPTION:
URL:https://gobatroun.com/event/hatha-yoga-with-josiane-at-darma-ji/
LOCATION:Darma Ji
CATEGORIES:Performing Arts,Sports
ATTACH;FMTTYPE=image/png:https://gobatroun.com/wp-content/uploads/2023/05/Screenshot-525.png
END:VEVENT
BEGIN:VEVENT
DTSTART;TZID=Asia/Beirut:20230520T170000
DTEND;TZID=Asia/Beirut:20230520T170000
DTSTAMP:20260424T143933
CREATED:20230509T100150Z
LAST-MODIFIED:20230509T100150Z
UID:10002307-1684602000-1684602000@gobatroun.com
SUMMARY:Circus Art Through Object Manipulation at Darma Ji
DESCRIPTION:Go on a mesmerizing fun journey of learning new skills and discovering your\nhidden abilities of juggling\, spinning\, and tossing objects.\nIn this class\, you will be introduced to three circus art props\, juggling balls\, poi\, and flower sticks.\nYou will get the chance to tap into the physics of object manipulation\, physical\nmovement\, juggling techniques\, and loads of fun.\nPrevious experience is not needed since this class is meant for all levels. \nProps are provided by us\nDuration: 60 mins \nAbout Paramaz\nAfter graduating from architecture and art school\, Paramaz directed his knowledge and experience into designing and manufacturing Circus props. His passion for Circus led him into working with several community-based organizations like\nCirquenciel\, Clown Me in\, Beirut flows\, Kunhadi\, Beirut municipality\, Byblos\ncultural center\, scouts club\, schools\, and many more. Through his 10 years of\ncircus journey\, he has elaborated many techniques in practicing\, teaching\, and\nmanufacturing. \nJoin the Fun\, call and register your name at +961 3 632900
URL:https://gobatroun.com/event/circus-art-through-object-manipulation-at-darma-ji/
LOCATION:Darma Ji
CATEGORIES:Performing Arts
ATTACH;FMTTYPE=image/png:https://gobatroun.com/wp-content/uploads/2023/05/Screenshot-672.png
END:VEVENT
BEGIN:VEVENT
DTSTART;TZID=Asia/Beirut:20230514T103000
DTEND;TZID=Asia/Beirut:20230514T113000
DTSTAMP:20260424T143933
CREATED:20230501T154252Z
LAST-MODIFIED:20230501T154252Z
UID:10002273-1684060200-1684063800@gobatroun.com
SUMMARY:Sensorial Yoga With Nicole at Darma Ji
DESCRIPTION:
URL:https://gobatroun.com/event/sensorial-yoga-with-nicole-at-darma-ji/
LOCATION:Darma Ji
CATEGORIES:Performing Arts,Sports
ATTACH;FMTTYPE=image/png:https://gobatroun.com/wp-content/uploads/2023/05/Screenshot-524.png
END:VEVENT
BEGIN:VEVENT
DTSTART;TZID=Asia/Beirut:20230507T143000
DTEND;TZID=Asia/Beirut:20230507T170000
DTSTAMP:20260424T143933
CREATED:20230502T063324Z
LAST-MODIFIED:20230502T063324Z
UID:10002278-1683469800-1683478800@gobatroun.com
SUMMARY:Art Expression Workshop with Jean at Darma Ji
DESCRIPTION:“Calling all art lovers! 🎨🌊 \nJoin us at our hub by the sea for an unforgettable art expression workshop with talented @jeanandhisplanet\n. \nRegister Now\, limited seats!
URL:https://gobatroun.com/event/art-expression-workshop-with-jean-at-darma-ji/
LOCATION:Darma Ji
CATEGORIES:Performing Arts
ATTACH;FMTTYPE=image/png:https://gobatroun.com/wp-content/uploads/2023/05/Screenshot-528.png
END:VEVENT
BEGIN:VEVENT
DTSTART;TZID=Asia/Beirut:20230507T103000
DTEND;TZID=Asia/Beirut:20230507T113000
DTSTAMP:20260424T143933
CREATED:20230501T154039Z
LAST-MODIFIED:20230501T154039Z
UID:10002272-1683455400-1683459000@gobatroun.com
SUMMARY:Morning Hatha at Darma Ji
DESCRIPTION:
URL:https://gobatroun.com/event/morning-hatha-at-darma-ji/
LOCATION:Darma Ji
CATEGORIES:Performing Arts,Sports
ATTACH;FMTTYPE=image/png:https://gobatroun.com/wp-content/uploads/2023/05/Screenshot-523.png
END:VEVENT
BEGIN:VEVENT
DTSTART;TZID=Asia/Beirut:20230326T100000
DTEND;TZID=Asia/Beirut:20230326T113000
DTSTAMP:20260424T143933
CREATED:20230323T150644Z
LAST-MODIFIED:20230323T150644Z
UID:10002130-1679824800-1679830200@gobatroun.com
SUMMARY:Free yoga Class With Jihane
DESCRIPTION:Giving back to all our lovely & supportive community\, a Free yoga Class to you all at our Hub.\nJoin Jihane this Sunday\, and enjoy a beautiful practice with like minded people \n“Yoga & Mindfulness”\nDate: Sunday Mar 26\nTime: 10:00 AM\nFees: Free \nReservation is a must & places are limited!\n+961 3 632 900
URL:https://gobatroun.com/event/free-yoga-class-with-jihane/
LOCATION:Darma Ji
CATEGORIES:Performing Arts
ATTACH;FMTTYPE=image/png:https://gobatroun.com/wp-content/uploads/2023/03/Screenshot-240.png
END:VEVENT
BEGIN:VEVENT
DTSTART;TZID=Asia/Beirut:20230304T100000
DTEND;TZID=Asia/Beirut:20230304T110000
DTSTAMP:20260424T143933
CREATED:20230227T114221Z
LAST-MODIFIED:20230227T114221Z
UID:10002016-1677924000-1677927600@gobatroun.com
SUMMARY:Vinyasa Flow with Elisa at Darma Ji
DESCRIPTION:
URL:https://gobatroun.com/event/vinyasa-flow-with-elisa-at-darma-ji-8/
LOCATION:Darma Ji
CATEGORIES:Performing Arts,Sports
ATTACH;FMTTYPE=image/jpeg:https://gobatroun.com/wp-content/uploads/2023/02/WhatsApp-Image-2023-02-27-at-13.35.48.jpg
END:VEVENT
BEGIN:VEVENT
DTSTART;TZID=Asia/Beirut:20230303T183000
DTEND;TZID=Asia/Beirut:20230303T193000
DTSTAMP:20260424T143933
CREATED:20230227T114101Z
LAST-MODIFIED:20230227T114101Z
UID:10002015-1677868200-1677871800@gobatroun.com
SUMMARY:Gentle Flow with Jenny at Darma Ji
DESCRIPTION:
URL:https://gobatroun.com/event/gentle-flow-with-jenny-at-darma-ji-4/
LOCATION:Darma Ji
CATEGORIES:Performing Arts,Sports
ATTACH;FMTTYPE=image/jpeg:https://gobatroun.com/wp-content/uploads/2023/02/WhatsApp-Image-2023-02-27-at-13.35.48.jpg
END:VEVENT
BEGIN:VEVENT
DTSTART;TZID=Asia/Beirut:20230303T100000
DTEND;TZID=Asia/Beirut:20230303T230000
DTSTAMP:20260424T143933
CREATED:20230227T114117Z
LAST-MODIFIED:20230227T114117Z
UID:10002014-1677837600-1677884400@gobatroun.com
SUMMARY:Pilates with Maria at Darma Ji
DESCRIPTION:
URL:https://gobatroun.com/event/pilates-with-maria-at-darma-ji-17/
LOCATION:Darma Ji
CATEGORIES:Performing Arts,Sports
ATTACH;FMTTYPE=image/jpeg:https://gobatroun.com/wp-content/uploads/2023/02/WhatsApp-Image-2023-02-27-at-13.35.48.jpg
END:VEVENT
BEGIN:VEVENT
DTSTART;TZID=Asia/Beirut:20230302T183000
DTEND;TZID=Asia/Beirut:20230302T193000
DTSTAMP:20260424T143933
CREATED:20230227T114007Z
LAST-MODIFIED:20230227T114007Z
UID:10002013-1677781800-1677785400@gobatroun.com
SUMMARY:Pilates Flow with Nadia at Darma Ji
DESCRIPTION:
URL:https://gobatroun.com/event/pilates-flow-with-nadia-at-darma-ji-12/
LOCATION:Darma Ji
CATEGORIES:Performing Arts,Sports
ATTACH;FMTTYPE=image/jpeg:https://gobatroun.com/wp-content/uploads/2023/02/WhatsApp-Image-2023-02-27-at-13.35.48.jpg
END:VEVENT
BEGIN:VEVENT
DTSTART;TZID=Asia/Beirut:20230301T183000
DTEND;TZID=Asia/Beirut:20230301T190000
DTSTAMP:20260424T143933
CREATED:20230227T113904Z
LAST-MODIFIED:20230227T113904Z
UID:10002012-1677695400-1677697200@gobatroun.com
SUMMARY:Vinyasa Flow with Elisa at Darma Ji
DESCRIPTION:
URL:https://gobatroun.com/event/vinyasa-flow-with-elisa-at-darma-ji-7/
LOCATION:Darma Ji
CATEGORIES:Performing Arts,Sports
ATTACH;FMTTYPE=image/jpeg:https://gobatroun.com/wp-content/uploads/2023/02/WhatsApp-Image-2023-02-27-at-13.35.48.jpg
END:VEVENT
BEGIN:VEVENT
DTSTART;TZID=Asia/Beirut:20230301T100000
DTEND;TZID=Asia/Beirut:20230301T230000
DTSTAMP:20260424T143933
CREATED:20230227T113918Z
LAST-MODIFIED:20230227T113918Z
UID:10002011-1677664800-1677711600@gobatroun.com
SUMMARY:Pilates with Maria at Darma Ji
DESCRIPTION:
URL:https://gobatroun.com/event/pilates-with-maria-at-darma-ji-16/
LOCATION:Darma Ji
CATEGORIES:Performing Arts,Sports
ATTACH;FMTTYPE=image/jpeg:https://gobatroun.com/wp-content/uploads/2023/02/WhatsApp-Image-2023-02-27-at-13.35.48.jpg
END:VEVENT
BEGIN:VEVENT
DTSTART;TZID=Asia/Beirut:20230228T183000
DTEND;TZID=Asia/Beirut:20230228T193000
DTSTAMP:20260424T143933
CREATED:20230227T113817Z
LAST-MODIFIED:20230227T113817Z
UID:10002010-1677609000-1677612600@gobatroun.com
SUMMARY:Pilates Flow with Nadia at Darma Ji
DESCRIPTION:
URL:https://gobatroun.com/event/pilates-flow-with-nadia-at-darma-ji-11/
LOCATION:Darma Ji
CATEGORIES:Performing Arts,Sports
ATTACH;FMTTYPE=image/jpeg:https://gobatroun.com/wp-content/uploads/2023/02/WhatsApp-Image-2023-02-27-at-13.35.48.jpg
END:VEVENT
BEGIN:VEVENT
DTSTART;TZID=Asia/Beirut:20230227T100000
DTEND;TZID=Asia/Beirut:20230227T230000
DTSTAMP:20260424T143933
CREATED:20230227T113742Z
LAST-MODIFIED:20230227T113742Z
UID:10002009-1677492000-1677538800@gobatroun.com
SUMMARY:Pilates with Maria at Darma Ji
DESCRIPTION:
URL:https://gobatroun.com/event/pilates-with-maria-at-darma-ji-15/
LOCATION:Darma Ji
CATEGORIES:Performing Arts,Sports
ATTACH;FMTTYPE=image/jpeg:https://gobatroun.com/wp-content/uploads/2023/02/WhatsApp-Image-2023-02-27-at-13.35.48.jpg
END:VEVENT
BEGIN:VEVENT
DTSTART;TZID=Asia/Beirut:20230224T183000
DTEND;TZID=Asia/Beirut:20230224T193000
DTSTAMP:20260424T143933
CREATED:20230220T075032Z
LAST-MODIFIED:20230220T075032Z
UID:10001981-1677263400-1677267000@gobatroun.com
SUMMARY:Gentle Flow with Jenny at Darma Ji
DESCRIPTION:
URL:https://gobatroun.com/event/gentle-flow-with-jenny-at-darma-ji-3/
LOCATION:Darma Ji
CATEGORIES:Performing Arts,Sports
ATTACH;FMTTYPE=image/png:https://gobatroun.com/wp-content/uploads/2023/02/Screenshot-2759.png
END:VEVENT
BEGIN:VEVENT
DTSTART;TZID=Asia/Beirut:20230224T100000
DTEND;TZID=Asia/Beirut:20230224T230000
DTSTAMP:20260424T143933
CREATED:20230220T075014Z
LAST-MODIFIED:20230220T075033Z
UID:10001980-1677232800-1677279600@gobatroun.com
SUMMARY:Pilates with Maria at Darma Ji
DESCRIPTION:
URL:https://gobatroun.com/event/pilates-with-maria-at-darma-ji-14/
LOCATION:Darma Ji
CATEGORIES:Performing Arts,Sports
ATTACH;FMTTYPE=image/png:https://gobatroun.com/wp-content/uploads/2023/02/Screenshot-2759.png
END:VEVENT
BEGIN:VEVENT
DTSTART;TZID=Asia/Beirut:20230223T220000
DTEND;TZID=Asia/Beirut:20230223T220000
DTSTAMP:20260424T143933
CREATED:20230220T074810Z
LAST-MODIFIED:20230220T074810Z
UID:10001978-1677189600-1677189600@gobatroun.com
SUMMARY:Hatha Yoga with Olga at Darma Ji
DESCRIPTION:
URL:https://gobatroun.com/event/hatha-yoga-with-olga-at-darma-ji-4/
LOCATION:Darma Ji
CATEGORIES:Performing Arts
ATTACH;FMTTYPE=image/png:https://gobatroun.com/wp-content/uploads/2023/02/Screenshot-2759.png
END:VEVENT
BEGIN:VEVENT
DTSTART;TZID=Asia/Beirut:20230223T183000
DTEND;TZID=Asia/Beirut:20230223T193000
DTSTAMP:20260424T143933
CREATED:20230220T074901Z
LAST-MODIFIED:20230220T074901Z
UID:10001979-1677177000-1677180600@gobatroun.com
SUMMARY:Pilates Flow with Nadia at Darma Ji
DESCRIPTION:
URL:https://gobatroun.com/event/pilates-flow-with-nadia-at-darma-ji-10/
LOCATION:Darma Ji
CATEGORIES:Performing Arts,Sports
ATTACH;FMTTYPE=image/png:https://gobatroun.com/wp-content/uploads/2023/02/Screenshot-2759.png
END:VEVENT
BEGIN:VEVENT
DTSTART;TZID=Asia/Beirut:20230222T183000
DTEND;TZID=Asia/Beirut:20230222T190000
DTSTAMP:20260424T143933
CREATED:20230220T074739Z
LAST-MODIFIED:20230220T074739Z
UID:10001977-1677090600-1677092400@gobatroun.com
SUMMARY:Vinyasa Flow with Elisa at Darma Ji
DESCRIPTION:
URL:https://gobatroun.com/event/vinyasa-flow-with-elisa-at-darma-ji-6/
LOCATION:Darma Ji
CATEGORIES:Performing Arts,Sports
ATTACH;FMTTYPE=image/png:https://gobatroun.com/wp-content/uploads/2023/02/Screenshot-2759.png
END:VEVENT
BEGIN:VEVENT
DTSTART;TZID=Asia/Beirut:20230222T100000
DTEND;TZID=Asia/Beirut:20230222T230000
DTSTAMP:20260424T143933
CREATED:20230220T074712Z
LAST-MODIFIED:20230220T074712Z
UID:10001976-1677060000-1677106800@gobatroun.com
SUMMARY:Pilates with Maria at Darma Ji
DESCRIPTION:
URL:https://gobatroun.com/event/pilates-with-maria-at-darma-ji-13/
LOCATION:Darma Ji
CATEGORIES:Performing Arts,Sports
ATTACH;FMTTYPE=image/png:https://gobatroun.com/wp-content/uploads/2023/02/Screenshot-2759.png
END:VEVENT
BEGIN:VEVENT
DTSTART;TZID=Asia/Beirut:20230221T220000
DTEND;TZID=Asia/Beirut:20230221T220000
DTSTAMP:20260424T143933
CREATED:20230220T074518Z
LAST-MODIFIED:20230220T074518Z
UID:10001974-1677016800-1677016800@gobatroun.com
SUMMARY:Hatha Yoga with Olga at Darma Ji
DESCRIPTION:
URL:https://gobatroun.com/event/hatha-yoga-with-olga-at-darma-ji-3/
LOCATION:Darma Ji
CATEGORIES:Performing Arts
ATTACH;FMTTYPE=image/png:https://gobatroun.com/wp-content/uploads/2023/02/Screenshot-2759.png
END:VEVENT
BEGIN:VEVENT
DTSTART;TZID=Asia/Beirut:20230221T183000
DTEND;TZID=Asia/Beirut:20230221T193000
DTSTAMP:20260424T143933
CREATED:20230220T074620Z
LAST-MODIFIED:20230220T074620Z
UID:10001975-1677004200-1677007800@gobatroun.com
SUMMARY:Pilates Flow with Nadia at Darma Ji
DESCRIPTION:
URL:https://gobatroun.com/event/pilates-flow-with-nadia-at-darma-ji-9/
LOCATION:Darma Ji
CATEGORIES:Performing Arts,Sports
ATTACH;FMTTYPE=image/png:https://gobatroun.com/wp-content/uploads/2023/02/Screenshot-2759.png
END:VEVENT
BEGIN:VEVENT
DTSTART;TZID=Asia/Beirut:20230211T100000
DTEND;TZID=Asia/Beirut:20230211T110000
DTSTAMP:20260424T143933
CREATED:20230206T121911Z
LAST-MODIFIED:20230206T121911Z
UID:10001899-1676109600-1676113200@gobatroun.com
SUMMARY:Vinyasa Flow with Jana at Darma Ji
DESCRIPTION:
URL:https://gobatroun.com/event/vinyasa-flow-with-jana-at-darma-ji-4/
LOCATION:Darma Ji
CATEGORIES:Performing Arts,Sports
ATTACH;FMTTYPE=image/jpeg:https://gobatroun.com/wp-content/uploads/2023/01/WhatsApp-Image-2023-01-16-at-9.28.57-AM.jpeg
END:VEVENT
BEGIN:VEVENT
DTSTART;TZID=Asia/Beirut:20230210T183000
DTEND;TZID=Asia/Beirut:20230210T193000
DTSTAMP:20260424T143933
CREATED:20230206T121935Z
LAST-MODIFIED:20230206T121935Z
UID:10001900-1676053800-1676057400@gobatroun.com
SUMMARY:Gentle Flow with Jenny at Darma Ji
DESCRIPTION:
URL:https://gobatroun.com/event/gentle-flow-with-jenny-at-darma-ji-2/
LOCATION:Darma Ji
CATEGORIES:Performing Arts,Sports
ATTACH;FMTTYPE=image/jpeg:https://gobatroun.com/wp-content/uploads/2023/01/WhatsApp-Image-2023-01-30-at-10.51.36-AM.jpeg
END:VEVENT
BEGIN:VEVENT
DTSTART;TZID=Asia/Beirut:20230210T100000
DTEND;TZID=Asia/Beirut:20230210T230000
DTSTAMP:20260424T143933
CREATED:20230206T122001Z
LAST-MODIFIED:20230206T122001Z
UID:10001901-1676023200-1676070000@gobatroun.com
SUMMARY:Pilates with Maria at Darma Ji
DESCRIPTION:
URL:https://gobatroun.com/event/pilates-with-maria-at-darma-ji-12/
LOCATION:Darma Ji
CATEGORIES:Performing Arts,Sports
ATTACH;FMTTYPE=image/jpeg:https://gobatroun.com/wp-content/uploads/2023/01/WhatsApp-Image-2023-01-16-at-9.28.57-AM.jpeg
END:VEVENT
BEGIN:VEVENT
DTSTART;TZID=Asia/Beirut:20230209T183000
DTEND;TZID=Asia/Beirut:20230209T193000
DTSTAMP:20260424T143933
CREATED:20230206T122104Z
LAST-MODIFIED:20230206T122104Z
UID:10001902-1675967400-1675971000@gobatroun.com
SUMMARY:Pilates Flow with Nadia at Darma Ji
DESCRIPTION:
URL:https://gobatroun.com/event/pilates-flow-with-nadia-at-darma-ji-8/
LOCATION:Darma Ji
CATEGORIES:Performing Arts,Sports
ATTACH;FMTTYPE=image/jpeg:https://gobatroun.com/wp-content/uploads/2023/01/WhatsApp-Image-2023-01-16-at-9.28.57-AM.jpeg
END:VEVENT
BEGIN:VEVENT
DTSTART;TZID=Asia/Beirut:20230209T100000
DTEND;TZID=Asia/Beirut:20230209T110000
DTSTAMP:20260424T143933
CREATED:20230206T121826Z
LAST-MODIFIED:20230206T121826Z
UID:10001898-1675936800-1675940400@gobatroun.com
SUMMARY:Hatha Yoga with Bassem at Darma Ji
DESCRIPTION:
URL:https://gobatroun.com/event/hatha-yoga-with-bassem-at-darma-ji-11/
LOCATION:Darma Ji
CATEGORIES:Performing Arts
ATTACH;FMTTYPE=image/jpeg:https://gobatroun.com/wp-content/uploads/2023/01/WhatsApp-Image-2023-01-16-at-9.28.57-AM.jpeg
END:VEVENT
BEGIN:VEVENT
DTSTART;TZID=Asia/Beirut:20230208T183000
DTEND;TZID=Asia/Beirut:20230208T190000
DTSTAMP:20260424T143933
CREATED:20230206T121621Z
LAST-MODIFIED:20230206T121621Z
UID:10001897-1675881000-1675882800@gobatroun.com
SUMMARY:Vinyasa Flow with Elisa at Darma Ji
DESCRIPTION:
URL:https://gobatroun.com/event/vinyasa-flow-with-elisa-at-darma-ji-5/
LOCATION:Darma Ji
CATEGORIES:Performing Arts,Sports
ATTACH;FMTTYPE=image/jpeg:https://gobatroun.com/wp-content/uploads/2023/01/WhatsApp-Image-2023-01-16-at-9.28.57-AM.jpeg
END:VEVENT
BEGIN:VEVENT
DTSTART;TZID=Asia/Beirut:20230208T100000
DTEND;TZID=Asia/Beirut:20230208T230000
DTSTAMP:20260424T143933
CREATED:20230206T121536Z
LAST-MODIFIED:20230206T121536Z
UID:10001896-1675850400-1675897200@gobatroun.com
SUMMARY:Pilates with Maria at Darma Ji
DESCRIPTION:
URL:https://gobatroun.com/event/pilates-with-maria-at-darma-ji-11/
LOCATION:Darma Ji
CATEGORIES:Performing Arts,Sports
ATTACH;FMTTYPE=image/jpeg:https://gobatroun.com/wp-content/uploads/2023/01/WhatsApp-Image-2023-01-16-at-9.28.57-AM.jpeg
END:VEVENT
BEGIN:VEVENT
DTSTART;TZID=Asia/Beirut:20230207T183000
DTEND;TZID=Asia/Beirut:20230207T190000
DTSTAMP:20260424T143933
CREATED:20230206T121441Z
LAST-MODIFIED:20230206T121441Z
UID:10001895-1675794600-1675796400@gobatroun.com
SUMMARY:Pilates Flow with Nadia at Darma Ji
DESCRIPTION:
URL:https://gobatroun.com/event/pilates-flow-with-nadia-at-darma-ji-7/
LOCATION:Darma Ji
CATEGORIES:Performing Arts,Sports
ATTACH;FMTTYPE=image/jpeg:https://gobatroun.com/wp-content/uploads/2023/01/WhatsApp-Image-2023-01-16-at-9.28.57-AM.jpeg
END:VEVENT
END:VCALENDAR