BEGIN:VCALENDAR
VERSION:2.0
PRODID:-//Go Batroun - ECPv6.14.2//NONSGML v1.0//EN
CALSCALE:GREGORIAN
METHOD:PUBLISH
X-WR-CALNAME:Go Batroun
X-ORIGINAL-URL:https://gobatroun.com
X-WR-CALDESC:Events for Go Batroun
REFRESH-INTERVAL;VALUE=DURATION:PT1H
X-Robots-Tag:noindex
X-PUBLISHED-TTL:PT1H
BEGIN:VTIMEZONE
TZID:Asia/Beirut
BEGIN:DAYLIGHT
TZOFFSETFROM:+0200
TZOFFSETTO:+0300
TZNAME:EEST
DTSTART:20220326T220000
END:DAYLIGHT
BEGIN:STANDARD
TZOFFSETFROM:+0300
TZOFFSETTO:+0200
TZNAME:EET
DTSTART:20221029T210000
END:STANDARD
END:VTIMEZONE
BEGIN:VEVENT
DTSTART;TZID=Asia/Beirut:20220706T193000
DTEND;TZID=Asia/Beirut:20220706T193000
DTSTAMP:20260425T191906
CREATED:20220705T091017Z
LAST-MODIFIED:20220705T093538Z
UID:10000802-1657135800-1657135800@gobatroun.com
SUMMARY:Ingrid at Casa Cartel
DESCRIPTION:Ladies and gents! This Wednesday we’re hosting the remarkable @ingridnaccour for a live performance!\nBook your spots! Phone 📞71000599
URL:https://gobatroun.com/event/ingrid-at-casa-cartel/
LOCATION:Casa Cartel Batroun
CATEGORIES:Performing Arts
ATTACH;FMTTYPE=image/png:https://gobatroun.com/wp-content/uploads/2022/07/Screenshot-879.png
END:VEVENT
BEGIN:VEVENT
DTSTART;TZID=Asia/Beirut:20220702T170000
DTEND;TZID=Asia/Beirut:20220702T170000
DTSTAMP:20260425T191906
CREATED:20220628T073606Z
LAST-MODIFIED:20220628T074252Z
UID:10000787-1656781200-1656781200@gobatroun.com
SUMMARY:DJ Lum at Casa Cartel
DESCRIPTION:We are ready for you @iamlum!\nAfter the success of our opening magical night with Laolu\, get ready for our second International Dj event\, this Saturday starting 5 pm onwards.
URL:https://gobatroun.com/event/dj-lum-at-casa-cartel/
LOCATION:Casa Cartel Batroun
CATEGORIES:Performing Arts
ATTACH;FMTTYPE=image/png:https://gobatroun.com/wp-content/uploads/2022/06/Screenshot-807.png
END:VEVENT
BEGIN:VEVENT
DTSTART;TZID=Asia/Beirut:20220630T190000
DTEND;TZID=Asia/Beirut:20220630T190000
DTSTAMP:20260425T191906
CREATED:20220630T100001Z
LAST-MODIFIED:20220630T100001Z
UID:10000886-1656615600-1656615600@gobatroun.com
SUMMARY:Yoga with Darmaji Batroun at Casa Cartel
DESCRIPTION:This Thursday\, yoga 🧘‍♂️ Yoga class happening beyond the mat\, beyond closed space\, by the beach 🏖 by the sea 🌊 by the waves by the sun 🌞 & the moon 🌙 .\nYour journey of the self\, through the self\, to the self.\nJoin us at 7 pm at Casa Cartel’s beach deck with @darmaji_batroun to start the night right. Bring your mats!
URL:https://gobatroun.com/event/yoga-with-darmaji-batroun-at-casa-cartel/
LOCATION:Casa Cartel Batroun
CATEGORIES:Sports
ATTACH;FMTTYPE=image/png:https://gobatroun.com/wp-content/uploads/2022/06/Screenshot-846.png
END:VEVENT
BEGIN:VEVENT
DTSTART;TZID=Asia/Beirut:20220629T180000
DTEND;TZID=Asia/Beirut:20220629T180000
DTSTAMP:20260425T191906
CREATED:20220628T075356Z
LAST-MODIFIED:20220628T080158Z
UID:10000789-1656525600-1656525600@gobatroun.com
SUMMARY:Joy Fayad at Casa Cartel
DESCRIPTION:Enjoy a sensational talented artist & performer @joy_fayad and her band this Wednesday 🌅 at Casa Cartel in @bebatroun hotel.\nCome for sunset and drinks\, stay for dinner and the band ✨
URL:https://gobatroun.com/event/joy-fayad-at-casa-cartel/
LOCATION:Casa Cartel Batroun
CATEGORIES:Performing Arts
ATTACH;FMTTYPE=image/png:https://gobatroun.com/wp-content/uploads/2022/06/Screenshot-810.png
END:VEVENT
BEGIN:VEVENT
DTSTART;TZID=Asia/Beirut:20220625T180000
DTEND;TZID=Asia/Beirut:20220625T180000
DTSTAMP:20260425T191906
CREATED:20220624T083110Z
LAST-MODIFIED:20220624T083110Z
UID:10000884-1656180000-1656180000@gobatroun.com
SUMMARY:Mashrikmusic and Charlyhakim in Casa Cartel
DESCRIPTION:Shining on you all day long.\nEnjoy a full day of sun\, smiles\, great food\, and drinks with @mashrikmusic @charlyhakim
URL:https://gobatroun.com/event/mashrikmusic-and-charlyhakim-in-casa-cartel/
LOCATION:Casa Cartel Batroun
CATEGORIES:Performing Arts
ATTACH;FMTTYPE=image/png:https://gobatroun.com/wp-content/uploads/2022/06/Screenshot-51.png
END:VEVENT
BEGIN:VEVENT
DTSTART;TZID=Asia/Beirut:20220622T200000
DTEND;TZID=Asia/Beirut:20220622T200000
DTSTAMP:20260425T191906
CREATED:20220621T094627Z
LAST-MODIFIED:20220621T100815Z
UID:10000875-1655928000-1655928000@gobatroun.com
SUMMARY:Edwin & The Obas
DESCRIPTION:Meet us in Casa Cartel This #BeLive with Edwin & the Obas !
URL:https://gobatroun.com/event/edwin-the-obas/
LOCATION:Casa Cartel Batroun
CATEGORIES:Performing Arts
ATTACH;FMTTYPE=image/png:https://gobatroun.com/wp-content/uploads/2022/06/Screenshot-37.png
END:VEVENT
BEGIN:VEVENT
DTSTART;TZID=Asia/Beirut:20220618T193000
DTEND;TZID=Asia/Beirut:20220618T233000
DTSTAMP:20260425T191906
CREATED:20220617T125636Z
LAST-MODIFIED:20220617T125636Z
UID:10000870-1655580600-1655595000@gobatroun.com
SUMMARY:Be Sun Sets with DJ AM & Romax
DESCRIPTION:Vibing it all day long this Saturday with @romaxbeirut and @mardinijad\n#bebatroun #casacartel #besunsets #inbatroun
URL:https://gobatroun.com/event/be-sun-sets-with-dj-am-romax/
LOCATION:Casa Cartel Batroun
CATEGORIES:Performing Arts
ATTACH;FMTTYPE=image/png:https://gobatroun.com/wp-content/uploads/2022/06/Screenshot-766.png
END:VEVENT
BEGIN:VEVENT
DTSTART;TZID=Asia/Beirut:20220615T200000
DTEND;TZID=Asia/Beirut:20220615T233000
DTSTAMP:20260425T191906
CREATED:20220613T115044Z
LAST-MODIFIED:20220620T102333Z
UID:10000837-1655323200-1655335800@gobatroun.com
SUMMARY:Be Live 
DESCRIPTION:This Wednesday\, #BeLive with the showstoppers @ingridbawab @amysmackdaddy\n#casacartel #bebatroun #belive
URL:https://gobatroun.com/event/be-live-2/
LOCATION:Casa Cartel Batroun
CATEGORIES:Performing Arts
ATTACH;FMTTYPE=image/png:https://gobatroun.com/wp-content/uploads/2022/06/Screenshot-751.png
END:VEVENT
BEGIN:VEVENT
DTSTART;TZID=Asia/Beirut:20220608T210000
DTEND;TZID=Asia/Beirut:20220609T000000
DTSTAMP:20260425T191906
CREATED:20220608T131120Z
LAST-MODIFIED:20220615T060814Z
UID:10000828-1654722000-1654732800@gobatroun.com
SUMMARY:BE LIVE
DESCRIPTION:We’ll be counting stars with #BELIVE this Wednesday with @bernard_najm & @nour_nimri with stunning vocals and performances 🎸 🎙
URL:https://gobatroun.com/event/be-live/
LOCATION:Casa Cartel Batroun
CATEGORIES:Performing Arts
ATTACH;FMTTYPE=image/png:https://gobatroun.com/wp-content/uploads/2022/06/Screenshot-729.png
END:VEVENT
END:VCALENDAR