BEGIN:VCALENDAR
VERSION:2.0
PRODID:-//Go Batroun - ECPv6.14.2//NONSGML v1.0//EN
CALSCALE:GREGORIAN
METHOD:PUBLISH
X-ORIGINAL-URL:https://gobatroun.com
X-WR-CALDESC:Events for Go Batroun
REFRESH-INTERVAL;VALUE=DURATION:PT1H
X-Robots-Tag:noindex
X-PUBLISHED-TTL:PT1H
BEGIN:VTIMEZONE
TZID:Asia/Beirut
BEGIN:DAYLIGHT
TZOFFSETFROM:+0200
TZOFFSETTO:+0300
TZNAME:EEST
DTSTART:20230325T220000
END:DAYLIGHT
BEGIN:STANDARD
TZOFFSETFROM:+0300
TZOFFSETTO:+0200
TZNAME:EET
DTSTART:20231028T210000
END:STANDARD
END:VTIMEZONE
BEGIN:VEVENT
DTSTART;TZID=Asia/Beirut:20230811T220000
DTEND;TZID=Asia/Beirut:20230811T220000
DTSTAMP:20260423T231329
CREATED:20230807T113723Z
LAST-MODIFIED:20230807T113723Z
UID:10004517-1691791200-1691791200@gobatroun.com
SUMMARY:Dj T-Mak at BluBay
DESCRIPTION:
URL:https://gobatroun.com/event/dj-t-mak-at-blubay/
LOCATION:Blu Bay Batroun\, 6MW6+QJ Batroun\, Batroun\, Lebanon
CATEGORIES:Performing Arts
ATTACH;FMTTYPE=image/png:https://gobatroun.com/wp-content/uploads/2023/08/Screenshot-1670.png
END:VEVENT
BEGIN:VEVENT
DTSTART;TZID=Asia/Beirut:20230806T140000
DTEND;TZID=Asia/Beirut:20230806T170000
DTSTAMP:20260423T231329
CREATED:20230802T060001Z
LAST-MODIFIED:20230802T060001Z
UID:10004487-1691330400-1691341200@gobatroun.com
SUMMARY:Grub and Groove at BluBay
DESCRIPTION:Flavorful experience with Grub and groove this Sunday!
URL:https://gobatroun.com/event/grub-and-groove-at-blubay/
LOCATION:Blu Bay Batroun\, 6MW6+QJ Batroun\, Batroun\, Lebanon
CATEGORIES:Performing Arts
ATTACH;FMTTYPE=image/png:https://gobatroun.com/wp-content/uploads/2023/08/Screenshot-1562.png
END:VEVENT
BEGIN:VEVENT
DTSTART;TZID=Asia/Beirut:20230805T200000
DTEND;TZID=Asia/Beirut:20230805T200000
DTSTAMP:20260423T231329
CREATED:20230801T082227Z
LAST-MODIFIED:20230801T082227Z
UID:10004453-1691265600-1691265600@gobatroun.com
SUMMARY:Ralph Nasr\, Allen Behlok\, and Mario Zouein at BluBay
DESCRIPTION:
URL:https://gobatroun.com/event/ralph-nasr-allen-behlok-and-mario-zouein-at-blubay/
LOCATION:Blu Bay Batroun\, 6MW6+QJ Batroun\, Batroun\, Lebanon
CATEGORIES:Performing Arts
ATTACH;FMTTYPE=image/png:https://gobatroun.com/wp-content/uploads/2023/08/Screenshot-1544.png
END:VEVENT
BEGIN:VEVENT
DTSTART;TZID=Asia/Beirut:20230803T220000
DTEND;TZID=Asia/Beirut:20230803T220000
DTSTAMP:20260423T231329
CREATED:20230731T110532Z
LAST-MODIFIED:20230731T110614Z
UID:10004438-1691100000-1691100000@gobatroun.com
SUMMARY:Binky Band at BluBay
DESCRIPTION:
URL:https://gobatroun.com/event/binky-band-at-blubay/
LOCATION:Blu Bay Batroun\, 6MW6+QJ Batroun\, Batroun\, Lebanon
CATEGORIES:Performing Arts
ATTACH;FMTTYPE=image/png:https://gobatroun.com/wp-content/uploads/2023/07/Screenshot-1530.png
END:VEVENT
BEGIN:VEVENT
DTSTART;TZID=Asia/Beirut:20230730T210000
DTEND;TZID=Asia/Beirut:20230730T210000
DTSTAMP:20260423T231329
CREATED:20230725T100530Z
LAST-MODIFIED:20230725T100530Z
UID:10004393-1690750800-1690750800@gobatroun.com
SUMMARY:Domingo: Deuces at BluBay
DESCRIPTION:
URL:https://gobatroun.com/event/domingo-deuces-at-blubay-2/
LOCATION:Blu Bay Batroun\, 6MW6+QJ Batroun\, Batroun\, Lebanon
CATEGORIES:Performing Arts
ATTACH;FMTTYPE=image/png:https://gobatroun.com/wp-content/uploads/2023/07/Screenshot-1482.png
END:VEVENT
BEGIN:VEVENT
DTSTART;TZID=Asia/Beirut:20230729T210000
DTEND;TZID=Asia/Beirut:20230729T210000
DTSTAMP:20260423T231329
CREATED:20230725T100332Z
LAST-MODIFIED:20230725T100332Z
UID:10004392-1690664400-1690664400@gobatroun.com
SUMMARY:Dj Audiokult\, Dj Geed\, and Dj Bob at BluBay
DESCRIPTION:
URL:https://gobatroun.com/event/dj-audiokult-dj-geed-and-dj-bob-at-blubay/
LOCATION:Blu Bay Batroun\, 6MW6+QJ Batroun\, Batroun\, Lebanon
CATEGORIES:Performing Arts
ATTACH;FMTTYPE=image/png:https://gobatroun.com/wp-content/uploads/2023/07/Screenshot-1482.png
END:VEVENT
BEGIN:VEVENT
DTSTART;TZID=Asia/Beirut:20230728T210000
DTEND;TZID=Asia/Beirut:20230728T210000
DTSTAMP:20260423T231329
CREATED:20230725T100036Z
LAST-MODIFIED:20230725T100036Z
UID:10004391-1690578000-1690578000@gobatroun.com
SUMMARY:Retro Elecktro at BluBay
DESCRIPTION:
URL:https://gobatroun.com/event/retro-elecktro-at-blubay/
LOCATION:Blu Bay Batroun\, 6MW6+QJ Batroun\, Batroun\, Lebanon
CATEGORIES:Performing Arts
ATTACH;FMTTYPE=image/png:https://gobatroun.com/wp-content/uploads/2023/07/Screenshot-1481.png
END:VEVENT
BEGIN:VEVENT
DTSTART;TZID=Asia/Beirut:20230723T210000
DTEND;TZID=Asia/Beirut:20230723T210000
DTSTAMP:20260423T231329
CREATED:20230718T163835Z
LAST-MODIFIED:20230718T163835Z
UID:10004362-1690146000-1690146000@gobatroun.com
SUMMARY:Domingo: Deuces at BluBay
DESCRIPTION:
URL:https://gobatroun.com/event/domingo-deuces-at-blubay/
LOCATION:Blu Bay Batroun\, 6MW6+QJ Batroun\, Batroun\, Lebanon
CATEGORIES:Performing Arts
ATTACH;FMTTYPE=image/png:https://gobatroun.com/wp-content/uploads/2023/07/Screenshot-1443.png
END:VEVENT
BEGIN:VEVENT
DTSTART;TZID=Asia/Beirut:20230722T210000
DTEND;TZID=Asia/Beirut:20230722T210000
DTSTAMP:20260423T231329
CREATED:20230718T163618Z
LAST-MODIFIED:20230718T163618Z
UID:10004361-1690059600-1690059600@gobatroun.com
SUMMARY:Dj Ziad Ghosn\, Dj Mel\, and Dj Jom & Terry at BluBay
DESCRIPTION:
URL:https://gobatroun.com/event/dj-ziad-ghosn-dj-mel-and-dj-jom-terry-at-blubay/
LOCATION:Blu Bay Batroun\, 6MW6+QJ Batroun\, Batroun\, Lebanon
CATEGORIES:Performing Arts
ATTACH;FMTTYPE=image/png:https://gobatroun.com/wp-content/uploads/2023/07/Screenshot-1443.png
END:VEVENT
BEGIN:VEVENT
DTSTART;TZID=Asia/Beirut:20230721T210000
DTEND;TZID=Asia/Beirut:20230721T210000
DTSTAMP:20260423T231329
CREATED:20230718T163153Z
LAST-MODIFIED:20230718T163153Z
UID:10004360-1689973200-1689973200@gobatroun.com
SUMMARY:Clout Fest at BluBay
DESCRIPTION:
URL:https://gobatroun.com/event/clout-fest-at-blubay/
LOCATION:Blu Bay Batroun\, 6MW6+QJ Batroun\, Batroun\, Lebanon
CATEGORIES:Performing Arts
ATTACH;FMTTYPE=image/png:https://gobatroun.com/wp-content/uploads/2023/07/Screenshot-1442.png
END:VEVENT
BEGIN:VEVENT
DTSTART;TZID=Asia/Beirut:20230715T190000
DTEND;TZID=Asia/Beirut:20230715T190000
DTSTAMP:20260423T231329
CREATED:20230713T111502Z
LAST-MODIFIED:20230713T111502Z
UID:10004254-1689447600-1689447600@gobatroun.com
SUMMARY:Jason Kaakouch\, Chordal\, and Jnyfr at BlyBay
DESCRIPTION:
URL:https://gobatroun.com/event/jason-kaakouch-chordal-and-jnyfr-at-blybay/
LOCATION:Blu Bay Batroun\, 6MW6+QJ Batroun\, Batroun\, Lebanon
CATEGORIES:Performing Arts
ATTACH;FMTTYPE=image/png:https://gobatroun.com/wp-content/uploads/2023/07/Screenshot-1347.png
END:VEVENT
BEGIN:VEVENT
DTSTART;TZID=Asia/Beirut:20230708T080000
DTEND;TZID=Asia/Beirut:20230708T170000
DTSTAMP:20260423T231329
CREATED:20230713T080438Z
LAST-MODIFIED:20230713T100358Z
UID:10004234-1688803200-1688835600@gobatroun.com
SUMMARY:Peachpuff Showcase and Chevry Agency at BluBay
DESCRIPTION:Peachpuff is creating waves this summer for you partygoers\, and our sea friends🦈 couldn’t resist the hype either. Hosting a new showcase\, in collaboration with up and coming\, French powerhouse @chevry_agency . We’re inviting over the infamous @vitess.music and @occibel___ for a lethal night at @blubay.batroun . Curated food\, cocktails\, and merch from Occibel’s @roulade.records and Vitess’s @retro_futura_records will be up for grabs. We’ll be kicking it off at sunset with some of Beirut’s very own @rita_ha @roningrooves @eli_atala @sergenasr_ @karen.sakr and @markhadife. Stay tuned for exciting announcements on the many things you’ll experience Saturday\, July 8.
URL:https://gobatroun.com/event/peachpuff-showcase-and-chevry-agency-at-blubay-3/
LOCATION:Blu Bay Batroun\, 6MW6+QJ Batroun\, Batroun\, Lebanon
CATEGORIES:Performing Arts
ATTACH;FMTTYPE=image/png:https://gobatroun.com/wp-content/uploads/2023/07/Screenshot-1203.png
END:VEVENT
BEGIN:VEVENT
DTSTART;TZID=Asia/Beirut:20230702T200000
DTEND;TZID=Asia/Beirut:20230702T200000
DTSTAMP:20260423T231329
CREATED:20230713T080438Z
LAST-MODIFIED:20230713T082330Z
UID:10003974-1688328000-1688328000@gobatroun.com
SUMMARY:Dj RaM and Dj Sergï at BluBay
DESCRIPTION:
URL:https://gobatroun.com/event/dj-ram-and-dj-sergi-at-blubay-2/
LOCATION:Blu Bay Batroun\, 6MW6+QJ Batroun\, Batroun\, Lebanon
CATEGORIES:Performing Arts
ATTACH;FMTTYPE=image/png:https://gobatroun.com/wp-content/uploads/2023/07/Screenshot-1201.png
END:VEVENT
BEGIN:VEVENT
DTSTART;TZID=Asia/Beirut:20230701T200000
DTEND;TZID=Asia/Beirut:20230701T200000
DTSTAMP:20260423T231329
CREATED:20230713T080426Z
LAST-MODIFIED:20230713T082642Z
UID:10003993-1688241600-1688241600@gobatroun.com
SUMMARY:Hrag Mikkel and Peter Reaich at BluBay
DESCRIPTION:
URL:https://gobatroun.com/event/hrag-mikkel-and-peter-reaich-at-blubay-2/
LOCATION:Blu Bay Batroun\, 6MW6+QJ Batroun\, Batroun\, Lebanon
CATEGORIES:Performing Arts
ATTACH;FMTTYPE=image/png:https://gobatroun.com/wp-content/uploads/2023/07/Screenshot-1201.png
END:VEVENT
BEGIN:VEVENT
DTSTART;TZID=Asia/Beirut:20230630T200000
DTEND;TZID=Asia/Beirut:20230630T200000
DTSTAMP:20260423T231329
CREATED:20230713T080426Z
LAST-MODIFIED:20230713T083839Z
UID:10004013-1688155200-1688155200@gobatroun.com
SUMMARY:Dj Rea\, Dj Whoisbibz\, and Dj Nad!Ne at BluBay
DESCRIPTION:
URL:https://gobatroun.com/event/dj-rea-dj-whoisbibz-and-dj-nadne-at-blubay-2/
LOCATION:Blu Bay Batroun\, 6MW6+QJ Batroun\, Batroun\, Lebanon
CATEGORIES:Performing Arts
ATTACH;FMTTYPE=image/png:https://gobatroun.com/wp-content/uploads/2023/07/Screenshot-1201.png
END:VEVENT
BEGIN:VEVENT
DTSTART;TZID=Asia/Beirut:20230629T200000
DTEND;TZID=Asia/Beirut:20230629T200000
DTSTAMP:20260423T231329
CREATED:20230713T080358Z
LAST-MODIFIED:20230713T085834Z
UID:10004051-1688068800-1688068800@gobatroun.com
SUMMARY:Edwin G Arida\, klôrofil\, Alessandra\, Melow\, RA+RE\, karen and Chirak at BluBay
DESCRIPTION:Summer is finally here and our Lebanese hibernation has come to an end 🌞🪸\nAlso\, we’ve all been craving a good breakfast by the beach.🥓🍳 \nTo properly celebrate our 6th birthday\, we’re firing up a heavy-weight roster featuring @melowlow from the French label @rare.fr \, supported by a big local bunch with @alessandraziade \, @chloeatallah \, @karen.sakr \, @edwinarida and @chirak1989 🚀 \nHappening in @blubay.batroun on Thursday the 29th of June (Friday is a public holiday) 🌊 \nWe start just before sunset and finish at sunrise 🌅 \nLimited Wave 1 ticket link in bio 🪐 \nArtwork @shelleeedee ✨
URL:https://gobatroun.com/event/edwin-g-arida-klorofil-alessandra-melow-rare-karen-and-chirak-at-blubay-2/
LOCATION:Blu Bay Batroun\, 6MW6+QJ Batroun\, Batroun\, Lebanon
CATEGORIES:Performing Arts
ATTACH;FMTTYPE=image/png:https://gobatroun.com/wp-content/uploads/2023/07/Screenshot-1035.png
END:VEVENT
BEGIN:VEVENT
DTSTART;TZID=Asia/Beirut:20230625T200000
DTEND;TZID=Asia/Beirut:20230625T200000
DTSTAMP:20260423T231329
CREATED:20230713T080347Z
LAST-MODIFIED:20230713T090105Z
UID:10004064-1687723200-1687723200@gobatroun.com
SUMMARY:Retrogroove at BluBay
DESCRIPTION:You didn’t think we’d let June go by without scheduling our next beach date\, did you? 🔥👅 \nWe’re taking over @blubay.batroun on June 25th for a different kind of sunny sultry affair ☀️ \n🎫 You can get your pre-sale tickets through the link in the bio. \n🌴 This is an all-day beach access with many activities to be announced soon! \n📞 For table bookings\, hit us up at +961 81 800 421 \n–\nDesigned by @chameleoncreates_
URL:https://gobatroun.com/event/retrogroove-at-blubay-2/
LOCATION:Blu Bay Batroun\, 6MW6+QJ Batroun\, Batroun\, Lebanon
CATEGORIES:Performing Arts
ATTACH;FMTTYPE=image/png:https://gobatroun.com/wp-content/uploads/2023/07/Screenshot-1022.png
END:VEVENT
BEGIN:VEVENT
DTSTART;TZID=Asia/Beirut:20230624T200000
DTEND;TZID=Asia/Beirut:20230624T200000
DTSTAMP:20260423T231329
CREATED:20230713T080347Z
LAST-MODIFIED:20230713T090656Z
UID:10004087-1687636800-1687636800@gobatroun.com
SUMMARY:BoB\, Joey and Pablo Abouzeid at BluBay
DESCRIPTION:
URL:https://gobatroun.com/event/bob-joey-and-pablo-abouzeid-at-blubay-2/
LOCATION:Blu Bay Batroun\, 6MW6+QJ Batroun\, Batroun\, Lebanon
CATEGORIES:Performing Arts
ATTACH;FMTTYPE=image/png:https://gobatroun.com/wp-content/uploads/2023/07/Screenshot-1023.png
END:VEVENT
BEGIN:VEVENT
DTSTART;TZID=Asia/Beirut:20230623T200000
DTEND;TZID=Asia/Beirut:20230623T200000
DTSTAMP:20260423T231329
CREATED:20230713T080347Z
LAST-MODIFIED:20230713T091250Z
UID:10004134-1687550400-1687550400@gobatroun.com
SUMMARY:MΛDJΛM\, Sergï and Joseph Bitar at BluBay
DESCRIPTION:
URL:https://gobatroun.com/event/m%ce%bbdj%ce%bbm-sergi-and-joseph-bitar-at-blubay-2/
LOCATION:Blu Bay Batroun\, 6MW6+QJ Batroun\, Batroun\, Lebanon
CATEGORIES:Performing Arts
ATTACH;FMTTYPE=image/png:https://gobatroun.com/wp-content/uploads/2023/07/Screenshot-1023.png
END:VEVENT
BEGIN:VEVENT
DTSTART;TZID=Asia/Beirut:20230618T200000
DTEND;TZID=Asia/Beirut:20230618T200000
DTSTAMP:20260423T231329
CREATED:20230713T080322Z
LAST-MODIFIED:20230713T092154Z
UID:10004192-1687118400-1687118400@gobatroun.com
SUMMARY:Deuces at BluBay
DESCRIPTION:
URL:https://gobatroun.com/event/deuces-at-blubay-3/
LOCATION:Blu Bay Batroun\, 6MW6+QJ Batroun\, Batroun\, Lebanon
CATEGORIES:Performing Arts
ATTACH;FMTTYPE=image/png:https://gobatroun.com/wp-content/uploads/2023/07/Screenshot-968.png
END:VEVENT
BEGIN:VEVENT
DTSTART;TZID=Asia/Beirut:20230617T210000
DTEND;TZID=Asia/Beirut:20230617T210000
DTSTAMP:20260423T231329
CREATED:20230713T080322Z
LAST-MODIFIED:20230713T092330Z
UID:10004199-1687035600-1687035600@gobatroun.com
SUMMARY:Audiokult\, Tanyeah\, and Mel at BluBay
DESCRIPTION:Saturday\, June 17th is where it’s at! Dance along to the beats of Audiokult\, Tanyeah\, and Mel while you enjoy a cool drink by the beach. \nNight reservations: 70 436244\nDay reservations: 76 149 944
URL:https://gobatroun.com/event/audiokult-tanyeah-and-mel-at-blubay-2/
LOCATION:Blu Bay Batroun\, 6MW6+QJ Batroun\, Batroun\, Lebanon
CATEGORIES:Performing Arts
ATTACH;FMTTYPE=image/png:https://gobatroun.com/wp-content/uploads/2023/07/Screenshot-966.png
END:VEVENT
BEGIN:VEVENT
DTSTART;TZID=Asia/Beirut:20230616T210000
DTEND;TZID=Asia/Beirut:20230616T210000
DTSTAMP:20260423T231329
CREATED:20230713T080322Z
LAST-MODIFIED:20230713T092430Z
UID:10004208-1686949200-1686949200@gobatroun.com
SUMMARY:Elias Merheb\, Raphael Merheb\, Ralph Nasr\, and Eli Atala at BluBay
DESCRIPTION:Behold the 16th of June when the goats of Lebanon’s music scene gather to deliver the dooziest sets straight back to back. Co-founders @3liasofficial and @raphaelmerheb of @atribecalledtribeofficial\, @retrogroove_ co-founder @ralph.nasr\, and @peachpuffagency ‘s @eli_atala will be creating waves all night long. It’s about time we partygoers celebrated these OGs and what they’ve pioneered in the industry. Witness the finest of these old-school selectors next Friday at Blubay.
URL:https://gobatroun.com/event/elias-merheb-raphael-merheb-ralph-nasr-and-eli-atala-at-blubay-2/
LOCATION:Blu Bay Batroun\, 6MW6+QJ Batroun\, Batroun\, Lebanon
CATEGORIES:Performing Arts
ATTACH;FMTTYPE=image/png:https://gobatroun.com/wp-content/uploads/2023/07/Screenshot-967.png
END:VEVENT
BEGIN:VEVENT
DTSTART;TZID=Asia/Beirut:20230611T200000
DTEND;TZID=Asia/Beirut:20230611T200000
DTSTAMP:20260423T231329
CREATED:20230606T144101Z
LAST-MODIFIED:20230713T100237Z
UID:10003535-1686513600-1686513600@gobatroun.com
SUMMARY:Deuces at BluBay
DESCRIPTION:
URL:https://gobatroun.com/event/deuces-at-blubay/
LOCATION:Blu Bay Batroun\, 6MW6+QJ Batroun\, Batroun\, Lebanon
CATEGORIES:Performing Arts
ATTACH;FMTTYPE=image/png:https://gobatroun.com/wp-content/uploads/2023/06/Screenshot-911.png
END:VEVENT
BEGIN:VEVENT
DTSTART;TZID=Asia/Beirut:20230610T200000
DTEND;TZID=Asia/Beirut:20230610T200000
DTSTAMP:20260423T231329
CREATED:20230606T143950Z
LAST-MODIFIED:20230713T100627Z
UID:10003534-1686427200-1686427200@gobatroun.com
SUMMARY:Allen Behlok\, C/EL and karen at BluBay
DESCRIPTION:
URL:https://gobatroun.com/event/allen-behlok-c-el-and-karen-at-blubay/
LOCATION:Blu Bay Batroun\, 6MW6+QJ Batroun\, Batroun\, Lebanon
CATEGORIES:Performing Arts
ATTACH;FMTTYPE=image/png:https://gobatroun.com/wp-content/uploads/2023/06/Screenshot-911.png
END:VEVENT
BEGIN:VEVENT
DTSTART;TZID=Asia/Beirut:20230609T190000
DTEND;TZID=Asia/Beirut:20230609T190000
DTSTAMP:20260423T231329
CREATED:20230606T143644Z
LAST-MODIFIED:20230713T100900Z
UID:10003533-1686337200-1686337200@gobatroun.com
SUMMARY:Manu Strasse\, Whale\, and Hasan Awada at Blubay
DESCRIPTION:Join us at Blubay Batroun on Friday\, June 9th for an evening of music featuring Manu Strasse\, Whale\, and Hasan Awada. Experience their universe as they take the stage and create a captivating atmosphere. See you there!
URL:https://gobatroun.com/event/manu-strasse-whale-and-hasan-awada-at-blubay/
LOCATION:Blu Bay Batroun\, 6MW6+QJ Batroun\, Batroun\, Lebanon
CATEGORIES:Performing Arts
ATTACH;FMTTYPE=image/png:https://gobatroun.com/wp-content/uploads/2023/06/Screenshot-910.png
END:VEVENT
BEGIN:VEVENT
DTSTART;TZID=Asia/Beirut:20230604T153000
DTEND;TZID=Asia/Beirut:20230604T180000
DTSTAMP:20260423T231329
CREATED:20230530T133645Z
LAST-MODIFIED:20230602T144048Z
UID:10003373-1685892600-1685901600@gobatroun.com
SUMMARY:Deuces at Blu Bay
DESCRIPTION:Discover the world of Afro rhythms and immerse yourself in the captivating melodies as Deuces takes the stage this Sunday at 3:30 PM. See you there! \nNight reservations: 70 436 244\nDay reservations: 76 149 944 \nNight reservations: 70 436 244\nDay reservations: 76 149 944
URL:https://gobatroun.com/event/deuces-at-blu-bay/
LOCATION:Blu Bay Batroun\, 6MW6+QJ Batroun\, Batroun\, Lebanon
CATEGORIES:Performing Arts
ATTACH;FMTTYPE=image/png:https://gobatroun.com/wp-content/uploads/2023/05/Screenshot-891.png
END:VEVENT
BEGIN:VEVENT
DTSTART;TZID=Asia/Beirut:20230603T180000
DTEND;TZID=Asia/Beirut:20230603T180000
DTSTAMP:20260423T231329
CREATED:20230530T133531Z
LAST-MODIFIED:20230602T144109Z
UID:10003372-1685815200-1685815200@gobatroun.com
SUMMARY:Jom and Terry\, TIA and Joeyat Blu Bay
DESCRIPTION:Get ready to be captivated and transported on a musical journey like no other\, with Jom & Terry\, Tia and Joey! Unleash your inner rhythm and join us this Saturday at Blubay. \n\nNight reservations: 70 436 244\nDay reservations: 76 149 944
URL:https://gobatroun.com/event/jom-and-terry-tia-and-joeyat-blu-bay/
LOCATION:Blu Bay Batroun\, 6MW6+QJ Batroun\, Batroun\, Lebanon
CATEGORIES:Performing Arts
ATTACH;FMTTYPE=image/png:https://gobatroun.com/wp-content/uploads/2023/05/Screenshot-890.png
END:VEVENT
BEGIN:VEVENT
DTSTART;TZID=Asia/Beirut:20230602T220000
DTEND;TZID=Asia/Beirut:20230602T220000
DTSTAMP:20260423T231329
CREATED:20230530T133340Z
LAST-MODIFIED:20230602T144156Z
UID:10003371-1685743200-1685743200@gobatroun.com
SUMMARY:Romaxbeirut\, 1 con nu\, Monokultur\, Eli Atala and San at Blu Bay
DESCRIPTION:Get ready for an exciting weekend ahead at Blubay\, as we give you a sneak peek of what’s in store. Get ready for amazing music\, accompanied by refreshing drinks. Join us on Friday\, June 2 for an unforgettable experience. We can’t wait to see your happy faces dancing along Batroun’s sandy beach. \nFor Reservations:\nNight events: 70 436 244\nDay events: 76 149 944
URL:https://gobatroun.com/event/romaxbeirut-1-con-nu-monokultur-eli-atala-and-san-at-blu-bay/
LOCATION:Blu Bay Batroun\, 6MW6+QJ Batroun\, Batroun\, Lebanon
CATEGORIES:Performing Arts
ATTACH;FMTTYPE=image/png:https://gobatroun.com/wp-content/uploads/2023/05/Screenshot-889.png
END:VEVENT
BEGIN:VEVENT
DTSTART;TZID=Asia/Beirut:20230527T200000
DTEND;TZID=Asia/Beirut:20230527T200000
DTSTAMP:20260423T231329
CREATED:20230523T134206Z
LAST-MODIFIED:20230523T134313Z
UID:10002405-1685217600-1685217600@gobatroun.com
SUMMARY:Amy Smack Daddy at Blubay
DESCRIPTION:From Qatar to France\, Amy Smack Daddy have pleased audiences in Lebanon and all over the world.\nAnd they’re sharing their music with Blubay on Saturday night! \nBook your places today on the numbers in bio.
URL:https://gobatroun.com/event/amy-smack-daddy-at-blubay/
LOCATION:Blu Bay Batroun\, 6MW6+QJ Batroun\, Batroun\, Lebanon
CATEGORIES:Performing Arts
ATTACH;FMTTYPE=image/png:https://gobatroun.com/wp-content/uploads/2023/05/Screenshot-808.png
END:VEVENT
BEGIN:VEVENT
DTSTART;TZID=Asia/Beirut:20230526T180000
DTEND;TZID=Asia/Beirut:20230526T180000
DTSTAMP:20260423T231329
CREATED:20230523T133714Z
LAST-MODIFIED:20230523T133813Z
UID:10002404-1685124000-1685124000@gobatroun.com
SUMMARY:Anthon\, Hrag Mikkel\, and John at Blubay
DESCRIPTION:Friday nights at Blubay are on another level. \nThis week\, Anthon will take over the decks alongside Hrag Mikkel and John Srour for a night of pure fun by the beach.
URL:https://gobatroun.com/event/anthon-hrag-mikkel-and-john-at-blubay/
LOCATION:Blu Bay Batroun\, 6MW6+QJ Batroun\, Batroun\, Lebanon
CATEGORIES:Performing Arts
ATTACH;FMTTYPE=image/png:https://gobatroun.com/wp-content/uploads/2023/05/Screenshot-805.png
END:VEVENT
END:VCALENDAR