BEGIN:VCALENDAR
VERSION:2.0
PRODID:-//Go Batroun - ECPv6.14.2//NONSGML v1.0//EN
CALSCALE:GREGORIAN
METHOD:PUBLISH
X-WR-CALNAME:Go Batroun
X-ORIGINAL-URL:https://gobatroun.com
X-WR-CALDESC:Events for Go Batroun
REFRESH-INTERVAL;VALUE=DURATION:PT1H
X-Robots-Tag:noindex
X-PUBLISHED-TTL:PT1H
BEGIN:VTIMEZONE
TZID:Asia/Beirut
BEGIN:DAYLIGHT
TZOFFSETFROM:+0200
TZOFFSETTO:+0300
TZNAME:EEST
DTSTART:20230325T220000
END:DAYLIGHT
BEGIN:STANDARD
TZOFFSETFROM:+0300
TZOFFSETTO:+0200
TZNAME:EET
DTSTART:20231028T210000
END:STANDARD
END:VTIMEZONE
BEGIN:VEVENT
DTSTART;TZID=Asia/Beirut:20230730T200000
DTEND;TZID=Asia/Beirut:20230730T230000
DTSTAMP:20260420T213640
CREATED:20230718T121359Z
LAST-MODIFIED:20230718T121359Z
UID:10004310-1690747200-1690758000@gobatroun.com
SUMMARY:Supermoon Hike with Dinner at Bchaaleh Trails
DESCRIPTION:🌕 Join us for an unforgettable evening under the Full Moon at Bchaaleh Trails! 🌕 \nExperience the magic of the Full Moon as we embark on a guided hike through the scenic trails of Bchaaleh. Witness breathtaking night sceneries and immerse yourself in the beauty of the moonlit landscape. 🌙✨ \nAfter the exhilarating hike\, we’ll gather around a cozy bonfire\, basking in the gentle glow of the Full Moon. As the stars twinkle above\, indulge in a delightful dinner featuring the authentic flavors of Bchaaleh’s local cuisine\, served under the enchanting moonlight. 🌌🔥🍽️ \nSavor a mouthwatering feast of traditional dishes\, lovingly prepared with fresh local ingredients. Immerse yourself in the rich culinary heritage of the region as you sample local favorites. Each bite is a taste of Bchaaleh’s unique gastronomic traditions. 🌕🍴 \nAs the flames dance and the Full Moon illuminates the night sky\, we’ll share fascinating folk stories\, legends\, and interesting facts about the moon\, adding a touch of enchantment to the evening. 🌌🔥 \nWhether you’re a nature lover\, an astronomy enthusiast\, or simply looking for a unique and memorable experience\, this Full Moon dinner and bonfire event is not to be missed! Don’t forget to bring your cameras to capture stunning moonlit moments and create lasting memories. 📸✨ \nLimited spots are available\, so secure your spot now! \n🎒 Required Equipment: \nHiking boots\nHeadlight\nBackpack\n1L of water\nHealthy snacks\nLight jacket \nGet ready for an extraordinary night of adventure\, camaraderie\, and Full Moon magic\, topped off with a delectable dinner of authentic local specialties under the moonlight! See you under the moon! 🌕✨
URL:https://gobatroun.com/event/supermoon-hike-with-dinner-at-bchaaleh-trails/2023-07-30/
LOCATION:Bchaaleh Trails Association\, 6R2G+Q54\, Bchaaleh\, Bchaaleh\, Lebanon
CATEGORIES:Sports
ATTACH;FMTTYPE=image/png:https://gobatroun.com/wp-content/uploads/2023/07/Screenshot-1416.png
ORGANIZER;CN="Bchaaleh Trails Association":MAILTO:info@bchaalehtrails.com
GEO:34.201951475171;35.825455839964
X-APPLE-STRUCTURED-LOCATION;VALUE=URI;X-ADDRESS=Bchaaleh Trails Association 6R2G+Q54 Bchaaleh Bchaaleh Lebanon;X-APPLE-RADIUS=500;X-TITLE=6R2G+Q54\, Bchaaleh:geo:35.825455839964,34.201951475171
END:VEVENT
END:VCALENDAR