BEGIN:VCALENDAR
VERSION:2.0
PRODID:-//Go Batroun - ECPv6.14.2//NONSGML v1.0//EN
CALSCALE:GREGORIAN
METHOD:PUBLISH
X-ORIGINAL-URL:https://gobatroun.com
X-WR-CALDESC:Events for Go Batroun
REFRESH-INTERVAL;VALUE=DURATION:PT1H
X-Robots-Tag:noindex
X-PUBLISHED-TTL:PT1H
BEGIN:VTIMEZONE
TZID:Asia/Beirut
BEGIN:DAYLIGHT
TZOFFSETFROM:+0200
TZOFFSETTO:+0300
TZNAME:EEST
DTSTART:20230325T220000
END:DAYLIGHT
BEGIN:STANDARD
TZOFFSETFROM:+0300
TZOFFSETTO:+0200
TZNAME:EET
DTSTART:20231028T210000
END:STANDARD
BEGIN:DAYLIGHT
TZOFFSETFROM:+0200
TZOFFSETTO:+0300
TZNAME:EEST
DTSTART:20240330T220000
END:DAYLIGHT
BEGIN:STANDARD
TZOFFSETFROM:+0300
TZOFFSETTO:+0200
TZNAME:EET
DTSTART:20241026T210000
END:STANDARD
END:VTIMEZONE
BEGIN:VEVENT
DTSTART;TZID=Asia/Beirut:20240308T000000
DTEND;TZID=Asia/Beirut:20240308T000000
DTSTAMP:20260420T041452
CREATED:20240308T070420Z
LAST-MODIFIED:20240308T070505Z
UID:10005968-1709856000-1709856000@gobatroun.com
SUMMARY:Eddy Dib and Joe Youssef at Batrouniyat
DESCRIPTION:Eddy Dib and Joe Youssef \nSaturday\, March 30 \nBatrouniyat – Batroun \nRSVP: +961 06 744 510 or  961 70 020 072
URL:https://gobatroun.com/event/eddy-dib-and-joe-youssef-at-batrouniyat/
LOCATION:Batrouniyat
CATEGORIES:Performing Arts
ATTACH;FMTTYPE=image/webp:https://gobatroun.com/wp-content/uploads/2024/03/Eddy-Dib-and-Joe-Youssef-March-30.webp
ORGANIZER;CN="Batrouniyat":MAILTO:info@batrouniyat.org
END:VEVENT
BEGIN:VEVENT
DTSTART;TZID=Asia/Beirut:20240301T190000
DTEND;TZID=Asia/Beirut:20240301T190000
DTSTAMP:20260420T041452
CREATED:20240228T080213Z
LAST-MODIFIED:20240228T080213Z
UID:10005943-1709319600-1709319600@gobatroun.com
SUMMARY:Karaoke Night at Batrouniyat
DESCRIPTION:Karaoke Night by Beit El Fan for Singing Teachers and Students at Batrouniyat \nEntrance 5$ \nFor reservation +961 70 020 072 or +961 06 744 510
URL:https://gobatroun.com/event/karaoke-night-at-batrouniyat/
LOCATION:Batrouniyat
ATTACH;FMTTYPE=image/webp:https://gobatroun.com/wp-content/uploads/2024/02/Beit-El-Fan-Karaoke-Night-1.webp
END:VEVENT
BEGIN:VEVENT
DTSTART;TZID=Asia/Beirut:20231231T220000
DTEND;TZID=Asia/Beirut:20231231T220000
DTSTAMP:20260420T041452
CREATED:20231218T065452Z
LAST-MODIFIED:20231218T065452Z
UID:10005535-1704060000-1704060000@gobatroun.com
SUMMARY:New Year's Eve at Batrouniyat
DESCRIPTION:
URL:https://gobatroun.com/event/new-years-eve-at-batrouniyat/
LOCATION:Batrouniyat
CATEGORIES:Performing Arts
ATTACH;FMTTYPE=image/png:https://gobatroun.com/wp-content/uploads/2023/12/Screenshot-2754.png
ORGANIZER;CN="Batrouniyat":MAILTO:info@batrouniyat.org
END:VEVENT
BEGIN:VEVENT
DTSTART;TZID=Asia/Beirut:20231228T170000
DTEND;TZID=Asia/Beirut:20231228T170000
DTSTAMP:20260420T041452
CREATED:20231218T065306Z
LAST-MODIFIED:20231218T065306Z
UID:10005534-1703782800-1703782800@gobatroun.com
SUMMARY:Teddy's Christmas Adventure at Batrouniyat
DESCRIPTION:Join Teddy’s Christmas Adventure at Batrouniyat on December 28th! 🌟\nA Beary Merry Tale filled with dance\, play\, and festive joy.\nEntrance is free\nlet’s make your Christmas sparkle! ✨🎄\n#TeddyChristmasAdventure #Batrouniyat #ChristmasSeason #KidsShow #NathalieHanna #ChristmasShow #Batroun #lebanon\nFor more information:\nBatrouniyat: 06-744 510\, 70-020 072\nSparkles: 03-080 395
URL:https://gobatroun.com/event/teddys-christmas-adventure-at-batrouniyat/
LOCATION:Batrouniyat
CATEGORIES:Performing Arts
ATTACH;FMTTYPE=image/png:https://gobatroun.com/wp-content/uploads/2023/12/Screenshot-2755.png
ORGANIZER;CN="Batrouniyat":MAILTO:info@batrouniyat.org
END:VEVENT
BEGIN:VEVENT
DTSTART;TZID=Asia/Beirut:20231215T190000
DTEND;TZID=Asia/Beirut:20231215T190000
DTSTAMP:20260420T041452
CREATED:20231130T134833Z
LAST-MODIFIED:20231130T134833Z
UID:10005319-1702666800-1702666800@gobatroun.com
SUMMARY:Let us share the joy of the upcoming New Year
DESCRIPTION:Dear friends\, we invite you to a festive evening at Batruniet restaurant on December 15 at 7 pm.\nLet us share the joy of the upcoming New Year.\nThe cost is $30 per person. (Lebanese menu: cold and hot snacks\, hot\, soft drink. Alcohol is not included 🙂\nBeat Atik is playing for you.\nBook an appointment by phone: +961 70 314 463
URL:https://gobatroun.com/event/let-us-share-the-joy-of-the-upcoming-new-year/
LOCATION:Batrouniyat
CATEGORIES:Performing Arts
ATTACH;FMTTYPE=image/png:https://gobatroun.com/wp-content/uploads/2023/11/Screenshot-2599.png
END:VEVENT
BEGIN:VEVENT
DTSTART;TZID=Asia/Beirut:20231201T163000
DTEND;TZID=Asia/Beirut:20231201T170000
DTSTAMP:20260420T041452
CREATED:20231120T062312Z
LAST-MODIFIED:20231120T062312Z
UID:10005216-1701448200-1701450000@gobatroun.com
SUMMARY:Hashli Barbara With Lilai
DESCRIPTION:Hello\,Dear Friends🎃 Come & join us on the first of December🗓️ to celebrate 🎉 together Saint Barbara’s Day at @batrouniyat at 4:30 PM👻🎈\nFor more info DM or📞 71686961
URL:https://gobatroun.com/event/hashli-barbara-with-lilai/
LOCATION:Batrouniyat
CATEGORIES:Performing Arts
ATTACH;FMTTYPE=image/png:https://gobatroun.com/wp-content/uploads/2023/11/Screenshot-2513.png
END:VEVENT
BEGIN:VEVENT
DTSTART;TZID=Asia/Beirut:20231121T093000
DTEND;TZID=Asia/Beirut:20231121T170000
DTSTAMP:20260420T041452
CREATED:20231120T062609Z
LAST-MODIFIED:20231120T133618Z
UID:10005217-1700559000-1700586000@gobatroun.com
SUMMARY:Rida at Batrouniyat
DESCRIPTION:Reserve your spots now!
URL:https://gobatroun.com/event/risa-at-batrouniyat/
LOCATION:Batrouniyat
CATEGORIES:Performing Arts
ATTACH;FMTTYPE=image/png:https://gobatroun.com/wp-content/uploads/2023/11/Screenshot-2514.png
ORGANIZER;CN="Batrouniyat":MAILTO:info@batrouniyat.org
END:VEVENT
BEGIN:VEVENT
DTSTART;TZID=Asia/Beirut:20230827T200000
DTEND;TZID=Asia/Beirut:20230827T200000
DTSTAMP:20260420T041452
CREATED:20230810T090907Z
LAST-MODIFIED:20230810T090907Z
UID:10004585-1693166400-1693166400@gobatroun.com
SUMMARY:Guy Manoukian at Batrouniyat
DESCRIPTION:
URL:https://gobatroun.com/event/guy-manoukian-at-batrouniyat/
LOCATION:Batrouniyat
ATTACH;FMTTYPE=image/png:https://gobatroun.com/wp-content/uploads/2023/08/Screenshot-1789.png
ORGANIZER;CN="Batrouniyat":MAILTO:info@batrouniyat.org
END:VEVENT
BEGIN:VEVENT
DTSTART;TZID=Asia/Beirut:20230705T080000
DTEND;TZID=Asia/Beirut:20230705T170000
DTSTAMP:20260420T041452
CREATED:20230713T080322Z
LAST-MODIFIED:20230713T103854Z
UID:10004250-1688544000-1688576400@gobatroun.com
SUMMARY:Batroun Comedy Festival
DESCRIPTION:Laughter is contagious\, and we’re spreading it like wildfire! join us at Batroun’s comedy festival for a night of infectious giggles and good times!! swipe left➡️ \n⚠️ Age 21+ \nRSVP WhatsApp only 03 03 97 47
URL:https://gobatroun.com/event/batroun-comedy-festival-2/2023-07-05/
LOCATION:Batrouniyat
CATEGORIES:Festivals|Performing Arts
ATTACH;FMTTYPE=image/png:https://gobatroun.com/wp-content/uploads/2023/07/Screenshot-958.png
END:VEVENT
BEGIN:VEVENT
DTSTART;TZID=Asia/Beirut:20230704T080000
DTEND;TZID=Asia/Beirut:20230704T170000
DTSTAMP:20260420T041452
CREATED:20230713T080322Z
LAST-MODIFIED:20230713T103854Z
UID:10004249-1688457600-1688490000@gobatroun.com
SUMMARY:Batroun Comedy Festival
DESCRIPTION:Laughter is contagious\, and we’re spreading it like wildfire! join us at Batroun’s comedy festival for a night of infectious giggles and good times!! swipe left➡️ \n⚠️ Age 21+ \nRSVP WhatsApp only 03 03 97 47
URL:https://gobatroun.com/event/batroun-comedy-festival-2/2023-07-04/
LOCATION:Batrouniyat
CATEGORIES:Festivals|Performing Arts
ATTACH;FMTTYPE=image/png:https://gobatroun.com/wp-content/uploads/2023/07/Screenshot-958.png
END:VEVENT
BEGIN:VEVENT
DTSTART;TZID=Asia/Beirut:20230703T180000
DTEND;TZID=Asia/Beirut:20230703T180000
DTSTAMP:20260420T041452
CREATED:20230713T080322Z
LAST-MODIFIED:20230713T103854Z
UID:10003965-1688407200-1688407200@gobatroun.com
SUMMARY:Batroun Comedy Festival
DESCRIPTION:Laughter is contagious\, and we’re spreading it like wildfire! join us at Batroun’s comedy festival for a night of infectious giggles and good times!! swipe left➡️ \n⚠️ Age 21+ \nRSVP WhatsApp only 03 03 97 47
URL:https://gobatroun.com/event/batroun-comedy-festival-2/2023-07-03/
LOCATION:Batrouniyat
CATEGORIES:Festivals|Performing Arts
ATTACH;FMTTYPE=image/png:https://gobatroun.com/wp-content/uploads/2023/07/Screenshot-958.png
END:VEVENT
BEGIN:VEVENT
DTSTART;TZID=Asia/Beirut:20230630T080000
DTEND;TZID=Asia/Beirut:20230630T170000
DTSTAMP:20260420T041452
CREATED:20230528T143721Z
LAST-MODIFIED:20230713T083857Z
UID:10003354-1688112000-1688144400@gobatroun.com
SUMMARY:For You Batroun Exhibition
DESCRIPTION:
URL:https://gobatroun.com/event/for-you-batroun-exhibition/
LOCATION:Batrouniyat
CATEGORIES:Performing Arts
ATTACH;FMTTYPE=image/jpeg:https://gobatroun.com/wp-content/uploads/2023/05/WhatsApp-Image-2023-05-28-at-15.43.30.jpg
END:VEVENT
END:VCALENDAR