BEGIN:VCALENDAR
VERSION:2.0
PRODID:-//Go Batroun - ECPv6.14.2//NONSGML v1.0//EN
CALSCALE:GREGORIAN
METHOD:PUBLISH
X-WR-CALNAME:Go Batroun
X-ORIGINAL-URL:https://gobatroun.com
X-WR-CALDESC:Events for Go Batroun
REFRESH-INTERVAL;VALUE=DURATION:PT1H
X-Robots-Tag:noindex
X-PUBLISHED-TTL:PT1H
BEGIN:VTIMEZONE
TZID:Asia/Beirut
BEGIN:DAYLIGHT
TZOFFSETFROM:+0200
TZOFFSETTO:+0300
TZNAME:EEST
DTSTART:20220326T220000
END:DAYLIGHT
BEGIN:STANDARD
TZOFFSETFROM:+0300
TZOFFSETTO:+0200
TZNAME:EET
DTSTART:20221029T210000
END:STANDARD
BEGIN:DAYLIGHT
TZOFFSETFROM:+0200
TZOFFSETTO:+0300
TZNAME:EEST
DTSTART:20230325T220000
END:DAYLIGHT
BEGIN:STANDARD
TZOFFSETFROM:+0300
TZOFFSETTO:+0200
TZNAME:EET
DTSTART:20231028T210000
END:STANDARD
END:VTIMEZONE
BEGIN:VEVENT
DTSTART;TZID=Asia/Beirut:20230722T080000
DTEND;TZID=Asia/Beirut:20230723T170000
DTSTAMP:20260420T221323
CREATED:20230509T094107Z
LAST-MODIFIED:20230713T082300Z
UID:10002304-1690012800-1690131600@gobatroun.com
SUMMARY:Jayi El Eyam with Georges Khabbaz in Batroun International Festival
DESCRIPTION:The wait is finally over! We are excited to announce the Great @georgeskhabbazofficial live for two nights only at the BIF on the 22nd and 23rd of July in ‘Jayi El Eyam’!\nTickets are now available on the link in our bio!
URL:https://gobatroun.com/event/batroun-international-festival-2023-3/
LOCATION:Batroun\, 6MX6+79V Batroun\, Batroun\, 1400\, Lebanon
CATEGORIES:Festivals,Performing Arts
ATTACH;FMTTYPE=image/png:https://gobatroun.com/wp-content/uploads/2023/05/Screenshot-834.png
GEO:34.248237811542;35.660916328184
X-APPLE-STRUCTURED-LOCATION;VALUE=URI;X-ADDRESS=Batroun 6MX6+79V Batroun Batroun 1400 Lebanon;X-APPLE-RADIUS=500;X-TITLE=6MX6+79V Batroun:geo:35.660916328184,34.248237811542
END:VEVENT
BEGIN:VEVENT
DTSTART;TZID=Asia/Beirut:20230715T080000
DTEND;TZID=Asia/Beirut:20230715T170000
DTSTAMP:20260420T221323
CREATED:20230713T080347Z
LAST-MODIFIED:20230717T085351Z
UID:10004238-1689408000-1689440400@gobatroun.com
SUMMARY:Sky Of Batroun
DESCRIPTION:
URL:https://gobatroun.com/event/sky-of-batroun-3/2023-07-15/
LOCATION:Batroun\, 6MX6+79V Batroun\, Batroun\, 1400\, Lebanon
CATEGORIES:Festivals|Performing Arts
ATTACH;FMTTYPE=image/jpeg:https://gobatroun.com/wp-content/uploads/2023/07/WhatsApp-Image-2023-06-23-at-11.57.21.jpg
GEO:34.248237811542;35.660916328184
X-APPLE-STRUCTURED-LOCATION;VALUE=URI;X-ADDRESS=Batroun 6MX6+79V Batroun Batroun 1400 Lebanon;X-APPLE-RADIUS=500;X-TITLE=6MX6+79V Batroun:geo:35.660916328184,34.248237811542
END:VEVENT
BEGIN:VEVENT
DTSTART;TZID=Asia/Beirut:20230714T080000
DTEND;TZID=Asia/Beirut:20230714T170000
DTSTAMP:20260420T221323
CREATED:20230713T080347Z
LAST-MODIFIED:20230717T085351Z
UID:10004073-1689321600-1689354000@gobatroun.com
SUMMARY:Sky Of Batroun
DESCRIPTION:
URL:https://gobatroun.com/event/sky-of-batroun-3/2023-07-14/
LOCATION:Batroun\, 6MX6+79V Batroun\, Batroun\, 1400\, Lebanon
CATEGORIES:Festivals|Performing Arts
ATTACH;FMTTYPE=image/jpeg:https://gobatroun.com/wp-content/uploads/2023/07/WhatsApp-Image-2023-06-23-at-11.57.21.jpg
GEO:34.248237811542;35.660916328184
X-APPLE-STRUCTURED-LOCATION;VALUE=URI;X-ADDRESS=Batroun 6MX6+79V Batroun Batroun 1400 Lebanon;X-APPLE-RADIUS=500;X-TITLE=6MX6+79V Batroun:geo:35.660916328184,34.248237811542
END:VEVENT
BEGIN:VEVENT
DTSTART;TZID=Asia/Beirut:20230707T080000
DTEND;TZID=Asia/Beirut:20230707T170000
DTSTAMP:20260420T221323
CREATED:20230509T093551Z
LAST-MODIFIED:20230713T081620Z
UID:10002302-1688716800-1688749200@gobatroun.com
SUMMARY:Batroun International Festival 2023
DESCRIPTION:Here is our full schedule for Batroun International Festival 2023! What events would you like to attend?
URL:https://gobatroun.com/event/batroun-international-festival-2023-2/
LOCATION:Batroun\, 6MX6+79V Batroun\, Batroun\, 1400\, Lebanon
CATEGORIES:Festivals,Performing Arts
ATTACH;FMTTYPE=image/png:https://gobatroun.com/wp-content/uploads/2023/05/Screenshot-668.png
GEO:34.248237811542;35.660916328184
X-APPLE-STRUCTURED-LOCATION;VALUE=URI;X-ADDRESS=Batroun 6MX6+79V Batroun Batroun 1400 Lebanon;X-APPLE-RADIUS=500;X-TITLE=6MX6+79V Batroun:geo:35.660916328184,34.248237811542
END:VEVENT
BEGIN:VEVENT
DTSTART;TZID=Asia/Beirut:20230623T080000
DTEND;TZID=Asia/Beirut:20230623T170000
DTSTAMP:20260420T221323
CREATED:20230509T093425Z
LAST-MODIFIED:20230713T091432Z
UID:10002301-1687507200-1687539600@gobatroun.com
SUMMARY:Batroun International Festival 2023
DESCRIPTION:Here is our full schedule for Batroun International Festival 2023! What events would you like to attend?
URL:https://gobatroun.com/event/batroun-international-festival-2023/
LOCATION:Batroun\, 6MX6+79V Batroun\, Batroun\, 1400\, Lebanon
CATEGORIES:Festivals,Performing Arts
ATTACH;FMTTYPE=image/png:https://gobatroun.com/wp-content/uploads/2023/05/Screenshot-668.png
GEO:34.248237811542;35.660916328184
X-APPLE-STRUCTURED-LOCATION;VALUE=URI;X-ADDRESS=Batroun 6MX6+79V Batroun Batroun 1400 Lebanon;X-APPLE-RADIUS=500;X-TITLE=6MX6+79V Batroun:geo:35.660916328184,34.248237811542
END:VEVENT
BEGIN:VEVENT
DTSTART;TZID=Asia/Beirut:20230615T080000
DTEND;TZID=Asia/Beirut:20230615T170000
DTSTAMP:20260420T221323
CREATED:20230509T093749Z
LAST-MODIFIED:20230713T100035Z
UID:10002303-1686816000-1686848400@gobatroun.com
SUMMARY:Batroun Photography Award at Batroun International Festival 2023
DESCRIPTION:Calling all photography lovers📸\nHere is your chance to win the first Batroun Photography Award\, launching this year!\nAll top three winners will recieve cash prizes and contestants will have the chance to have their photos displayed all over the city!\nFor more information and for submissins and rules & regulations\, please Visit the Batroun Photography Award in our Highlights !
URL:https://gobatroun.com/event/batroun-photography-award-at-batroun-international-festival-2023/
LOCATION:Batroun\, 6MX6+79V Batroun\, Batroun\, 1400\, Lebanon
CATEGORIES:Festivals,Performing Arts
ATTACH;FMTTYPE=image/png:https://gobatroun.com/wp-content/uploads/2023/05/Screenshot-835.png
GEO:34.248237811542;35.660916328184
X-APPLE-STRUCTURED-LOCATION;VALUE=URI;X-ADDRESS=Batroun 6MX6+79V Batroun Batroun 1400 Lebanon;X-APPLE-RADIUS=500;X-TITLE=6MX6+79V Batroun:geo:35.660916328184,34.248237811542
END:VEVENT
BEGIN:VEVENT
DTSTART;TZID=Asia/Beirut:20230604T190000
DTEND;TZID=Asia/Beirut:20230604T190000
DTSTAMP:20260420T221323
CREATED:20230602T135425Z
LAST-MODIFIED:20230712T102524Z
UID:10003515-1685905200-1685905200@gobatroun.com
SUMMARY:Blindkode at Batroun
DESCRIPTION:We meet again this Sunday at the heart of Batroun\, starting at 7 pm. Catch the upscaled sunset and electrifying beats\, guaranteeing your stay till sunrise 🌅You can also reserve your accommodation in our available stay spots – a perfect way to wrap up your visit.\n📍Location: Batroon (TBA)\n••For RSVP and further info: 76-988566 or 76-919894
URL:https://gobatroun.com/event/blindkode-at-batroun/
LOCATION:Batroun\, 6MX6+79V Batroun\, Batroun\, 1400\, Lebanon
CATEGORIES:Performing Arts
ATTACH;FMTTYPE=image/jpeg:https://gobatroun.com/wp-content/uploads/2023/07/WhatsApp-Image-2023-06-02-at-16.30.24-ENZeyw.tmp_.jpg
GEO:34.248237811542;35.660916328184
X-APPLE-STRUCTURED-LOCATION;VALUE=URI;X-ADDRESS=Batroun 6MX6+79V Batroun Batroun 1400 Lebanon;X-APPLE-RADIUS=500;X-TITLE=6MX6+79V Batroun:geo:35.660916328184,34.248237811542
END:VEVENT
BEGIN:VEVENT
DTSTART;TZID=Asia/Beirut:20230507T120000
DTEND;TZID=Asia/Beirut:20230507T233000
DTSTAMP:20260420T221323
CREATED:20230418T114305Z
LAST-MODIFIED:20230427T101837Z
UID:10002220-1683460800-1683502200@gobatroun.com
SUMMARY:Batroun Spring Festival
DESCRIPTION:Something exciting is blooming in Batroun this Spring! Save the date and stay tuned to find out what it is!
URL:https://gobatroun.com/event/batroun-spring-festival-3/
LOCATION:Batroun\, 6MX6+79V Batroun\, Batroun\, 1400\, Lebanon
CATEGORIES:Festivals,Performing Arts
ATTACH;FMTTYPE=image/jpeg:https://gobatroun.com/wp-content/uploads/2023/04/schedule-4-scaled.jpg
GEO:34.248237811542;35.660916328184
X-APPLE-STRUCTURED-LOCATION;VALUE=URI;X-ADDRESS=Batroun 6MX6+79V Batroun Batroun 1400 Lebanon;X-APPLE-RADIUS=500;X-TITLE=6MX6+79V Batroun:geo:35.660916328184,34.248237811542
END:VEVENT
BEGIN:VEVENT
DTSTART;TZID=Asia/Beirut:20230506T120000
DTEND;TZID=Asia/Beirut:20230506T233000
DTSTAMP:20260420T221323
CREATED:20230418T114239Z
LAST-MODIFIED:20230427T101842Z
UID:10002219-1683374400-1683415800@gobatroun.com
SUMMARY:Batroun Spring Festival
DESCRIPTION:Something exciting is blooming in Batroun this Spring! Save the date and stay tuned to find out what it is! \nReady to rock your world \nSpringFest 2023! \nCome get your Binky on! Sunday April 30-10 PM
URL:https://gobatroun.com/event/batroun-spring-festival-2/
LOCATION:Batroun\, 6MX6+79V Batroun\, Batroun\, 1400\, Lebanon
CATEGORIES:Festivals,Performing Arts
ATTACH;FMTTYPE=image/jpeg:https://gobatroun.com/wp-content/uploads/2023/04/schedule-3-scaled.jpg
GEO:34.248237811542;35.660916328184
X-APPLE-STRUCTURED-LOCATION;VALUE=URI;X-ADDRESS=Batroun 6MX6+79V Batroun Batroun 1400 Lebanon;X-APPLE-RADIUS=500;X-TITLE=6MX6+79V Batroun:geo:35.660916328184,34.248237811542
END:VEVENT
BEGIN:VEVENT
DTSTART;TZID=Asia/Beirut:20230505T120000
DTEND;TZID=Asia/Beirut:20230505T233000
DTSTAMP:20260420T221323
CREATED:20230418T114057Z
LAST-MODIFIED:20230427T101844Z
UID:10002218-1683288000-1683329400@gobatroun.com
SUMMARY:Batroun Spring Festival
DESCRIPTION:🎵🎤🎸 Calling all music lovers! Join us at Batroun SpringFest 2023 for a performance by the talented Rodolphe El Khoury and his band. 🎶🎸🎤 Get ready to sing\, dance\, and have the time of your life! 🎉💃 \n🎵🎤🎸 الى كل محبي الموسيقى! انضموا الينا في مهرجان الربيع في البترون 2023 للاستمتاع بأداء فرقة الفنان اللبناني رودولف الخوري وفرقته. 🎶🎸🎤 استعدوا للغناء والرقص والاستمتاع بوقتكم! 🎉💃
URL:https://gobatroun.com/event/batroun-spring-festival/
LOCATION:Batroun\, 6MX6+79V Batroun\, Batroun\, 1400\, Lebanon
CATEGORIES:Festivals,Performing Arts
ATTACH;FMTTYPE=image/jpeg:https://gobatroun.com/wp-content/uploads/2023/04/schedule-2-scaled.jpg
GEO:34.248237811542;35.660916328184
X-APPLE-STRUCTURED-LOCATION;VALUE=URI;X-ADDRESS=Batroun 6MX6+79V Batroun Batroun 1400 Lebanon;X-APPLE-RADIUS=500;X-TITLE=6MX6+79V Batroun:geo:35.660916328184,34.248237811542
END:VEVENT
BEGIN:VEVENT
DTSTART;TZID=Asia/Beirut:20230504T160000
DTEND;TZID=Asia/Beirut:20230504T233000
DTSTAMP:20260420T221323
CREATED:20230418T085242Z
LAST-MODIFIED:20230427T101847Z
UID:10002214-1683216000-1683243000@gobatroun.com
SUMMARY:Batroun Spring Festival
DESCRIPTION:🎶🍽️ Come dine and groove with us under the stars! 🌟🌙 Batroun SpringFest 2023 invites you to a musical feast like no other 🎉🎵 Don’t miss out on an unforgettable night of great tunes and even better food 🍴🎶 See you there! 😍👋
URL:https://gobatroun.com/event/batroun-spring-festival-9/
LOCATION:Batroun\, 6MX6+79V Batroun\, Batroun\, 1400\, Lebanon
CATEGORIES:Performing Arts
ATTACH;FMTTYPE=image/jpeg:https://gobatroun.com/wp-content/uploads/2023/04/schedule-1-scaled.jpg
GEO:34.248237811542;35.660916328184
X-APPLE-STRUCTURED-LOCATION;VALUE=URI;X-ADDRESS=Batroun 6MX6+79V Batroun Batroun 1400 Lebanon;X-APPLE-RADIUS=500;X-TITLE=6MX6+79V Batroun:geo:35.660916328184,34.248237811542
END:VEVENT
BEGIN:VEVENT
DTSTART;TZID=Asia/Beirut:20230421T090000
DTEND;TZID=Asia/Beirut:20230421T233000
DTSTAMP:20260420T221323
CREATED:20230302T073337Z
LAST-MODIFIED:20230411T095551Z
UID:10002035-1682067600-1682119800@gobatroun.com
SUMMARY:AEGIS FESTIVAL
DESCRIPTION:🍃 72 Hours of Music and Discovery\n⏳ April 21•22•23\n🎟️ Wave 1 ticket in this link: https://ihjoz.com/events/6933 \nFrom 21/04/2023 to 23/04/2023
URL:https://gobatroun.com/event/aegis-festival/
LOCATION:Batroun\, 6MX6+79V Batroun\, Batroun\, 1400\, Lebanon
CATEGORIES:Festivals,Performing Arts
ATTACH;FMTTYPE=image/png:https://gobatroun.com/wp-content/uploads/2023/03/Screenshot-2769.png
GEO:34.248237811542;35.660916328184
X-APPLE-STRUCTURED-LOCATION;VALUE=URI;X-ADDRESS=Batroun 6MX6+79V Batroun Batroun 1400 Lebanon;X-APPLE-RADIUS=500;X-TITLE=6MX6+79V Batroun:geo:35.660916328184,34.248237811542
END:VEVENT
BEGIN:VEVENT
DTSTART;VALUE=DATE:20230323
DTEND;VALUE=DATE:20230325
DTSTAMP:20260420T221323
CREATED:20230303T164908Z
LAST-MODIFIED:20230303T164908Z
UID:10002045-1679529600-1679702399@gobatroun.com
SUMMARY:Boat Master Renewal Courses
DESCRIPTION:MARSATI is proud to announce the Boat Master Renewal Courses that will be held online via\n\nZoom on March 23 & 24. Deadline for accepting applications March 22\, 2023. \nRegister Now! \nيتشرف معهد العلوم البحرية والتكنولوجيا – MARSATI بالإعلان عن دورة تجديد شهادات ربّان زورق و التي ستعقد إفتراضياً على منصة \n.Zoom \nFor more info: \nMaritime Sciences & Technology Institute \nBatroun Lebanon \nFishermen Port \n+961 81 433 993 \n| admission@marsati.org
URL:https://gobatroun.com/event/boat-master-renewal-courses/
LOCATION:Batroun\, 6MX6+79V Batroun\, Batroun\, 1400\, Lebanon
CATEGORIES:Performing Arts
GEO:34.248237811542;35.660916328184
X-APPLE-STRUCTURED-LOCATION;VALUE=URI;X-ADDRESS=Batroun 6MX6+79V Batroun Batroun 1400 Lebanon;X-APPLE-RADIUS=500;X-TITLE=6MX6+79V Batroun:geo:35.660916328184,34.248237811542
END:VEVENT
BEGIN:VEVENT
DTSTART;TZID=Asia/Beirut:20230318T180000
DTEND;TZID=Asia/Beirut:20230318T180000
DTSTAMP:20260420T221323
CREATED:20230303T093953Z
LAST-MODIFIED:20230303T093953Z
UID:10002044-1679162400-1679162400@gobatroun.com
SUMMARY:البترون بالمؤنث
DESCRIPTION:البترون بالمؤنث \nتنظم اللجنة الثقافية في بلدية البترون حفل تكريم سيدات رائدات وذلك نهار السبت ۱٨ اذار الساعة السادسة مساءً المكان مسرح ثانوية راهبات القلبين الاقدسين
URL:https://gobatroun.com/event/%d8%a7%d9%84%d8%a8%d8%aa%d8%b1%d9%88%d9%86-%d8%a8%d8%a7%d9%84%d9%85%d8%a4%d9%86%d8%ab/
LOCATION:Batroun\, 6MX6+79V Batroun\, Batroun\, 1400\, Lebanon
CATEGORIES:Performing Arts
ATTACH;FMTTYPE=image/jpeg:https://gobatroun.com/wp-content/uploads/2023/03/20230303_113513.jpg
GEO:34.248237811542;35.660916328184
X-APPLE-STRUCTURED-LOCATION;VALUE=URI;X-ADDRESS=Batroun 6MX6+79V Batroun Batroun 1400 Lebanon;X-APPLE-RADIUS=500;X-TITLE=6MX6+79V Batroun:geo:35.660916328184,34.248237811542
END:VEVENT
BEGIN:VEVENT
DTSTART;TZID=Asia/Beirut:20230309T200000
DTEND;TZID=Asia/Beirut:20230309T200000
DTSTAMP:20260420T221323
CREATED:20230309T114152Z
LAST-MODIFIED:20230309T114152Z
UID:10002079-1678392000-1678392000@gobatroun.com
SUMMARY:Batroun vs AlKalamoun Game
DESCRIPTION:
URL:https://gobatroun.com/event/batroun-vs-alkalamoun-game/
LOCATION:Batroun\, 6MX6+79V Batroun\, Batroun\, 1400\, Lebanon
CATEGORIES:Performing Arts,Sports
ATTACH;FMTTYPE=image/png:https://gobatroun.com/wp-content/uploads/2023/03/Screenshot-2773.png
GEO:34.248237811542;35.660916328184
X-APPLE-STRUCTURED-LOCATION;VALUE=URI;X-ADDRESS=Batroun 6MX6+79V Batroun Batroun 1400 Lebanon;X-APPLE-RADIUS=500;X-TITLE=6MX6+79V Batroun:geo:35.660916328184,34.248237811542
END:VEVENT
BEGIN:VEVENT
DTSTART;TZID=Asia/Beirut:20230302T193000
DTEND;TZID=Asia/Beirut:20230302T193000
DTSTAMP:20260420T221323
CREATED:20230302T081906Z
LAST-MODIFIED:20230302T081906Z
UID:10002036-1677785400-1677785400@gobatroun.com
SUMMARY:Batroun vs Anwar Game
DESCRIPTION:
URL:https://gobatroun.com/event/batroun-vs-anwar-game/
LOCATION:Batroun\, 6MX6+79V Batroun\, Batroun\, 1400\, Lebanon
CATEGORIES:Performing Arts,Sports
ATTACH;FMTTYPE=image/png:https://gobatroun.com/wp-content/uploads/2023/03/Screenshot-2773.png
GEO:34.248237811542;35.660916328184
X-APPLE-STRUCTURED-LOCATION;VALUE=URI;X-ADDRESS=Batroun 6MX6+79V Batroun Batroun 1400 Lebanon;X-APPLE-RADIUS=500;X-TITLE=6MX6+79V Batroun:geo:35.660916328184,34.248237811542
END:VEVENT
BEGIN:VEVENT
DTSTART;TZID=Asia/Beirut:20230225T190000
DTEND;TZID=Asia/Beirut:20230225T190000
DTSTAMP:20260420T221323
CREATED:20230224T124153Z
LAST-MODIFIED:20230224T124153Z
UID:10002001-1677351600-1677351600@gobatroun.com
SUMMARY:Lebanese Volleball League Batroun vs Meshmesh
DESCRIPTION:
URL:https://gobatroun.com/event/lebanese-volleball-league-batroun-vs-meshmesh/
LOCATION:Batroun\, 6MX6+79V Batroun\, Batroun\, 1400\, Lebanon
CATEGORIES:Performing Arts,Sports
ATTACH;FMTTYPE=image/jpeg:https://gobatroun.com/wp-content/uploads/2023/02/WhatsApp-Image-2023-02-24-at-14.22.17.jpg
GEO:34.248237811542;35.660916328184
X-APPLE-STRUCTURED-LOCATION;VALUE=URI;X-ADDRESS=Batroun 6MX6+79V Batroun Batroun 1400 Lebanon;X-APPLE-RADIUS=500;X-TITLE=6MX6+79V Batroun:geo:35.660916328184,34.248237811542
END:VEVENT
BEGIN:VEVENT
DTSTART;TZID=Asia/Beirut:20230210T170000
DTEND;TZID=Asia/Beirut:20230210T170000
DTSTAMP:20260420T221323
CREATED:20230201T075801Z
LAST-MODIFIED:20230201T075801Z
UID:10001876-1676048400-1676048400@gobatroun.com
SUMMARY:the link between the bees' and the human life With Sister Lea Lahoud
DESCRIPTION:BEE POSITIVE\nBy Batroun Cultural Committee\nA lecture about the link between the bees’ and the human life\nWith Sister Lea Lahoud !! \nBatroun Municipality\nFeb 10th at 5pm
URL:https://gobatroun.com/event/the-link-between-the-bees-and-the-human-life-with-sister-lea-lahoud/
LOCATION:Batroun\, 6MX6+79V Batroun\, Batroun\, 1400\, Lebanon
CATEGORIES:Performing Arts
ATTACH;FMTTYPE=image/png:https://gobatroun.com/wp-content/uploads/2023/02/Screenshot-2605.png
GEO:34.248237811542;35.660916328184
X-APPLE-STRUCTURED-LOCATION;VALUE=URI;X-ADDRESS=Batroun 6MX6+79V Batroun Batroun 1400 Lebanon;X-APPLE-RADIUS=500;X-TITLE=6MX6+79V Batroun:geo:35.660916328184,34.248237811542
END:VEVENT
BEGIN:VEVENT
DTSTART;TZID=Asia/Beirut:20221223T153000
DTEND;TZID=Asia/Beirut:20221223T170000
DTSTAMP:20260420T221323
CREATED:20221222T130200Z
LAST-MODIFIED:20221222T130200Z
UID:10001709-1671809400-1671814800@gobatroun.com
SUMMARY:Santa in His Helicopter
DESCRIPTION:Get ready! Santa will fly over Batroûn Capitale de Noêl in his helicopter this Friday December 23rd at 3:30pm to distribute Christmas Gifts! \nFull details on Lebtivity.com
URL:https://gobatroun.com/event/santa-in-his-helicopter/
LOCATION:Batroun\, 6MX6+79V Batroun\, Batroun\, 1400\, Lebanon
CATEGORIES:Festivals,Performing Arts
ATTACH;FMTTYPE=image/png:https://gobatroun.com/wp-content/uploads/2022/12/Screenshot-1.png
GEO:34.248237811542;35.660916328184
X-APPLE-STRUCTURED-LOCATION;VALUE=URI;X-ADDRESS=Batroun 6MX6+79V Batroun Batroun 1400 Lebanon;X-APPLE-RADIUS=500;X-TITLE=6MX6+79V Batroun:geo:35.660916328184,34.248237811542
END:VEVENT
BEGIN:VEVENT
DTSTART;TZID=Asia/Beirut:20220806T180000
DTEND;TZID=Asia/Beirut:20220806T180000
DTSTAMP:20260420T221323
CREATED:20220805T142751Z
LAST-MODIFIED:20220805T142751Z
UID:10000939-1659808800-1659808800@gobatroun.com
SUMMARY:BIF 2022 Autopia Classic cars
DESCRIPTION:
URL:https://gobatroun.com/event/bif-2022-autopia-classic-cars/
LOCATION:Batroun\, 6MX6+79V Batroun\, Batroun\, 1400\, Lebanon
CATEGORIES:Festivals
ATTACH;FMTTYPE=image/jpeg:https://gobatroun.com/wp-content/uploads/2022/08/IMG-20220805-WA0040.jpg
GEO:34.248237811542;35.660916328184
X-APPLE-STRUCTURED-LOCATION;VALUE=URI;X-ADDRESS=Batroun 6MX6+79V Batroun Batroun 1400 Lebanon;X-APPLE-RADIUS=500;X-TITLE=6MX6+79V Batroun:geo:35.660916328184,34.248237811542
END:VEVENT
END:VCALENDAR