BEGIN:VCALENDAR
VERSION:2.0
PRODID:-//Go Batroun - ECPv6.14.2//NONSGML v1.0//EN
CALSCALE:GREGORIAN
METHOD:PUBLISH
X-WR-CALNAME:Go Batroun
X-ORIGINAL-URL:https://gobatroun.com
X-WR-CALDESC:Events for Go Batroun
REFRESH-INTERVAL;VALUE=DURATION:PT1H
X-Robots-Tag:noindex
X-PUBLISHED-TTL:PT1H
BEGIN:VTIMEZONE
TZID:Asia/Beirut
BEGIN:DAYLIGHT
TZOFFSETFROM:+0200
TZOFFSETTO:+0300
TZNAME:EEST
DTSTART:20220326T220000
END:DAYLIGHT
BEGIN:STANDARD
TZOFFSETFROM:+0300
TZOFFSETTO:+0200
TZNAME:EET
DTSTART:20221029T210000
END:STANDARD
END:VTIMEZONE
BEGIN:VEVENT
DTSTART;TZID=Asia/Beirut:20221224T220000
DTEND;TZID=Asia/Beirut:20221224T220000
DTSTAMP:20260422T005419
CREATED:20221221T133601Z
LAST-MODIFIED:20221221T133601Z
UID:10001708-1671919200-1671919200@gobatroun.com
SUMMARY:DJ Bob at Barrio67
DESCRIPTION:
URL:https://gobatroun.com/event/dj-bob-at-barrio67-2/
LOCATION:Barrio67
CATEGORIES:Performing Arts
ATTACH;FMTTYPE=image/png:https://gobatroun.com/wp-content/uploads/2022/12/Screenshot-2308.png
END:VEVENT
BEGIN:VEVENT
DTSTART;TZID=Asia/Beirut:20221223T210000
DTEND;TZID=Asia/Beirut:20221223T210000
DTSTAMP:20260422T005419
CREATED:20221221T132333Z
LAST-MODIFIED:20221221T132333Z
UID:10001703-1671829200-1671829200@gobatroun.com
SUMMARY:Anamel at Barrio67
DESCRIPTION:Live performance by @anamel a techno band on Friday 23 December at our stage 🎛️ \nBand charge 200 000 LBP
URL:https://gobatroun.com/event/anamel-at-barrio67/
LOCATION:Barrio67
CATEGORIES:Performing Arts
ATTACH;FMTTYPE=image/png:https://gobatroun.com/wp-content/uploads/2022/12/Screenshot-2306.png
END:VEVENT
BEGIN:VEVENT
DTSTART;TZID=Asia/Beirut:20221222T200000
DTEND;TZID=Asia/Beirut:20221222T200000
DTSTAMP:20260422T005419
CREATED:20221221T133357Z
LAST-MODIFIED:20221221T133357Z
UID:10001706-1671739200-1671739200@gobatroun.com
SUMMARY:Open Shrimp\, Beer and Fries
DESCRIPTION:
URL:https://gobatroun.com/event/open-shrimp-beer-and-fries/
LOCATION:Barrio67
CATEGORIES:Performing Arts
ATTACH;FMTTYPE=image/png:https://gobatroun.com/wp-content/uploads/2022/12/Screenshot-2308.png
END:VEVENT
BEGIN:VEVENT
DTSTART;TZID=Asia/Beirut:20221221T220000
DTEND;TZID=Asia/Beirut:20221221T220000
DTSTAMP:20260422T005419
CREATED:20221221T133215Z
LAST-MODIFIED:20221221T133215Z
UID:10001705-1671660000-1671660000@gobatroun.com
SUMMARY:DJ Bob at Barrio67
DESCRIPTION:
URL:https://gobatroun.com/event/dj-bob-at-barrio67/
LOCATION:Barrio67
CATEGORIES:Performing Arts
ATTACH;FMTTYPE=image/png:https://gobatroun.com/wp-content/uploads/2022/12/Screenshot-2308.png
END:VEVENT
END:VCALENDAR