BEGIN:VCALENDAR
VERSION:2.0
PRODID:-//Go Batroun - ECPv6.14.2//NONSGML v1.0//EN
CALSCALE:GREGORIAN
METHOD:PUBLISH
X-WR-CALNAME:Go Batroun
X-ORIGINAL-URL:https://gobatroun.com
X-WR-CALDESC:Events for Go Batroun
REFRESH-INTERVAL;VALUE=DURATION:PT1H
X-Robots-Tag:noindex
X-PUBLISHED-TTL:PT1H
BEGIN:VTIMEZONE
TZID:Asia/Beirut
BEGIN:DAYLIGHT
TZOFFSETFROM:+0200
TZOFFSETTO:+0300
TZNAME:EEST
DTSTART:20230325T220000
END:DAYLIGHT
BEGIN:STANDARD
TZOFFSETFROM:+0300
TZOFFSETTO:+0200
TZNAME:EET
DTSTART:20231028T210000
END:STANDARD
BEGIN:DAYLIGHT
TZOFFSETFROM:+0200
TZOFFSETTO:+0300
TZNAME:EEST
DTSTART:20240330T220000
END:DAYLIGHT
BEGIN:STANDARD
TZOFFSETFROM:+0300
TZOFFSETTO:+0200
TZNAME:EET
DTSTART:20241026T210000
END:STANDARD
BEGIN:DAYLIGHT
TZOFFSETFROM:+0200
TZOFFSETTO:+0300
TZNAME:EEST
DTSTART:20250329T220000
END:DAYLIGHT
BEGIN:STANDARD
TZOFFSETFROM:+0300
TZOFFSETTO:+0200
TZNAME:EET
DTSTART:20251025T210000
END:STANDARD
END:VTIMEZONE
BEGIN:VEVENT
DTSTART;TZID=Asia/Beirut:20250814T193000
DTEND;TZID=Asia/Beirut:20250814T193000
DTSTAMP:20260421T150317
CREATED:20250811T093804Z
LAST-MODIFIED:20250811T093804Z
UID:10007126-1755199800-1755199800@gobatroun.com
SUMMARY:Eid El Sayde – Aartez
DESCRIPTION:August 14\, 2025\, in Aartez\, a joyful celebration of Eid El Sayde! The evening begins with Mass at 7:30 p.m.\, followed by a lively party at 8:30 p.m. featuring performances by Cynthia Khabsa on the violin and DJ Matta spinning great music. \nEnjoy delicious juicy burgers\, sausages\, and hearty sandwiches from the live grill\, or pre-order authentic Lebanese mezze and grilled meats prepared by FYRD Live Griller. Sip refreshing cocktails\, mocktails\, soft drinks\, and more at the bar while savoring nuts and snacks. \nEntry Fee: $15/personLocation: AartezContact for Reservation: 71/119581 – 03/347212 – 03/731516
URL:https://gobatroun.com/event/eid-el-sayde-aartez/
LOCATION:Aartez\, 6PQX+75Q Harbounah\, Aartez\, Lebanon
CATEGORIES:Performing Arts
ATTACH;FMTTYPE=image/webp:https://gobatroun.com/wp-content/uploads/2025/08/Eid-El-Sayde-–-Aartez-Celebration.webp
GEO:34.238237976579;35.748083287708
X-APPLE-STRUCTURED-LOCATION;VALUE=URI;X-ADDRESS=Aartez 6PQX+75Q Harbounah Aartez Lebanon;X-APPLE-RADIUS=500;X-TITLE=6PQX+75Q Harbounah:geo:35.748083287708,34.238237976579
END:VEVENT
BEGIN:VEVENT
DTSTART;TZID=Asia/Beirut:20241110T073000
DTEND;TZID=Asia/Beirut:20241110T073000
DTSTAMP:20260421T150317
CREATED:20241106T065639Z
LAST-MODIFIED:20241106T065639Z
UID:10006650-1731223800-1731223800@gobatroun.com
SUMMARY:Hiking Artez
DESCRIPTION:Artez is a village In mid-Batroun area\, 16 km away from the city\, at an altitude of 500 m. It can be reached from Batroun via Ijdabra\, Bejdarfel and the valley of Kour.\nThe hike will show the old houses\, many of old presses and old churches. This event will take us back to know our roots and show us how our grandparents lived\, and how they used their agricultural crops to produce local products.\nAfter we finish the hike we will have the chance to be guests at alzourou3\, where we will have Lunch (optional) prepared by locals. \n: Sunday\, Nov 10th \nDifficulty level: Easy (4/10)\nDistance: 7 km\nMax elevation:770 m\nMin elevation: 500 m\nElevation gain: 150 m\nElevation loss: 280 m\nDuration: Moving time 3.5 hours\nTrail type: One way. \nMeeting points: \n–    (DHL parking)\n7.30 AM (Sharp)\n–  (Dunkin Donuts)\n8.15 AM (Sharp) \nWe will pick up hikers along the way. \n  :\nBackpack\, light snacks and 2 liters of water. \n  :\nHiking or sports pants\,\nT-shirt\, hat\, “hiking shoes” are recommended. \n:\n20$ including transportation\, Entrance\, local guide\, professional and experienced guides from Nomads\, professional photos\, tea/coffee and homemade cake.\n15$ (optional) for local lunch at alzourou3 \nFees do not cover insurance. \nDown payment is required if you choose to have lunch.\nCancellation within less than 24 hours’ notice will be charged for 50% of original fees. \nReservation is required:\nMobile:\nNomads (Maroun)\n+961 70 736 744
URL:https://gobatroun.com/event/hiking-artez/
LOCATION:Aartez\, 6PQX+75Q Harbounah\, Aartez\, Lebanon
CATEGORIES:Sports
ATTACH;FMTTYPE=image/jpeg:https://gobatroun.com/wp-content/uploads/2024/11/November-10.jpg
GEO:34.238237976579;35.748083287708
X-APPLE-STRUCTURED-LOCATION;VALUE=URI;X-ADDRESS=Aartez 6PQX+75Q Harbounah Aartez Lebanon;X-APPLE-RADIUS=500;X-TITLE=6PQX+75Q Harbounah:geo:35.748083287708,34.238237976579
END:VEVENT
BEGIN:VEVENT
DTSTART;TZID=Asia/Beirut:20241027T080000
DTEND;TZID=Asia/Beirut:20241027T160000
DTSTAMP:20260421T150317
CREATED:20241023T060828Z
LAST-MODIFIED:20241023T060828Z
UID:10006644-1730016000-1730044800@gobatroun.com
SUMMARY:Hiking in Artez
DESCRIPTION:Join in the scenic Batroun District\, where the villages of Artez and Kfar Chlaimane  provide a beautiful backdrop for an event aimed at fostering community and support  during these challenging times in Lebanon. \nWith rolling hills and rich cultural heritage\, these villages offer a perfect setting for unity. \nDate:Sunday\, October 27\, 2024 \nLocation: Artez and Kfar Chlaimane\, Batroun District \nEvent Description:\n———————————— \nExperience a guided hike on a new trail that showcases stunning landscapes\, followed by an optional lunch in an old traditional and historical house alzourou3 featuring delicious homemade local cuisine for an additional $15 . \nTrail Details:\n———————\nLevel: Moderate (5)\nDistance: 8 km (loop)\nEffective Hiking Hours: ~3:30 hrs (including breaks)\nElevation Gain: 280 m\nElevation Loss: 280 m \nMeeting Points:\n——————————\n8:00 AM: Naccache Bridge\, next to Demerjian Sports Center\n8:30 AM: Jbeil\, facing Dunkin Donuts \nRequired Materials:\n————————————\n– Hiking boots\n– Backpack\n– 1.5 liters of water\n– Sunglasses\n– Sunscreen\n– Healthy snacks\n– Hat \nFees:\n—————\n$20 for mini Pullman transportation\, guides\, photos\, and first aid assistance. \n$18 if joining by car (location will be shared upon reservation). \nOptional lunch: $15 \nFor reservations\, call or SMS on WhatsApp: +961 70 727 312 (Alain). \nContact us to book your private customised hikes! \nPlease be on time! \nEstimated return time : ~4 PM
URL:https://gobatroun.com/event/hiking-in-artez/
LOCATION:Aartez\, 6PQX+75Q Harbounah\, Aartez\, Lebanon
CATEGORIES:Sports
ATTACH;FMTTYPE=image/jpeg:https://gobatroun.com/wp-content/uploads/2024/10/October-27.jpg
ORGANIZER;CN="Eplorers of Lebanon":MAILTO:alainghelou@gmail.com
GEO:34.238237976579;35.748083287708
X-APPLE-STRUCTURED-LOCATION;VALUE=URI;X-ADDRESS=Aartez 6PQX+75Q Harbounah Aartez Lebanon;X-APPLE-RADIUS=500;X-TITLE=6PQX+75Q Harbounah:geo:35.748083287708,34.238237976579
END:VEVENT
BEGIN:VEVENT
DTSTART;VALUE=DATE:20241013
DTEND;VALUE=DATE:20241015
DTSTAMP:20260421T150317
CREATED:20241009T062710Z
LAST-MODIFIED:20241009T062710Z
UID:10006639-1728799200-1728885599@gobatroun.com
SUMMARY:Hiking the Lebanese Heirtage Trail
DESCRIPTION:Dear hikers and nature lovers\, IT’S TIME! \n“the Lebanese Heritage Trail”. \nJoin SUNDAY 13 of oct\, 2024\, for an amazing hike Batroun district. \ndescription:\nWe will start our trail from Kfar Chlaimane village\, ending our hike in Artez\, on our way Roman ruins\, Archaeological sites\, old churches\, Environmental diversity\, you don’t want to miss.\nAscents and descents are moderate. At the end we gather in a very special place Alzourou3 where we have lunch. \nTrail type: one way\nType of terrain: footpath\, dirt road\, asphalt road.\nDistance:7~ kms.\nMoving time:3 ~ hours\nTotal time:5 ~ hours\nDifficulty: medium 5/10\nMax elevation: 700 m\nMin elevation: 500 m\nEstimated return time to Beirut 5:00 pm. \nMeeting points:\n– Al Sayfe Downtown\, departure at 7:30 am \nWe can pick you up on our way. \nRecommended:\nHiking or sport pants\, hiking shoes\, cap\, sunscreen\, light snacks to boost up your energy during the hike\, 2L water\, hiking sticks\, your positive vibes. \nFees: 35$ Goes for transportation\, lunch” Sajj formula” at Alzourou3\, coffee & tea\, healthy snacks\, first aid kit. \nN B:\n-always follow the guide on the designated trail. \n-Breakfast on our way. \n-Hiking shoes are highly recommended. \n-Please avoid conversation regarding politics and religion! \n-Reserve your place as soon as possible! At least before Thursday. \n-Complete fees will be paid in case of cancelation 24 hours prior event. \nStay fit and go hiking \nFor Reservations +961 03 986 284
URL:https://gobatroun.com/event/hiking-the-lebanese-heirtage-trail/
LOCATION:Aartez\, 6PQX+75Q Harbounah\, Aartez\, Lebanon
CATEGORIES:Sports
ATTACH;FMTTYPE=image/jpeg:https://gobatroun.com/wp-content/uploads/2024/10/October-13.jpg
GEO:34.238237976579;35.748083287708
X-APPLE-STRUCTURED-LOCATION;VALUE=URI;X-ADDRESS=Aartez 6PQX+75Q Harbounah Aartez Lebanon;X-APPLE-RADIUS=500;X-TITLE=6PQX+75Q Harbounah:geo:35.748083287708,34.238237976579
END:VEVENT
BEGIN:VEVENT
DTSTART;TZID=Asia/Beirut:20240814T180000
DTEND;TZID=Asia/Beirut:20240814T180000
DTSTAMP:20260421T150317
CREATED:20240723T052625Z
LAST-MODIFIED:20240723T053353Z
UID:10006436-1723658400-1723658400@gobatroun.com
SUMMARY:Eid Al Sayde - Aartez
DESCRIPTION:Eid Al Sayde  SAVE THE DATE\nلقاءنا بيتجدد متل كل سنة ، و كل سنة احلا من سنة\nرقص و ضحك و سهرية عيد .. \nانضموا إلينا للاحتفال بعيد السيدة في عرطز! \nالجدول :\n* 6:00 مساءً: القداس في كنيسة سيدة المعونات\n* 8:30 مساءً: السهرة\nيتخلله عرض مباشر لعازفة الكمان سينثيا خبسا، يتبعه حفل راقص مع DJ Matta \nالطعام والمشروبات:\n* يمكنكم إحضار طعامكم الخاص كما انه يتوفر live grill station by FYRD للسندويشات\n* كما و ايضا يمكنكم طلب مسبقا اطباق المازة اللبنانية والطعام من مطعم SROOD في قرية زان المجاورة ليتم توصيلها لكم عبر هذا الرقم ٠٣/٢٥٠٧٠٣\n* استمتعوا بالمشروبات من البار المتواجد والمكسرات \nدعم الحرفيين المحليين:\n* تعرفوا على معرض المنتجات المحلية والحرف اليدوية من قريتنا \nرسم الدخول: 15 دولار \nللحجز ولمزيد من المعلومات : ٧١/١١٩٥٨١ جيسيكا حكيّم
URL:https://gobatroun.com/event/47406/
LOCATION:Aartez\, 6PQX+75Q Harbounah\, Aartez\, Lebanon
CATEGORIES:Community
ATTACH;FMTTYPE=image/jpeg:https://gobatroun.com/wp-content/uploads/2024/07/Eid-Al-Sayde-Events.jpg
GEO:34.238237976579;35.748083287708
X-APPLE-STRUCTURED-LOCATION;VALUE=URI;X-ADDRESS=Aartez 6PQX+75Q Harbounah Aartez Lebanon;X-APPLE-RADIUS=500;X-TITLE=6PQX+75Q Harbounah:geo:35.748083287708,34.238237976579
END:VEVENT
BEGIN:VEVENT
DTSTART;TZID=Asia/Beirut:20240602T080000
DTEND;TZID=Asia/Beirut:20240602T130000
DTSTAMP:20260421T150317
CREATED:20240509T123401Z
LAST-MODIFIED:20240509T123401Z
UID:10006106-1717315200-1717333200@gobatroun.com
SUMMARY:Hike for a Cause
DESCRIPTION:Hike for a cause- All proceeds go to help our families in need \nSunday 2 June: \nDeparture from Batroun at 8:00 am- Meeting point Saint Stephan Cathedral \nVisit Al Zourou3\, Aartez – Reconnect with your roots and explore Al Zourou3 project for a back-to-roots tour \nHike Kfar Chleymane\, Zan\, Fathat\, Aartez – Distance 6Km ; Duration: 2hrs 30min (including breaks) ; Difficulty : Easy to Moderate \nBreakfast at Al Zourou3\, Aartez – Open Buffet \nReturn to Batroun at 1:00 pm \n25$/person including transportation\, local guide\, snacks & Breakfast \n 
URL:https://gobatroun.com/event/hike-for-a-cause/
LOCATION:Aartez\, 6PQX+75Q Harbounah\, Aartez\, Lebanon
CATEGORIES:Sports
ATTACH;FMTTYPE=image/jpeg:https://gobatroun.com/wp-content/uploads/2024/05/June-2-edit.jpg
GEO:34.238237976579;35.748083287708
X-APPLE-STRUCTURED-LOCATION;VALUE=URI;X-ADDRESS=Aartez 6PQX+75Q Harbounah Aartez Lebanon;X-APPLE-RADIUS=500;X-TITLE=6PQX+75Q Harbounah:geo:35.748083287708,34.238237976579
END:VEVENT
BEGIN:VEVENT
DTSTART;TZID=Asia/Beirut:20230814T180000
DTEND;TZID=Asia/Beirut:20230814T180000
DTSTAMP:20260421T150317
CREATED:20230718T122438Z
LAST-MODIFIED:20230718T122438Z
UID:10004313-1692036000-1692036000@gobatroun.com
SUMMARY:Eid El Salib at Aartez
DESCRIPTION:موعدنا متل كل سنة بتاريخ ١٤ آب تنحتفل بعيد السيدة ونسهر سوا بساحة كنيسة عرطز باجواء صلاه وفرح وتسلية\nلاقونا الساعة ٦ لنفتتح سهرتنا بالذبيحة الالهية ونتشارك من بعدها سهرة موسيقية ولقمة شهية وجوائز تومبولا\nما تنسوا تحجزوا بطاقاتكم وتكونوا كتار عالموعد\nسعر البطاقة ١٠ $.\nملاحظة: يرجى عدم ادخال الماكولات والمشروبات، فانها مؤمنة باسعار مدروسة (FYRD) (Drink Bar)
URL:https://gobatroun.com/event/eid-el-salib-at-aartez/
LOCATION:Aartez\, 6PQX+75Q Harbounah\, Aartez\, Lebanon
CATEGORIES:Performing Arts
ATTACH;FMTTYPE=image/jpeg:https://gobatroun.com/wp-content/uploads/2023/07/WhatsApp-Image-2023-07-15-at-13.40.31.jpg
GEO:34.238237976579;35.748083287708
X-APPLE-STRUCTURED-LOCATION;VALUE=URI;X-ADDRESS=Aartez 6PQX+75Q Harbounah Aartez Lebanon;X-APPLE-RADIUS=500;X-TITLE=6PQX+75Q Harbounah:geo:35.748083287708,34.238237976579
END:VEVENT
END:VCALENDAR