BEGIN:VCALENDAR
VERSION:2.0
PRODID:-//Go Batroun - ECPv6.14.2//NONSGML v1.0//EN
CALSCALE:GREGORIAN
METHOD:PUBLISH
X-ORIGINAL-URL:https://gobatroun.com
X-WR-CALDESC:Events for Go Batroun
REFRESH-INTERVAL;VALUE=DURATION:PT1H
X-Robots-Tag:noindex
X-PUBLISHED-TTL:PT1H
BEGIN:VTIMEZONE
TZID:Asia/Beirut
BEGIN:DAYLIGHT
TZOFFSETFROM:+0200
TZOFFSETTO:+0300
TZNAME:EEST
DTSTART:20220326T220000
END:DAYLIGHT
BEGIN:STANDARD
TZOFFSETFROM:+0300
TZOFFSETTO:+0200
TZNAME:EET
DTSTART:20221029T210000
END:STANDARD
END:VTIMEZONE
BEGIN:VEVENT
DTSTART;TZID=Asia/Beirut:20221225T220000
DTEND;TZID=Asia/Beirut:20221225T220000
DTSTAMP:20260420T004305
CREATED:20221215T112514Z
LAST-MODIFIED:20221215T112514Z
UID:10001683-1672005600-1672005600@gobatroun.com
SUMMARY:Pavo Sbannout  and Hadi Daou at X Lounge Batroun
DESCRIPTION:Sunday 25 December\, we’re turning your night upside down with the special performance of @pavosbannout followed by the spectacular @hadidaouofficial \nFor reservations\, please contact: 03 499833
URL:https://gobatroun.com/event/pavo-sbannout-and-hadi-daou-at-x-lounge-batroun/
LOCATION:Xlounge Batroun
CATEGORIES:Performing Arts
ATTACH;FMTTYPE=image/png:https://gobatroun.com/wp-content/uploads/2022/12/Screenshot-2266.png
END:VEVENT
BEGIN:VEVENT
DTSTART;TZID=Asia/Beirut:20221223T220000
DTEND;TZID=Asia/Beirut:20221223T220000
DTSTAMP:20260420T004305
CREATED:20221214T075807Z
LAST-MODIFIED:20221221T083407Z
UID:10001663-1671832800-1671832800@gobatroun.com
SUMMARY:Carlos at Léyl
DESCRIPTION:
URL:https://gobatroun.com/event/carlos-at-leyl/
LOCATION:Xlounge Batroun
CATEGORIES:Performing Arts
ATTACH;FMTTYPE=image/png:https://gobatroun.com/wp-content/uploads/2022/12/Screenshot-2301.png
END:VEVENT
BEGIN:VEVENT
DTSTART;TZID=Asia/Beirut:20221216T220000
DTEND;TZID=Asia/Beirut:20221216T220000
DTSTAMP:20260420T004305
CREATED:20221212T082620Z
LAST-MODIFIED:20221212T082620Z
UID:10001641-1671228000-1671228000@gobatroun.com
SUMMARY:Hady Khalil and Mahmoud Solh at Xlounge Batroun
DESCRIPTION:@hadykhaliil & @hayakelbaalbeck_offical Dabke band\nLive in concert at @xloungebatroun stage\, this Friday 16 December\nFor reservation 03 499 833
URL:https://gobatroun.com/event/hady-khalil-and-mahmoud-solh-at-xlounge-batroun/
LOCATION:Xlounge Batroun
CATEGORIES:Performing Arts
ATTACH;FMTTYPE=image/png:https://gobatroun.com/wp-content/uploads/2022/12/Screenshot-2222.png
END:VEVENT
BEGIN:VEVENT
DTSTART;TZID=Asia/Beirut:20221209T220000
DTEND;TZID=Asia/Beirut:20221209T220000
DTSTAMP:20260420T004305
CREATED:20221205T080420Z
LAST-MODIFIED:20221205T080420Z
UID:10001616-1670623200-1670623200@gobatroun.com
SUMMARY:Naji Osta at Xlounge Batroun
DESCRIPTION:Mark your calendars on Friday\, December 9\, and join us at @xloungebatroun for an extraordinary night ft the star @ostanaji\nFor Reservation 03 499 833
URL:https://gobatroun.com/event/naji-osta-at-xlounge-batroun/
LOCATION:Xlounge Batroun
CATEGORIES:Performing Arts
ATTACH;FMTTYPE=image/png:https://gobatroun.com/wp-content/uploads/2022/12/Screenshot-2145.png
END:VEVENT
END:VCALENDAR