BEGIN:VCALENDAR
VERSION:2.0
PRODID:-//Go Batroun - ECPv6.14.2//NONSGML v1.0//EN
CALSCALE:GREGORIAN
METHOD:PUBLISH
X-ORIGINAL-URL:https://gobatroun.com
X-WR-CALDESC:Events for Go Batroun
REFRESH-INTERVAL;VALUE=DURATION:PT1H
X-Robots-Tag:noindex
X-PUBLISHED-TTL:PT1H
BEGIN:VTIMEZONE
TZID:Asia/Beirut
BEGIN:DAYLIGHT
TZOFFSETFROM:+0200
TZOFFSETTO:+0300
TZNAME:EEST
DTSTART:20220326T220000
END:DAYLIGHT
BEGIN:STANDARD
TZOFFSETFROM:+0300
TZOFFSETTO:+0200
TZNAME:EET
DTSTART:20221029T210000
END:STANDARD
END:VTIMEZONE
BEGIN:VEVENT
DTSTART;TZID=Asia/Beirut:20220819T200000
DTEND;TZID=Asia/Beirut:20220819T200000
DTSTAMP:20260426T043730
CREATED:20220816T115818Z
LAST-MODIFIED:20220816T115818Z
UID:10001169-1660939200-1660939200@gobatroun.com
SUMMARY:Brain Challenging Games at Singing in the Rain
DESCRIPTION:Grey cells🧠 ? Are you on vacation mode🏖️??\nCome join us for a brain-challenging games night at Singing in the Rain – Batroun old Souk.\nBook your seat on : 03 78 26 41
URL:https://gobatroun.com/event/brain-challenging-games-at-singing-in-the-rain/
LOCATION:Singing in the Rain
CATEGORIES:Performing Arts,Sports
ATTACH;FMTTYPE=image/png:https://gobatroun.com/wp-content/uploads/2022/08/Screenshot-1290.png
END:VEVENT
END:VCALENDAR