BEGIN:VCALENDAR
VERSION:2.0
PRODID:-//Go Batroun - ECPv6.14.2//NONSGML v1.0//EN
CALSCALE:GREGORIAN
METHOD:PUBLISH
X-ORIGINAL-URL:https://gobatroun.com
X-WR-CALDESC:Events for Go Batroun
REFRESH-INTERVAL;VALUE=DURATION:PT1H
X-Robots-Tag:noindex
X-PUBLISHED-TTL:PT1H
BEGIN:VTIMEZONE
TZID:Asia/Beirut
BEGIN:DAYLIGHT
TZOFFSETFROM:+0200
TZOFFSETTO:+0300
TZNAME:EEST
DTSTART:20230325T220000
END:DAYLIGHT
BEGIN:STANDARD
TZOFFSETFROM:+0300
TZOFFSETTO:+0200
TZNAME:EET
DTSTART:20231028T210000
END:STANDARD
END:VTIMEZONE
BEGIN:VEVENT
DTSTART;TZID=Asia/Beirut:20230505T220000
DTEND;TZID=Asia/Beirut:20230505T220000
DTSTAMP:20260424T164305
CREATED:20230503T132254Z
LAST-MODIFIED:20230503T132254Z
UID:10002283-1683324000-1683324000@gobatroun.com
SUMMARY:Aly Yaghi at Seven Night Club
DESCRIPTION:@alyyaghiofficial #fridaynight\nFRSV : 70 351 005
URL:https://gobatroun.com/event/aly-yaghi-at-seven-night-club/
LOCATION:Seven Night Club
CATEGORIES:Performing Arts
ATTACH;FMTTYPE=image/png:https://gobatroun.com/wp-content/uploads/2023/05/Screenshot-595.png
END:VEVENT
BEGIN:VEVENT
DTSTART;TZID=Asia/Beirut:20230429T220000
DTEND;TZID=Asia/Beirut:20230429T220000
DTSTAMP:20260424T164305
CREATED:20230425T114134Z
LAST-MODIFIED:20230425T114134Z
UID:10002256-1682805600-1682805600@gobatroun.com
SUMMARY:Peter Boutros at Seven Night Club
DESCRIPTION:
URL:https://gobatroun.com/event/peter-boutros-at-seven-night-club-4/
LOCATION:Seven Night Club
CATEGORIES:Performing Arts
ATTACH;FMTTYPE=image/png:https://gobatroun.com/wp-content/uploads/2023/04/Screenshot-467.png
END:VEVENT
BEGIN:VEVENT
DTSTART;TZID=Asia/Beirut:20230428T213000
DTEND;TZID=Asia/Beirut:20230428T213000
DTSTAMP:20260424T164305
CREATED:20230425T114319Z
LAST-MODIFIED:20230425T114319Z
UID:10002257-1682717400-1682717400@gobatroun.com
SUMMARY:Fawzi Basha at Seven Night Club
DESCRIPTION:
URL:https://gobatroun.com/event/fawzi-basha-at-seven-night-club/
LOCATION:Seven Night Club
CATEGORIES:Performing Arts
ATTACH;FMTTYPE=image/png:https://gobatroun.com/wp-content/uploads/2023/04/Screenshot-468.png
END:VEVENT
BEGIN:VEVENT
DTSTART;TZID=Asia/Beirut:20230421T213000
DTEND;TZID=Asia/Beirut:20230421T213000
DTSTAMP:20260424T164305
CREATED:20230418T082409Z
LAST-MODIFIED:20230418T082454Z
UID:10002212-1682112600-1682112600@gobatroun.com
SUMMARY:Youssef El Malek at Seven Night Club
DESCRIPTION:
URL:https://gobatroun.com/event/youssef-el-malek-at-seven-night-club/
LOCATION:Seven Night Club
CATEGORIES:Performing Arts
ATTACH;FMTTYPE=image/png:https://gobatroun.com/wp-content/uploads/2023/04/Screenshot-421.png
END:VEVENT
BEGIN:VEVENT
DTSTART;TZID=Asia/Beirut:20230415T213000
DTEND;TZID=Asia/Beirut:20230415T213000
DTSTAMP:20260424T164305
CREATED:20230412T132759Z
LAST-MODIFIED:20230412T132759Z
UID:10002199-1681594200-1681594200@gobatroun.com
SUMMARY:Clara Rihany at Seven Night Club
DESCRIPTION:
URL:https://gobatroun.com/event/clara-rihany-at-seven-night-club/
LOCATION:Seven Night Club
CATEGORIES:Performing Arts
ATTACH;FMTTYPE=image/png:https://gobatroun.com/wp-content/uploads/2023/04/Screenshot-381.png
END:VEVENT
BEGIN:VEVENT
DTSTART;TZID=Asia/Beirut:20230408T213000
DTEND;TZID=Asia/Beirut:20230408T213000
DTSTAMP:20260424T164305
CREATED:20230404T113056Z
LAST-MODIFIED:20230404T113056Z
UID:10002164-1680989400-1680989400@gobatroun.com
SUMMARY:Peter Boutros at Seven Night Club
DESCRIPTION:
URL:https://gobatroun.com/event/peter-boutros-at-seven-night-club-3/
LOCATION:Seven Night Club
CATEGORIES:Performing Arts
ATTACH;FMTTYPE=image/png:https://gobatroun.com/wp-content/uploads/2023/04/Screenshot-335.png
END:VEVENT
BEGIN:VEVENT
DTSTART;TZID=Asia/Beirut:20230401T213000
DTEND;TZID=Asia/Beirut:20230401T213000
DTSTAMP:20260424T164305
CREATED:20230329T132740Z
LAST-MODIFIED:20230329T132918Z
UID:10002148-1680384600-1680384600@gobatroun.com
SUMMARY:Peter Boutros at Seven Night Club
DESCRIPTION:
URL:https://gobatroun.com/event/peter-boutros-at-seven-night-club-2/
LOCATION:Seven Night Club
CATEGORIES:Performing Arts
ATTACH;FMTTYPE=image/png:https://gobatroun.com/wp-content/uploads/2023/03/Screenshot-145.png
END:VEVENT
BEGIN:VEVENT
DTSTART;TZID=Asia/Beirut:20230331T210000
DTEND;TZID=Asia/Beirut:20230331T210000
DTSTAMP:20260424T164305
CREATED:20230329T132538Z
LAST-MODIFIED:20230329T132538Z
UID:10002146-1680296400-1680296400@gobatroun.com
SUMMARY:Charbel Narchy at Xlounge Batroun
DESCRIPTION:For reservation +961 70 351 005
URL:https://gobatroun.com/event/charbel-narchy-at-xlounge-batroun/
LOCATION:Seven Night Club
CATEGORIES:Performing Arts
ATTACH;FMTTYPE=image/png:https://gobatroun.com/wp-content/uploads/2023/03/Screenshot-261.png
END:VEVENT
BEGIN:VEVENT
DTSTART;TZID=Asia/Beirut:20230318T213000
DTEND;TZID=Asia/Beirut:20230318T213000
DTSTAMP:20260424T164305
CREATED:20230315T083015Z
LAST-MODIFIED:20230315T083015Z
UID:10002105-1679175000-1679175000@gobatroun.com
SUMMARY:Peter Boutros at Seven Night Club
DESCRIPTION:
URL:https://gobatroun.com/event/peter-boutros-at-seven-night-club/
LOCATION:Seven Night Club
CATEGORIES:Performing Arts
ATTACH;FMTTYPE=image/png:https://gobatroun.com/wp-content/uploads/2023/03/Screenshot-145.png
END:VEVENT
BEGIN:VEVENT
DTSTART;TZID=Asia/Beirut:20230317T213000
DTEND;TZID=Asia/Beirut:20230317T213000
DTSTAMP:20260424T164305
CREATED:20230315T082815Z
LAST-MODIFIED:20230315T082815Z
UID:10002104-1679088600-1679088600@gobatroun.com
SUMMARY:Youhanna Saad at Seven Night Club
DESCRIPTION:
URL:https://gobatroun.com/event/youhanna-saad-at-seven-night-club-2/
LOCATION:Seven Night Club
CATEGORIES:Performing Arts
ATTACH;FMTTYPE=image/png:https://gobatroun.com/wp-content/uploads/2023/03/Screenshot-144.png
END:VEVENT
BEGIN:VEVENT
DTSTART;TZID=Asia/Beirut:20230311T213000
DTEND;TZID=Asia/Beirut:20230311T213000
DTSTAMP:20260424T164305
CREATED:20230307T092129Z
LAST-MODIFIED:20230307T092129Z
UID:10002058-1678570200-1678570200@gobatroun.com
SUMMARY:Youhanna Saad at Seven Night Club
DESCRIPTION:Saturday night with @youhannasaad
URL:https://gobatroun.com/event/youhanna-saad-at-seven-night-club/
LOCATION:Seven Night Club
CATEGORIES:Performing Arts
ATTACH;FMTTYPE=image/png:https://gobatroun.com/wp-content/uploads/2023/03/Screenshot-111.png
END:VEVENT
BEGIN:VEVENT
DTSTART;TZID=Asia/Beirut:20230310T213000
DTEND;TZID=Asia/Beirut:20230310T213000
DTSTAMP:20260424T164305
CREATED:20230307T091935Z
LAST-MODIFIED:20230307T091935Z
UID:10002057-1678483800-1678483800@gobatroun.com
SUMMARY:Youssef El Malek and the Band at Seven Night Club
DESCRIPTION:الجمعة مع الملك 🔥كونو كتار عالموعد @youssef_elmalek
URL:https://gobatroun.com/event/youssef-el-malek-and-the-band-at-seven-night-club/
LOCATION:Seven Night Club
CATEGORIES:Performing Arts
ATTACH;FMTTYPE=image/png:https://gobatroun.com/wp-content/uploads/2023/03/Screenshot-110.png
END:VEVENT
BEGIN:VEVENT
DTSTART;TZID=Asia/Beirut:20230304T220000
DTEND;TZID=Asia/Beirut:20230304T220000
DTSTAMP:20260424T164305
CREATED:20230302T090254Z
LAST-MODIFIED:20230302T090254Z
UID:10002042-1677967200-1677967200@gobatroun.com
SUMMARY:Ayman Ayoub at Seven Night Club
DESCRIPTION:
URL:https://gobatroun.com/event/ayman-ayoub-at-seven-night-club-2/
LOCATION:Seven Night Club
CATEGORIES:Performing Arts
ATTACH;FMTTYPE=image/png:https://gobatroun.com/wp-content/uploads/2023/03/Screenshot-2791.png
END:VEVENT
BEGIN:VEVENT
DTSTART;TZID=Asia/Beirut:20230303T210000
DTEND;TZID=Asia/Beirut:20230303T210000
DTSTAMP:20260424T164305
CREATED:20230302T092035Z
LAST-MODIFIED:20230302T092035Z
UID:10002043-1677877200-1677877200@gobatroun.com
SUMMARY:Elianor and Peter Botrous at Seven Night Club
DESCRIPTION:
URL:https://gobatroun.com/event/elianor-and-peter-botrous-at-seven-night-club/
LOCATION:Seven Night Club
CATEGORIES:Performing Arts
ATTACH;FMTTYPE=image/jpeg:https://gobatroun.com/wp-content/uploads/2023/03/WhatsApp-Image-2023-03-02-at-11.07.36-AM.jpeg
END:VEVENT
BEGIN:VEVENT
DTSTART;TZID=Asia/Beirut:20230224T213000
DTEND;TZID=Asia/Beirut:20230224T213000
DTSTAMP:20260424T164305
CREATED:20230222T073552Z
LAST-MODIFIED:20230222T073552Z
UID:10001990-1677274200-1677274200@gobatroun.com
SUMMARY:Elie Kalas at Seven Night Clib
DESCRIPTION:
URL:https://gobatroun.com/event/elie-kalas-at-seven-night-clib/
LOCATION:Seven Night Club
CATEGORIES:Performing Arts
ATTACH;FMTTYPE=image/png:https://gobatroun.com/wp-content/uploads/2023/02/Screenshot-47.png
END:VEVENT
BEGIN:VEVENT
DTSTART;TZID=Asia/Beirut:20230218T220000
DTEND;TZID=Asia/Beirut:20230218T220000
DTSTAMP:20260424T164305
CREATED:20230217T101437Z
LAST-MODIFIED:20230217T101437Z
UID:10001966-1676757600-1676757600@gobatroun.com
SUMMARY:Petter Boutros at Seven Night Club
DESCRIPTION:
URL:https://gobatroun.com/event/petter-boutros-at-seven-night-club/
LOCATION:Seven Night Club
CATEGORIES:Performing Arts
ATTACH;FMTTYPE=image/png:https://gobatroun.com/wp-content/uploads/2023/02/Screenshot-37.png
END:VEVENT
BEGIN:VEVENT
DTSTART;TZID=Asia/Beirut:20230217T220000
DTEND;TZID=Asia/Beirut:20230217T220000
DTSTAMP:20260424T164305
CREATED:20230217T101648Z
LAST-MODIFIED:20230217T101648Z
UID:10001967-1676671200-1676671200@gobatroun.com
SUMMARY:Ayman Ayoub and Eleanor Khalil at Seven Night Club
DESCRIPTION:
URL:https://gobatroun.com/event/ayman-ayoub-and-eleanor-khalil-at-seven-night-club/
LOCATION:Seven Night Club
CATEGORIES:Performing Arts
ATTACH;FMTTYPE=image/png:https://gobatroun.com/wp-content/uploads/2023/02/Screenshot-38.png
END:VEVENT
BEGIN:VEVENT
DTSTART;TZID=Asia/Beirut:20230211T210000
DTEND;TZID=Asia/Beirut:20230211T210000
DTSTAMP:20260424T164305
CREATED:20230207T143943Z
LAST-MODIFIED:20230207T143943Z
UID:10001922-1676149200-1676149200@gobatroun.com
SUMMARY:Peter Boutros and Youhanna Saad at Seven Night Club
DESCRIPTION:#saturdaynight @peterboutrosofficial1 @youhannasaad 💥🔥
URL:https://gobatroun.com/event/peter-boutros-and-youhanna-saad-at-seven-night-club-2/
LOCATION:Seven Night Club
CATEGORIES:Performing Arts
ATTACH;FMTTYPE=image/jpeg:https://gobatroun.com/wp-content/uploads/2023/02/WhatsApp-Image-2023-02-07-at-4.39.04-PM.jpeg
END:VEVENT
BEGIN:VEVENT
DTSTART;TZID=Asia/Beirut:20230210T210000
DTEND;TZID=Asia/Beirut:20230210T210000
DTSTAMP:20260424T164305
CREATED:20230207T143558Z
LAST-MODIFIED:20230207T143558Z
UID:10001921-1676062800-1676062800@gobatroun.com
SUMMARY:Ayman Ayoub at Seven Night Club
DESCRIPTION:
URL:https://gobatroun.com/event/ayman-ayoub-at-seven-night-club/
LOCATION:Seven Night Club
CATEGORIES:Performing Arts
ATTACH;FMTTYPE=image/png:https://gobatroun.com/wp-content/uploads/2023/02/Screenshot-2708.png
END:VEVENT
BEGIN:VEVENT
DTSTART;TZID=Asia/Beirut:20230204T210000
DTEND;TZID=Asia/Beirut:20230204T210000
DTSTAMP:20260424T164305
CREATED:20230201T080547Z
LAST-MODIFIED:20230201T080547Z
UID:10001877-1675544400-1675544400@gobatroun.com
SUMMARY:Peter Boutros and Youhanna Saad at Seven Night Club
DESCRIPTION:
URL:https://gobatroun.com/event/peter-boutros-and-youhanna-saad-at-seven-night-club/
LOCATION:Seven Night Club
CATEGORIES:Performing Arts
ATTACH;FMTTYPE=image/png:https://gobatroun.com/wp-content/uploads/2023/02/Screenshot-2607.png
END:VEVENT
BEGIN:VEVENT
DTSTART;TZID=Asia/Beirut:20230203T220000
DTEND;TZID=Asia/Beirut:20230203T220000
DTSTAMP:20260424T164305
CREATED:20230130T091034Z
LAST-MODIFIED:20230130T091034Z
UID:10001859-1675461600-1675461600@gobatroun.com
SUMMARY:RASHID FOUANI at Seven Night Club
DESCRIPTION:Friday with the king @rachidfouaniofficial
URL:https://gobatroun.com/event/rashid-fouani-at-seven-night-club/
LOCATION:Seven Night Club
CATEGORIES:Performing Arts
ATTACH;FMTTYPE=image/png:https://gobatroun.com/wp-content/uploads/2023/01/Screenshot-2597.png
END:VEVENT
BEGIN:VEVENT
DTSTART;TZID=Asia/Beirut:20230127T220000
DTEND;TZID=Asia/Beirut:20230127T220000
DTSTAMP:20260424T164305
CREATED:20230123T075805Z
LAST-MODIFIED:20230123T075805Z
UID:10001813-1674856800-1674856800@gobatroun.com
SUMMARY:Ali Yaghy at Seven Night Club
DESCRIPTION:
URL:https://gobatroun.com/event/ali-yaghy-at-seven-night-club/
LOCATION:Seven Night Club
CATEGORIES:Performing Arts
ATTACH;FMTTYPE=image/png:https://gobatroun.com/wp-content/uploads/2023/01/Screenshot-2520.png
END:VEVENT
BEGIN:VEVENT
DTSTART;TZID=Asia/Beirut:20230120T220000
DTEND;TZID=Asia/Beirut:20230120T220000
DTSTAMP:20260424T164305
CREATED:20230117T073411Z
LAST-MODIFIED:20230117T073411Z
UID:10001786-1674252000-1674252000@gobatroun.com
SUMMARY:Eleanor and Fawzi at Seven Night Club
DESCRIPTION:Friday 💥 FRSV 70 351 005
URL:https://gobatroun.com/event/eleanor-and-fawzi-at-seven-night-club/
LOCATION:Seven Night Club
CATEGORIES:Performing Arts
ATTACH;FMTTYPE=image/png:https://gobatroun.com/wp-content/uploads/2023/01/Screenshot-2435.png
END:VEVENT
BEGIN:VEVENT
DTSTART;TZID=Asia/Beirut:20230114T220000
DTEND;TZID=Asia/Beirut:20230114T220000
DTSTAMP:20260424T164305
CREATED:20230111T111910Z
LAST-MODIFIED:20230111T111910Z
UID:10001746-1673733600-1673733600@gobatroun.com
SUMMARY:Youhanna Saad and Peter Boutros at Seven Night Club
DESCRIPTION:
URL:https://gobatroun.com/event/youhanna-saad-and-peter-boutros-at-seven-night-club/
LOCATION:Seven Night Club
CATEGORIES:Performing Arts
ATTACH;FMTTYPE=image/png:https://gobatroun.com/wp-content/uploads/2023/01/Screenshot-12.png
END:VEVENT
BEGIN:VEVENT
DTSTART;TZID=Asia/Beirut:20230113T220000
DTEND;TZID=Asia/Beirut:20230113T220000
DTSTAMP:20260424T164305
CREATED:20230111T111642Z
LAST-MODIFIED:20230111T111642Z
UID:10001745-1673647200-1673647200@gobatroun.com
SUMMARY:Charbel Narchy at Seven Night Club
DESCRIPTION:
URL:https://gobatroun.com/event/charbel-narchy-at-seven-night-club/
LOCATION:Seven Night Club
CATEGORIES:Performing Arts
ATTACH;FMTTYPE=image/png:https://gobatroun.com/wp-content/uploads/2023/01/Screenshot-11.png
END:VEVENT
END:VCALENDAR