BEGIN:VCALENDAR
VERSION:2.0
PRODID:-//Go Batroun - ECPv6.14.2//NONSGML v1.0//EN
CALSCALE:GREGORIAN
METHOD:PUBLISH
X-WR-CALNAME:Go Batroun
X-ORIGINAL-URL:https://gobatroun.com
X-WR-CALDESC:Events for Go Batroun
REFRESH-INTERVAL;VALUE=DURATION:PT1H
X-Robots-Tag:noindex
X-PUBLISHED-TTL:PT1H
BEGIN:VTIMEZONE
TZID:Asia/Beirut
BEGIN:DAYLIGHT
TZOFFSETFROM:+0200
TZOFFSETTO:+0300
TZNAME:EEST
DTSTART:20230325T220000
END:DAYLIGHT
BEGIN:STANDARD
TZOFFSETFROM:+0300
TZOFFSETTO:+0200
TZNAME:EET
DTSTART:20231028T210000
END:STANDARD
END:VTIMEZONE
BEGIN:VEVENT
DTSTART;TZID=Asia/Beirut:20230917T203000
DTEND;TZID=Asia/Beirut:20230917T203000
DTSTAMP:20260420T212438
CREATED:20230912T122613Z
LAST-MODIFIED:20230912T122613Z
UID:10004870-1694982600-1694982600@gobatroun.com
SUMMARY:Dj Nonz at Laho
DESCRIPTION:
URL:https://gobatroun.com/event/dj-nonz-at-laho-9/2023-09-17/
LOCATION:Laho Rooftop\, 7M25+8G Batroun\, Batroun\, Lebanon
CATEGORIES:Performing Arts
ATTACH;FMTTYPE=image/png:https://gobatroun.com/wp-content/uploads/2023/09/Screenshot-2094.png
GEO:34.250857358408;35.658874045674
X-APPLE-STRUCTURED-LOCATION;VALUE=URI;X-ADDRESS=Laho Rooftop 7M25+8G Batroun Batroun Lebanon;X-APPLE-RADIUS=500;X-TITLE=7M25+8G Batroun:geo:35.658874045674,34.250857358408
END:VEVENT
BEGIN:VEVENT
DTSTART;TZID=Asia/Beirut:20230916T203000
DTEND;TZID=Asia/Beirut:20230916T203000
DTSTAMP:20260420T212438
CREATED:20230912T122613Z
LAST-MODIFIED:20230912T122613Z
UID:10004869-1694896200-1694896200@gobatroun.com
SUMMARY:Dj Nonz at Laho
DESCRIPTION:
URL:https://gobatroun.com/event/dj-nonz-at-laho-9/2023-09-16/
LOCATION:Laho Rooftop\, 7M25+8G Batroun\, Batroun\, Lebanon
CATEGORIES:Performing Arts
ATTACH;FMTTYPE=image/png:https://gobatroun.com/wp-content/uploads/2023/09/Screenshot-2094.png
GEO:34.250857358408;35.658874045674
X-APPLE-STRUCTURED-LOCATION;VALUE=URI;X-ADDRESS=Laho Rooftop 7M25+8G Batroun Batroun Lebanon;X-APPLE-RADIUS=500;X-TITLE=7M25+8G Batroun:geo:35.658874045674,34.250857358408
END:VEVENT
BEGIN:VEVENT
DTSTART;TZID=Asia/Beirut:20230915T210000
DTEND;TZID=Asia/Beirut:20230915T210000
DTSTAMP:20260420T212438
CREATED:20230912T122435Z
LAST-MODIFIED:20230912T122435Z
UID:10004868-1694811600-1694811600@gobatroun.com
SUMMARY:Dj Joe Hannoun at Laho
DESCRIPTION:
URL:https://gobatroun.com/event/dj-joe-hannoun-at-laho/
LOCATION:Laho Rooftop\, 7M25+8G Batroun\, Batroun\, Lebanon
CATEGORIES:Performing Arts
ATTACH;FMTTYPE=image/png:https://gobatroun.com/wp-content/uploads/2023/09/Screenshot-2093.png
GEO:34.250857358408;35.658874045674
X-APPLE-STRUCTURED-LOCATION;VALUE=URI;X-ADDRESS=Laho Rooftop 7M25+8G Batroun Batroun Lebanon;X-APPLE-RADIUS=500;X-TITLE=7M25+8G Batroun:geo:35.658874045674,34.250857358408
END:VEVENT
BEGIN:VEVENT
DTSTART;TZID=Asia/Beirut:20230910T203000
DTEND;TZID=Asia/Beirut:20230910T203000
DTSTAMP:20260420T212438
CREATED:20230907T102320Z
LAST-MODIFIED:20230907T102320Z
UID:10004848-1694377800-1694377800@gobatroun.com
SUMMARY:Christina Haddad and Dj Cedrix at Laho
DESCRIPTION:
URL:https://gobatroun.com/event/christina-haddad-and-dj-cedrix-at-laho-2/
LOCATION:Laho Rooftop\, 7M25+8G Batroun\, Batroun\, Lebanon
CATEGORIES:Performing Arts
ATTACH;FMTTYPE=image/png:https://gobatroun.com/wp-content/uploads/2023/09/Screenshot-2076.png
GEO:34.250857358408;35.658874045674
X-APPLE-STRUCTURED-LOCATION;VALUE=URI;X-ADDRESS=Laho Rooftop 7M25+8G Batroun Batroun Lebanon;X-APPLE-RADIUS=500;X-TITLE=7M25+8G Batroun:geo:35.658874045674,34.250857358408
END:VEVENT
BEGIN:VEVENT
DTSTART;TZID=Asia/Beirut:20230909T203000
DTEND;TZID=Asia/Beirut:20230909T203000
DTSTAMP:20260420T212438
CREATED:20230907T102122Z
LAST-MODIFIED:20230907T102122Z
UID:10004847-1694291400-1694291400@gobatroun.com
SUMMARY:Dj Nonz at Laho
DESCRIPTION:
URL:https://gobatroun.com/event/dj-nonz-at-laho-8/
LOCATION:Laho Rooftop\, 7M25+8G Batroun\, Batroun\, Lebanon
CATEGORIES:Performing Arts
ATTACH;FMTTYPE=image/png:https://gobatroun.com/wp-content/uploads/2023/07/Screenshot-1448-505x510-1.png
GEO:34.250857358408;35.658874045674
X-APPLE-STRUCTURED-LOCATION;VALUE=URI;X-ADDRESS=Laho Rooftop 7M25+8G Batroun Batroun Lebanon;X-APPLE-RADIUS=500;X-TITLE=7M25+8G Batroun:geo:35.658874045674,34.250857358408
END:VEVENT
BEGIN:VEVENT
DTSTART;TZID=Asia/Beirut:20230908T203000
DTEND;TZID=Asia/Beirut:20230908T203000
DTSTAMP:20260420T212438
CREATED:20230907T101945Z
LAST-MODIFIED:20230907T101945Z
UID:10004846-1694205000-1694205000@gobatroun.com
SUMMARY:Dj Nonz at Laho
DESCRIPTION:
URL:https://gobatroun.com/event/dj-nonz-at-laho-5/
LOCATION:Laho Rooftop\, 7M25+8G Batroun\, Batroun\, Lebanon
CATEGORIES:Performing Arts
ATTACH;FMTTYPE=image/png:https://gobatroun.com/wp-content/uploads/2023/07/Screenshot-1448-505x510-1.png
GEO:34.250857358408;35.658874045674
X-APPLE-STRUCTURED-LOCATION;VALUE=URI;X-ADDRESS=Laho Rooftop 7M25+8G Batroun Batroun Lebanon;X-APPLE-RADIUS=500;X-TITLE=7M25+8G Batroun:geo:35.658874045674,34.250857358408
END:VEVENT
BEGIN:VEVENT
DTSTART;TZID=Asia/Beirut:20230903T203000
DTEND;TZID=Asia/Beirut:20230903T203000
DTSTAMP:20260420T212438
CREATED:20230830T071359Z
LAST-MODIFIED:20230830T071359Z
UID:10004785-1693773000-1693773000@gobatroun.com
SUMMARY:Christina Haddad and Dj Cedrix at Laho
DESCRIPTION:
URL:https://gobatroun.com/event/christina-haddad-and-dj-cedrix-at-laho/
LOCATION:Laho Rooftop\, 7M25+8G Batroun\, Batroun\, Lebanon
CATEGORIES:Performing Arts
ATTACH;FMTTYPE=image/png:https://gobatroun.com/wp-content/uploads/2023/08/Screenshot-2028.png
GEO:34.250857358408;35.658874045674
X-APPLE-STRUCTURED-LOCATION;VALUE=URI;X-ADDRESS=Laho Rooftop 7M25+8G Batroun Batroun Lebanon;X-APPLE-RADIUS=500;X-TITLE=7M25+8G Batroun:geo:35.658874045674,34.250857358408
END:VEVENT
BEGIN:VEVENT
DTSTART;TZID=Asia/Beirut:20230902T203000
DTEND;TZID=Asia/Beirut:20230902T203000
DTSTAMP:20260420T212438
CREATED:20230830T070959Z
LAST-MODIFIED:20230830T070959Z
UID:10004784-1693686600-1693686600@gobatroun.com
SUMMARY:Dj Nonz at Laho
DESCRIPTION:
URL:https://gobatroun.com/event/dj-nonz-at-laho-7/
LOCATION:Laho Rooftop\, 7M25+8G Batroun\, Batroun\, Lebanon
CATEGORIES:Performing Arts
ATTACH;FMTTYPE=image/png:https://gobatroun.com/wp-content/uploads/2023/08/Screenshot-2027.png
GEO:34.250857358408;35.658874045674
X-APPLE-STRUCTURED-LOCATION;VALUE=URI;X-ADDRESS=Laho Rooftop 7M25+8G Batroun Batroun Lebanon;X-APPLE-RADIUS=500;X-TITLE=7M25+8G Batroun:geo:35.658874045674,34.250857358408
END:VEVENT
BEGIN:VEVENT
DTSTART;TZID=Asia/Beirut:20230831T203000
DTEND;TZID=Asia/Beirut:20230831T203000
DTSTAMP:20260420T212438
CREATED:20230830T070705Z
LAST-MODIFIED:20230830T070705Z
UID:10004783-1693513800-1693513800@gobatroun.com
SUMMARY:Dj Silver at Laho
DESCRIPTION:
URL:https://gobatroun.com/event/dj-silver-at-laho/
LOCATION:Laho Rooftop\, 7M25+8G Batroun\, Batroun\, Lebanon
CATEGORIES:Performing Arts
ATTACH;FMTTYPE=image/png:https://gobatroun.com/wp-content/uploads/2023/08/Screenshot-2026.png
GEO:34.250857358408;35.658874045674
X-APPLE-STRUCTURED-LOCATION;VALUE=URI;X-ADDRESS=Laho Rooftop 7M25+8G Batroun Batroun Lebanon;X-APPLE-RADIUS=500;X-TITLE=7M25+8G Batroun:geo:35.658874045674,34.250857358408
END:VEVENT
BEGIN:VEVENT
DTSTART;TZID=Asia/Beirut:20230827T203000
DTEND;TZID=Asia/Beirut:20230827T203000
DTSTAMP:20260420T212438
CREATED:20230824T091249Z
LAST-MODIFIED:20230824T091249Z
UID:10004712-1693168200-1693168200@gobatroun.com
SUMMARY:Chantal Bitar at Laho
DESCRIPTION:
URL:https://gobatroun.com/event/chantal-bitar-at-laho/
LOCATION:Laho Rooftop\, 7M25+8G Batroun\, Batroun\, Lebanon
CATEGORIES:Performing Arts
ATTACH;FMTTYPE=image/png:https://gobatroun.com/wp-content/uploads/2023/08/Screenshot-1990.png
GEO:34.250857358408;35.658874045674
X-APPLE-STRUCTURED-LOCATION;VALUE=URI;X-ADDRESS=Laho Rooftop 7M25+8G Batroun Batroun Lebanon;X-APPLE-RADIUS=500;X-TITLE=7M25+8G Batroun:geo:35.658874045674,34.250857358408
END:VEVENT
BEGIN:VEVENT
DTSTART;TZID=Asia/Beirut:20230826T203000
DTEND;TZID=Asia/Beirut:20230826T203000
DTSTAMP:20260420T212438
CREATED:20230830T070426Z
LAST-MODIFIED:20230830T070426Z
UID:10004782-1693081800-1693081800@gobatroun.com
SUMMARY:Dj Nonz at Laho
DESCRIPTION:
URL:https://gobatroun.com/event/dj-nonz-at-laho-6/
LOCATION:Laho Rooftop\, 7M25+8G Batroun\, Batroun\, Lebanon
CATEGORIES:Performing Arts
ATTACH;FMTTYPE=image/png:https://gobatroun.com/wp-content/uploads/2023/07/Screenshot-1448-505x510-1.png
GEO:34.250857358408;35.658874045674
X-APPLE-STRUCTURED-LOCATION;VALUE=URI;X-ADDRESS=Laho Rooftop 7M25+8G Batroun Batroun Lebanon;X-APPLE-RADIUS=500;X-TITLE=7M25+8G Batroun:geo:35.658874045674,34.250857358408
END:VEVENT
BEGIN:VEVENT
DTSTART;TZID=Asia/Beirut:20230813T200000
DTEND;TZID=Asia/Beirut:20230813T200000
DTSTAMP:20260420T212438
CREATED:20230808T125220Z
LAST-MODIFIED:20230808T125220Z
UID:10004556-1691956800-1691956800@gobatroun.com
SUMMARY:Walid AL Massih at Laho Rooftop
DESCRIPTION:Join me Sunday August 13 at @lahorooftop for the final event in Lebanon before heading back to Dubai. Love you all. For reservations call Laho or my number 03538628
URL:https://gobatroun.com/event/walid-al-massih-at-laho-rooftop-2/
LOCATION:Laho Rooftop\, 7M25+8G Batroun\, Batroun\, Lebanon
CATEGORIES:Performing Arts
ATTACH;FMTTYPE=image/png:https://gobatroun.com/wp-content/uploads/2023/07/Screenshot-1489.png
GEO:34.250857358408;35.658874045674
X-APPLE-STRUCTURED-LOCATION;VALUE=URI;X-ADDRESS=Laho Rooftop 7M25+8G Batroun Batroun Lebanon;X-APPLE-RADIUS=500;X-TITLE=7M25+8G Batroun:geo:35.658874045674,34.250857358408
END:VEVENT
BEGIN:VEVENT
DTSTART;TZID=Asia/Beirut:20230812T210000
DTEND;TZID=Asia/Beirut:20230812T210000
DTSTAMP:20260420T212438
CREATED:20230904T104644Z
LAST-MODIFIED:20230926T125825Z
UID:10004801-1691874000-1691874000@gobatroun.com
SUMMARY:Dj Mitch Mix at JET SET Batroun
DESCRIPTION:Get ready to take flight with us tonight!✨ \nJoin us tonight for an unforgettable party that’ll soar above the rest. 🎉
URL:https://gobatroun.com/event/dj-mitch-mix-at-jet-set-batroun/
LOCATION:Laho Rooftop\, 7M25+8G Batroun\, Batroun\, Lebanon
CATEGORIES:Performing Arts
ATTACH;FMTTYPE=image/png:https://gobatroun.com/wp-content/uploads/2023/09/Screenshot-2046.png
GEO:34.250857358408;35.658874045674
X-APPLE-STRUCTURED-LOCATION;VALUE=URI;X-ADDRESS=Laho Rooftop 7M25+8G Batroun Batroun Lebanon;X-APPLE-RADIUS=500;X-TITLE=7M25+8G Batroun:geo:35.658874045674,34.250857358408
END:VEVENT
BEGIN:VEVENT
DTSTART;TZID=Asia/Beirut:20230812T203000
DTEND;TZID=Asia/Beirut:20230812T203000
DTSTAMP:20260420T212438
CREATED:20230809T145742Z
LAST-MODIFIED:20230809T145742Z
UID:10004583-1691872200-1691872200@gobatroun.com
SUMMARY:Dj Jay at laho
DESCRIPTION:
URL:https://gobatroun.com/event/dj-jay-at-laho/
LOCATION:Laho Rooftop\, 7M25+8G Batroun\, Batroun\, Lebanon
CATEGORIES:Performing Arts
ATTACH;FMTTYPE=image/png:https://gobatroun.com/wp-content/uploads/2023/08/Screenshot-1766.png
GEO:34.250857358408;35.658874045674
X-APPLE-STRUCTURED-LOCATION;VALUE=URI;X-ADDRESS=Laho Rooftop 7M25+8G Batroun Batroun Lebanon;X-APPLE-RADIUS=500;X-TITLE=7M25+8G Batroun:geo:35.658874045674,34.250857358408
END:VEVENT
BEGIN:VEVENT
DTSTART;TZID=Asia/Beirut:20230809T203000
DTEND;TZID=Asia/Beirut:20230809T203000
DTSTAMP:20260420T212438
CREATED:20230809T145416Z
LAST-MODIFIED:20230809T145416Z
UID:10004581-1691613000-1691613000@gobatroun.com
SUMMARY:Dj Nonz at Laho
DESCRIPTION:
URL:https://gobatroun.com/event/dj-nonz-at-laho-4/
LOCATION:Laho Rooftop\, 7M25+8G Batroun\, Batroun\, Lebanon
CATEGORIES:Performing Arts
ATTACH;FMTTYPE=image/png:https://gobatroun.com/wp-content/uploads/2023/07/Screenshot-1448-505x510-1.png
GEO:34.250857358408;35.658874045674
X-APPLE-STRUCTURED-LOCATION;VALUE=URI;X-ADDRESS=Laho Rooftop 7M25+8G Batroun Batroun Lebanon;X-APPLE-RADIUS=500;X-TITLE=7M25+8G Batroun:geo:35.658874045674,34.250857358408
END:VEVENT
BEGIN:VEVENT
DTSTART;TZID=Asia/Beirut:20230802T203000
DTEND;TZID=Asia/Beirut:20230802T203000
DTSTAMP:20260420T212438
CREATED:20230802T060618Z
LAST-MODIFIED:20230802T060618Z
UID:10004488-1691008200-1691008200@gobatroun.com
SUMMARY:Dj Nonz at Laho
DESCRIPTION:
URL:https://gobatroun.com/event/dj-nonz-at-laho-3/
LOCATION:Laho Rooftop\, 7M25+8G Batroun\, Batroun\, Lebanon
CATEGORIES:Performing Arts
ATTACH;FMTTYPE=image/png:https://gobatroun.com/wp-content/uploads/2023/07/Screenshot-1448-505x510-1.png
GEO:34.250857358408;35.658874045674
X-APPLE-STRUCTURED-LOCATION;VALUE=URI;X-ADDRESS=Laho Rooftop 7M25+8G Batroun Batroun Lebanon;X-APPLE-RADIUS=500;X-TITLE=7M25+8G Batroun:geo:35.658874045674,34.250857358408
END:VEVENT
BEGIN:VEVENT
DTSTART;TZID=Asia/Beirut:20230730T200000
DTEND;TZID=Asia/Beirut:20230730T200000
DTSTAMP:20260420T212438
CREATED:20230725T134259Z
LAST-MODIFIED:20230725T134259Z
UID:10004407-1690747200-1690747200@gobatroun.com
SUMMARY:Walid AL Massih at Laho Rooftop
DESCRIPTION:All the way from Dubai Walid al massih and his friends love at @lahorooftop Sunday july 30 starting 8pm. For booking call 03538628
URL:https://gobatroun.com/event/walid-al-massih-at-laho-rooftop/
LOCATION:Laho Rooftop\, 7M25+8G Batroun\, Batroun\, Lebanon
CATEGORIES:Performing Arts
ATTACH;FMTTYPE=image/png:https://gobatroun.com/wp-content/uploads/2023/07/Screenshot-1489.png
GEO:34.250857358408;35.658874045674
X-APPLE-STRUCTURED-LOCATION;VALUE=URI;X-ADDRESS=Laho Rooftop 7M25+8G Batroun Batroun Lebanon;X-APPLE-RADIUS=500;X-TITLE=7M25+8G Batroun:geo:35.658874045674,34.250857358408
END:VEVENT
BEGIN:VEVENT
DTSTART;TZID=Asia/Beirut:20230729T210000
DTEND;TZID=Asia/Beirut:20230729T210000
DTSTAMP:20260420T212438
CREATED:20230725T140115Z
LAST-MODIFIED:20230725T140115Z
UID:10004413-1690664400-1690664400@gobatroun.com
SUMMARY:Dj Mitchmix at JET SET Batroun
DESCRIPTION:
URL:https://gobatroun.com/event/dj-mitchmix-at-jet-set-batroun/
LOCATION:Laho Rooftop\, 7M25+8G Batroun\, Batroun\, Lebanon
CATEGORIES:Performing Arts
ATTACH;FMTTYPE=image/png:https://gobatroun.com/wp-content/uploads/2023/07/Screenshot-1492.png
GEO:34.250857358408;35.658874045674
X-APPLE-STRUCTURED-LOCATION;VALUE=URI;X-ADDRESS=Laho Rooftop 7M25+8G Batroun Batroun Lebanon;X-APPLE-RADIUS=500;X-TITLE=7M25+8G Batroun:geo:35.658874045674,34.250857358408
END:VEVENT
BEGIN:VEVENT
DTSTART;TZID=Asia/Beirut:20230729T203000
DTEND;TZID=Asia/Beirut:20230729T203000
DTSTAMP:20260420T212438
CREATED:20230725T133800Z
LAST-MODIFIED:20230725T133800Z
UID:10004403-1690662600-1690662600@gobatroun.com
SUMMARY:Dj PYA at Laho
DESCRIPTION:
URL:https://gobatroun.com/event/dj-pya-at-laho-2/
LOCATION:Laho Rooftop\, 7M25+8G Batroun\, Batroun\, Lebanon
CATEGORIES:Performing Arts
ATTACH;FMTTYPE=image/png:https://gobatroun.com/wp-content/uploads/2023/07/Screenshot-1488.png
GEO:34.250857358408;35.658874045674
X-APPLE-STRUCTURED-LOCATION;VALUE=URI;X-ADDRESS=Laho Rooftop 7M25+8G Batroun Batroun Lebanon;X-APPLE-RADIUS=500;X-TITLE=7M25+8G Batroun:geo:35.658874045674,34.250857358408
END:VEVENT
BEGIN:VEVENT
DTSTART;TZID=Asia/Beirut:20230728T210000
DTEND;TZID=Asia/Beirut:20230728T210000
DTSTAMP:20260420T212438
CREATED:20230725T135938Z
LAST-MODIFIED:20230725T135938Z
UID:10004412-1690578000-1690578000@gobatroun.com
SUMMARY:Dj Viny at JET SET Batroun
DESCRIPTION:
URL:https://gobatroun.com/event/dj-viny-at-jet-set-batroun/
LOCATION:Laho Rooftop\, 7M25+8G Batroun\, Batroun\, Lebanon
CATEGORIES:Performing Arts
ATTACH;FMTTYPE=image/png:https://gobatroun.com/wp-content/uploads/2023/07/Screenshot-1492.png
GEO:34.250857358408;35.658874045674
X-APPLE-STRUCTURED-LOCATION;VALUE=URI;X-ADDRESS=Laho Rooftop 7M25+8G Batroun Batroun Lebanon;X-APPLE-RADIUS=500;X-TITLE=7M25+8G Batroun:geo:35.658874045674,34.250857358408
END:VEVENT
BEGIN:VEVENT
DTSTART;TZID=Asia/Beirut:20230727T210000
DTEND;TZID=Asia/Beirut:20230727T210000
DTSTAMP:20260420T212438
CREATED:20230725T135825Z
LAST-MODIFIED:20230725T135825Z
UID:10004411-1690491600-1690491600@gobatroun.com
SUMMARY:Cynthia and The Band at JET SET Batroun
DESCRIPTION:
URL:https://gobatroun.com/event/cynthia-and-the-band-at-jet-set-batroun/
LOCATION:Laho Rooftop\, 7M25+8G Batroun\, Batroun\, Lebanon
CATEGORIES:Performing Arts
ATTACH;FMTTYPE=image/png:https://gobatroun.com/wp-content/uploads/2023/07/Screenshot-1492.png
GEO:34.250857358408;35.658874045674
X-APPLE-STRUCTURED-LOCATION;VALUE=URI;X-ADDRESS=Laho Rooftop 7M25+8G Batroun Batroun Lebanon;X-APPLE-RADIUS=500;X-TITLE=7M25+8G Batroun:geo:35.658874045674,34.250857358408
END:VEVENT
BEGIN:VEVENT
DTSTART;TZID=Asia/Beirut:20230726T203000
DTEND;TZID=Asia/Beirut:20230726T203000
DTSTAMP:20260420T212438
CREATED:20230725T133836Z
LAST-MODIFIED:20230725T133836Z
UID:10004406-1690403400-1690403400@gobatroun.com
SUMMARY:Dj Jack at Laho
DESCRIPTION:
URL:https://gobatroun.com/event/dj-jack-at-laho/
LOCATION:Laho Rooftop\, 7M25+8G Batroun\, Batroun\, Lebanon
CATEGORIES:Performing Arts
ATTACH;FMTTYPE=image/png:https://gobatroun.com/wp-content/uploads/2023/07/Screenshot-1488.png
GEO:34.250857358408;35.658874045674
X-APPLE-STRUCTURED-LOCATION;VALUE=URI;X-ADDRESS=Laho Rooftop 7M25+8G Batroun Batroun Lebanon;X-APPLE-RADIUS=500;X-TITLE=7M25+8G Batroun:geo:35.658874045674,34.250857358408
END:VEVENT
BEGIN:VEVENT
DTSTART;TZID=Asia/Beirut:20230726T203000
DTEND;TZID=Asia/Beirut:20230726T203000
DTSTAMP:20260420T212438
CREATED:20230725T133745Z
LAST-MODIFIED:20230725T133745Z
UID:10004405-1690403400-1690403400@gobatroun.com
SUMMARY:Dj Nonz at Laho
DESCRIPTION:
URL:https://gobatroun.com/event/dj-nonz-at-laho-2/
LOCATION:Laho Rooftop\, 7M25+8G Batroun\, Batroun\, Lebanon
CATEGORIES:Performing Arts
ATTACH;FMTTYPE=image/png:https://gobatroun.com/wp-content/uploads/2023/07/Screenshot-1448-505x510-1.png
GEO:34.250857358408;35.658874045674
X-APPLE-STRUCTURED-LOCATION;VALUE=URI;X-ADDRESS=Laho Rooftop 7M25+8G Batroun Batroun Lebanon;X-APPLE-RADIUS=500;X-TITLE=7M25+8G Batroun:geo:35.658874045674,34.250857358408
END:VEVENT
BEGIN:VEVENT
DTSTART;TZID=Asia/Beirut:20230723T203000
DTEND;TZID=Asia/Beirut:20230723T203000
DTSTAMP:20260420T212438
CREATED:20230719T053754Z
LAST-MODIFIED:20230719T053754Z
UID:10004369-1690144200-1690144200@gobatroun.com
SUMMARY:Dj Armen at Laho
DESCRIPTION:
URL:https://gobatroun.com/event/dj-armen-at-laho/
LOCATION:Laho Rooftop\, 7M25+8G Batroun\, Batroun\, Lebanon
CATEGORIES:Performing Arts
ATTACH;FMTTYPE=image/png:https://gobatroun.com/wp-content/uploads/2023/07/Screenshot-1450.png
GEO:34.250857358408;35.658874045674
X-APPLE-STRUCTURED-LOCATION;VALUE=URI;X-ADDRESS=Laho Rooftop 7M25+8G Batroun Batroun Lebanon;X-APPLE-RADIUS=500;X-TITLE=7M25+8G Batroun:geo:35.658874045674,34.250857358408
END:VEVENT
BEGIN:VEVENT
DTSTART;TZID=Asia/Beirut:20230722T203000
DTEND;TZID=Asia/Beirut:20230722T203000
DTSTAMP:20260420T212438
CREATED:20230719T054202Z
LAST-MODIFIED:20230719T054202Z
UID:10004370-1690057800-1690057800@gobatroun.com
SUMMARY:Dj PYA at Laho
DESCRIPTION:
URL:https://gobatroun.com/event/dj-pya-at-laho/
LOCATION:Laho Rooftop\, 7M25+8G Batroun\, Batroun\, Lebanon
CATEGORIES:Performing Arts
ATTACH;FMTTYPE=image/png:https://gobatroun.com/wp-content/uploads/2023/07/Screenshot-1451.png
GEO:34.250857358408;35.658874045674
X-APPLE-STRUCTURED-LOCATION;VALUE=URI;X-ADDRESS=Laho Rooftop 7M25+8G Batroun Batroun Lebanon;X-APPLE-RADIUS=500;X-TITLE=7M25+8G Batroun:geo:35.658874045674,34.250857358408
END:VEVENT
BEGIN:VEVENT
DTSTART;TZID=Asia/Beirut:20230719T203000
DTEND;TZID=Asia/Beirut:20230719T203000
DTSTAMP:20260420T212438
CREATED:20230719T052408Z
LAST-MODIFIED:20230719T052408Z
UID:10004367-1689798600-1689798600@gobatroun.com
SUMMARY:Dj Nonz at Laho
DESCRIPTION:
URL:https://gobatroun.com/event/dj-nonz-at-laho/
LOCATION:Laho Rooftop\, 7M25+8G Batroun\, Batroun\, Lebanon
CATEGORIES:Performing Arts
ATTACH;FMTTYPE=image/png:https://gobatroun.com/wp-content/uploads/2023/07/Screenshot-1448.png
GEO:34.250857358408;35.658874045674
X-APPLE-STRUCTURED-LOCATION;VALUE=URI;X-ADDRESS=Laho Rooftop 7M25+8G Batroun Batroun Lebanon;X-APPLE-RADIUS=500;X-TITLE=7M25+8G Batroun:geo:35.658874045674,34.250857358408
END:VEVENT
BEGIN:VEVENT
DTSTART;TZID=Asia/Beirut:20230713T203000
DTEND;TZID=Asia/Beirut:20230713T203000
DTSTAMP:20260420T212438
CREATED:20230713T113347Z
LAST-MODIFIED:20230713T113404Z
UID:10004257-1689280200-1689280200@gobatroun.com
SUMMARY:Dj Cedrix at Laho
DESCRIPTION:
URL:https://gobatroun.com/event/dj-cedrix-at-laho/
LOCATION:Laho Rooftop\, 7M25+8G Batroun\, Batroun\, Lebanon
CATEGORIES:Performing Arts
ATTACH;FMTTYPE=image/png:https://gobatroun.com/wp-content/uploads/2023/07/Screenshot-1349.png
GEO:34.250857358408;35.658874045674
X-APPLE-STRUCTURED-LOCATION;VALUE=URI;X-ADDRESS=Laho Rooftop 7M25+8G Batroun Batroun Lebanon;X-APPLE-RADIUS=500;X-TITLE=7M25+8G Batroun:geo:35.658874045674,34.250857358408
END:VEVENT
END:VCALENDAR