BEGIN:VCALENDAR
VERSION:2.0
PRODID:-//Go Batroun - ECPv6.14.2//NONSGML v1.0//EN
CALSCALE:GREGORIAN
METHOD:PUBLISH
X-ORIGINAL-URL:https://gobatroun.com
X-WR-CALDESC:Events for Go Batroun
REFRESH-INTERVAL;VALUE=DURATION:PT1H
X-Robots-Tag:noindex
X-PUBLISHED-TTL:PT1H
BEGIN:VTIMEZONE
TZID:Asia/Beirut
BEGIN:DAYLIGHT
TZOFFSETFROM:+0200
TZOFFSETTO:+0300
TZNAME:EEST
DTSTART:20230325T220000
END:DAYLIGHT
BEGIN:STANDARD
TZOFFSETFROM:+0300
TZOFFSETTO:+0200
TZNAME:EET
DTSTART:20231028T210000
END:STANDARD
END:VTIMEZONE
BEGIN:VEVENT
DTSTART;TZID=Asia/Beirut:20231111T213000
DTEND;TZID=Asia/Beirut:20231111T213000
DTSTAMP:20260426T071249
CREATED:20231109T080105Z
LAST-MODIFIED:20231109T080105Z
UID:10005146-1699738200-1699738200@gobatroun.com
SUMMARY:OhMar & Sam at HANGLOOSE
DESCRIPTION:Dance the night away to the electrifying beats of OhMar & Sam this Saturday!
URL:https://gobatroun.com/event/ohmar-sam-at-hangloose/
LOCATION:HANGLOOSE\, 6MW6+PQ Batroun\, Batroun\, Lebanon
CATEGORIES:Performing Arts
ATTACH;FMTTYPE=image/png:https://gobatroun.com/wp-content/uploads/2023/11/Screenshot-2473.png
ORGANIZER;CN="HANGLOOSE":MAILTO:contact@info.com
GEO:34.246771332534;35.661930198875
X-APPLE-STRUCTURED-LOCATION;VALUE=URI;X-ADDRESS=HANGLOOSE 6MW6+PQ Batroun Batroun Lebanon;X-APPLE-RADIUS=500;X-TITLE=6MW6+PQ Batroun:geo:35.661930198875,34.246771332534
END:VEVENT
BEGIN:VEVENT
DTSTART;TZID=Asia/Beirut:20231110T210000
DTEND;TZID=Asia/Beirut:20231110T210000
DTSTAMP:20260426T071249
CREATED:20231107T122129Z
LAST-MODIFIED:20231107T122129Z
UID:10005135-1699650000-1699650000@gobatroun.com
SUMMARY:Dj Raimund and Dj SÄSS at HANGLOOSE
DESCRIPTION:Get ready to groove to the funky beats this Friday night at Hangloose! 🕺💃
URL:https://gobatroun.com/event/dj-raimund-and-dj-sass-at-hangloose/
LOCATION:HANGLOOSE\, 6MW6+PQ Batroun\, Batroun\, Lebanon
CATEGORIES:Performing Arts
ATTACH;FMTTYPE=image/png:https://gobatroun.com/wp-content/uploads/2023/11/Screenshot-2465.png
ORGANIZER;CN="HANGLOOSE":MAILTO:contact@info.com
GEO:34.246771332534;35.661930198875
X-APPLE-STRUCTURED-LOCATION;VALUE=URI;X-ADDRESS=HANGLOOSE 6MW6+PQ Batroun Batroun Lebanon;X-APPLE-RADIUS=500;X-TITLE=6MW6+PQ Batroun:geo:35.661930198875,34.246771332534
END:VEVENT
BEGIN:VEVENT
DTSTART;TZID=Asia/Beirut:20231104T220000
DTEND;TZID=Asia/Beirut:20231104T220000
DTSTAMP:20260426T071249
CREATED:20231031T134005Z
LAST-MODIFIED:20231031T134005Z
UID:10005101-1699135200-1699135200@gobatroun.com
SUMMARY:Danton Attieh\, Dj Raimund\, and Dj Sass at HANGLOOSE
DESCRIPTION:Get ready to dance in the moonlight at Tracks on Tracks Halloween Edition this Saturday\, Nov 4th! 👻🎃\nDress to impress in your spookiest costume – the best one wins!
URL:https://gobatroun.com/event/danton-attieh-dj-raimund-and-dj-sass-at-hangloose/
LOCATION:HANGLOOSE\, 6MW6+PQ Batroun\, Batroun\, Lebanon
CATEGORIES:Performing Arts
ATTACH;FMTTYPE=image/png:https://gobatroun.com/wp-content/uploads/2023/10/Screenshot-2411.png
ORGANIZER;CN="HANGLOOSE":MAILTO:contact@info.com
GEO:34.246771332534;35.661930198875
X-APPLE-STRUCTURED-LOCATION;VALUE=URI;X-ADDRESS=HANGLOOSE 6MW6+PQ Batroun Batroun Lebanon;X-APPLE-RADIUS=500;X-TITLE=6MW6+PQ Batroun:geo:35.661930198875,34.246771332534
END:VEVENT
BEGIN:VEVENT
DTSTART;TZID=Asia/Beirut:20231028T220000
DTEND;TZID=Asia/Beirut:20231028T220000
DTSTAMP:20260426T071249
CREATED:20231027T081334Z
LAST-MODIFIED:20231027T081334Z
UID:10005090-1698530400-1698530400@gobatroun.com
SUMMARY:Dj Wave Ripper on the Decks at HANGLOOSE
DESCRIPTION:
URL:https://gobatroun.com/event/dj-wave-ripper-on-the-decks-at-hangloose/
LOCATION:HANGLOOSE\, 6MW6+PQ Batroun\, Batroun\, Lebanon
CATEGORIES:Performing Arts
ATTACH;FMTTYPE=image/png:https://gobatroun.com/wp-content/uploads/2023/10/Screenshot-2408.png
ORGANIZER;CN="HANGLOOSE":MAILTO:contact@info.com
GEO:34.246771332534;35.661930198875
X-APPLE-STRUCTURED-LOCATION;VALUE=URI;X-ADDRESS=HANGLOOSE 6MW6+PQ Batroun Batroun Lebanon;X-APPLE-RADIUS=500;X-TITLE=6MW6+PQ Batroun:geo:35.661930198875,34.246771332534
END:VEVENT
BEGIN:VEVENT
DTSTART;TZID=Asia/Beirut:20231027T210000
DTEND;TZID=Asia/Beirut:20231027T210000
DTSTAMP:20260426T071249
CREATED:20231025T120938Z
LAST-MODIFIED:20231025T120938Z
UID:10005079-1698440400-1698440400@gobatroun.com
SUMMARY:DJ Raimund at Hangloose
DESCRIPTION:Let’s disco the night away 🕺🏻🪩\nGet ready to groove into the weekend with DJ Raimund this Friday night at Hangloose!
URL:https://gobatroun.com/event/dj-raimund-at-hangloose/
LOCATION:HANGLOOSE\, 6MW6+PQ Batroun\, Batroun\, Lebanon
CATEGORIES:Performing Arts
ATTACH;FMTTYPE=image/png:https://gobatroun.com/wp-content/uploads/2023/10/Screenshot-2385.png
ORGANIZER;CN="HANGLOOSE":MAILTO:contact@info.com
GEO:34.246771332534;35.661930198875
X-APPLE-STRUCTURED-LOCATION;VALUE=URI;X-ADDRESS=HANGLOOSE 6MW6+PQ Batroun Batroun Lebanon;X-APPLE-RADIUS=500;X-TITLE=6MW6+PQ Batroun:geo:35.661930198875,34.246771332534
END:VEVENT
BEGIN:VEVENT
DTSTART;TZID=Asia/Beirut:20231021T210000
DTEND;TZID=Asia/Beirut:20231021T210000
DTSTAMP:20260426T071249
CREATED:20231016T110237Z
LAST-MODIFIED:20231016T110237Z
UID:10005051-1697922000-1697922000@gobatroun.com
SUMMARY:Raimund\, SÄSS\, Danton Attieh\, Omar Abi Nader\, Joy Fayad at HANGLOOSE
DESCRIPTION:New weekend\, new beats!\nJoin us again for another round of fun with fresh musicians and good vibes🤙🏼🎶🏄‍♀️\nLet’s make this weekend unforgettable !!
URL:https://gobatroun.com/event/raimund-sass-danton-attieh-omar-abi-nader-joy-fayad-at-hangloose/
LOCATION:HANGLOOSE\, 6MW6+PQ Batroun\, Batroun\, Lebanon
CATEGORIES:Performing Arts
ATTACH;FMTTYPE=image/png:https://gobatroun.com/wp-content/uploads/2023/10/Screenshot-2356.png
ORGANIZER;CN="HANGLOOSE":MAILTO:contact@info.com
GEO:34.246771332534;35.661930198875
X-APPLE-STRUCTURED-LOCATION;VALUE=URI;X-ADDRESS=HANGLOOSE 6MW6+PQ Batroun Batroun Lebanon;X-APPLE-RADIUS=500;X-TITLE=6MW6+PQ Batroun:geo:35.661930198875,34.246771332534
END:VEVENT
BEGIN:VEVENT
DTSTART;TZID=Asia/Beirut:20231014T170000
DTEND;TZID=Asia/Beirut:20231014T170000
DTSTAMP:20260426T071249
CREATED:20231010T120305Z
LAST-MODIFIED:20231010T120305Z
UID:10005036-1697302800-1697302800@gobatroun.com
SUMMARY:Raimund\, Bluesician\, Binky\, Sass\, Rational\, and Victim at HANGLOOSE
DESCRIPTION:Elevate your Saturday vibes with our weekly line up DJS\, live bands\, and more at TRACKS ON TRACKS! $10 entry includes 1 drink\, a climbing wall\, surfboard fun\, and a BBQ station. Let the good times roll!
URL:https://gobatroun.com/event/raimund-bluesician-binky-sass-rational-and-victim-at-hangloose/
LOCATION:HANGLOOSE\, 6MW6+PQ Batroun\, Batroun\, Lebanon
CATEGORIES:Performing Arts
ATTACH;FMTTYPE=image/jpeg:https://gobatroun.com/wp-content/uploads/2023/10/20231010_145325.jpg
ORGANIZER;CN="HANGLOOSE":MAILTO:contact@info.com
GEO:34.246771332534;35.661930198875
X-APPLE-STRUCTURED-LOCATION;VALUE=URI;X-ADDRESS=HANGLOOSE 6MW6+PQ Batroun Batroun Lebanon;X-APPLE-RADIUS=500;X-TITLE=6MW6+PQ Batroun:geo:35.661930198875,34.246771332534
END:VEVENT
BEGIN:VEVENT
DTSTART;TZID=Asia/Beirut:20231007T120000
DTEND;TZID=Asia/Beirut:20231007T170000
DTSTAMP:20260426T071249
CREATED:20231002T052716Z
LAST-MODIFIED:20231002T052856Z
UID:10004990-1696680000-1696698000@gobatroun.com
SUMMARY:Raimund\, Esmé\, Joy Janet\, Dansz\, and Jad at Hangloose
DESCRIPTION:TRACKS ON TRACKS Fall Menu kicks off Oct 7th\, featuring live tunes\, Bands\, DJs\, live station\, climbing walls\, surfboard\, and vibes that reach new heights. Join us in collaboration with @climberspace and @lebaneseyachtclub for an unforgettable experience
URL:https://gobatroun.com/event/raimund-esme-joy-janet-dansz-and-jad-at-hangloose/
LOCATION:HANGLOOSE\, 6MW6+PQ Batroun\, Batroun\, Lebanon
CATEGORIES:Performing Arts
ATTACH;FMTTYPE=image/png:https://gobatroun.com/wp-content/uploads/2023/10/Screenshot-2257.png
ORGANIZER;CN="HANGLOOSE":MAILTO:contact@info.com
GEO:34.246771332534;35.661930198875
X-APPLE-STRUCTURED-LOCATION;VALUE=URI;X-ADDRESS=HANGLOOSE 6MW6+PQ Batroun Batroun Lebanon;X-APPLE-RADIUS=500;X-TITLE=6MW6+PQ Batroun:geo:35.661930198875,34.246771332534
END:VEVENT
BEGIN:VEVENT
DTSTART;TZID=Asia/Beirut:20230922T220000
DTEND;TZID=Asia/Beirut:20230922T220000
DTSTAMP:20260426T071249
CREATED:20230920T053128Z
LAST-MODIFIED:20230920T053128Z
UID:10004905-1695420000-1695420000@gobatroun.com
SUMMARY:Vibes Band at Hangloose
DESCRIPTION:Let loose this Friday night with @vibes.bandlb at Hangloose! DJ Ralph Saad on deck for the ultimate warm-up and closing beats. Let the music carry you away!
URL:https://gobatroun.com/event/vibes-band-at-hangloose/
LOCATION:HANGLOOSE\, 6MW6+PQ Batroun\, Batroun\, Lebanon
CATEGORIES:Performing Arts
ATTACH;FMTTYPE=image/png:https://gobatroun.com/wp-content/uploads/2023/09/Screenshot-2179.png
ORGANIZER;CN="HANGLOOSE":MAILTO:contact@info.com
GEO:34.246771332534;35.661930198875
X-APPLE-STRUCTURED-LOCATION;VALUE=URI;X-ADDRESS=HANGLOOSE 6MW6+PQ Batroun Batroun Lebanon;X-APPLE-RADIUS=500;X-TITLE=6MW6+PQ Batroun:geo:35.661930198875,34.246771332534
END:VEVENT
BEGIN:VEVENT
DTSTART;TZID=Asia/Beirut:20230916T220000
DTEND;TZID=Asia/Beirut:20230916T220000
DTSTAMP:20260426T071249
CREATED:20230912T115541Z
LAST-MODIFIED:20230912T115541Z
UID:10004858-1694901600-1694901600@gobatroun.com
SUMMARY:Rami Daou and Danton Attieh at HANGLOOSE
DESCRIPTION:Let’s gather up for some live acoustic music with @dantonattieh & @rami.daou this Saturday 16 Sep\, starting 10PM 🤙🏼🥁
URL:https://gobatroun.com/event/rami-daou-and-danton-attieh-at-hangloose/
LOCATION:HANGLOOSE\, 6MW6+PQ Batroun\, Batroun\, Lebanon
CATEGORIES:Performing Arts
ATTACH;FMTTYPE=image/png:https://gobatroun.com/wp-content/uploads/2023/09/Screenshot-2087.png
ORGANIZER;CN="HANGLOOSE":MAILTO:contact@info.com
GEO:34.246771332534;35.661930198875
X-APPLE-STRUCTURED-LOCATION;VALUE=URI;X-ADDRESS=HANGLOOSE 6MW6+PQ Batroun Batroun Lebanon;X-APPLE-RADIUS=500;X-TITLE=6MW6+PQ Batroun:geo:35.661930198875,34.246771332534
END:VEVENT
END:VCALENDAR