BEGIN:VCALENDAR
VERSION:2.0
PRODID:-//Go Batroun - ECPv6.14.2//NONSGML v1.0//EN
CALSCALE:GREGORIAN
METHOD:PUBLISH
X-ORIGINAL-URL:https://gobatroun.com
X-WR-CALDESC:Events for Go Batroun
REFRESH-INTERVAL;VALUE=DURATION:PT1H
X-Robots-Tag:noindex
X-PUBLISHED-TTL:PT1H
BEGIN:VTIMEZONE
TZID:Asia/Beirut
BEGIN:DAYLIGHT
TZOFFSETFROM:+0200
TZOFFSETTO:+0300
TZNAME:EEST
DTSTART:20240330T220000
END:DAYLIGHT
BEGIN:STANDARD
TZOFFSETFROM:+0300
TZOFFSETTO:+0200
TZNAME:EET
DTSTART:20241026T210000
END:STANDARD
END:VTIMEZONE
BEGIN:VEVENT
DTSTART;TZID=Asia/Beirut:20240613T213000
DTEND;TZID=Asia/Beirut:20240613T213000
DTSTAMP:20260423T082152
CREATED:20240603T053639Z
LAST-MODIFIED:20240603T053639Z
UID:10006170-1718314200-1718314200@gobatroun.com
SUMMARY:Stand-Up Comedy
DESCRIPTION:Join us on June 13th for a comedy show featuring the hilarious Nady Abou Chabke and Areej El Hajj. Don’t miss out on the fun!
URL:https://gobatroun.com/event/stand-up-comedy/
LOCATION:HANGLOOSE\, 6MW6+PQ Batroun\, Batroun\, Lebanon
CATEGORIES:Performing Arts
ATTACH;FMTTYPE=image/jpeg:https://gobatroun.com/wp-content/uploads/2024/06/June-Event-13th.jpg
ORGANIZER;CN="HANGLOOSE":MAILTO:contact@info.com
GEO:34.246771332534;35.661930198875
X-APPLE-STRUCTURED-LOCATION;VALUE=URI;X-ADDRESS=HANGLOOSE 6MW6+PQ Batroun Batroun Lebanon;X-APPLE-RADIUS=500;X-TITLE=6MW6+PQ Batroun:geo:35.661930198875,34.246771332534
END:VEVENT
BEGIN:VEVENT
DTSTART;TZID=Asia/Beirut:20240609T210000
DTEND;TZID=Asia/Beirut:20240609T210000
DTSTAMP:20260423T082152
CREATED:20240604T081853Z
LAST-MODIFIED:20240604T081853Z
UID:10006195-1717966800-1717966800@gobatroun.com
SUMMARY:Comedy Night
DESCRIPTION:Brace yourself for an evening of non-stop laughter! We’re thrilled to present a stellar comedy lineup on June 9th.\n• Gstrings\n• Stephanie Ghalbouni\n• Rodrigue Ghosn (Host) \n Date: June 9th\n⏰ Doors Open: 8 PM\n Show Starts: 9 PM\n 15$
URL:https://gobatroun.com/event/comedy-night/
LOCATION:HANGLOOSE\, 6MW6+PQ Batroun\, Batroun\, Lebanon
CATEGORIES:Performing Arts
ATTACH;FMTTYPE=image/jpeg:https://gobatroun.com/wp-content/uploads/2024/06/June-9th.jpg
ORGANIZER;CN="HANGLOOSE":MAILTO:contact@info.com
GEO:34.246771332534;35.661930198875
X-APPLE-STRUCTURED-LOCATION;VALUE=URI;X-ADDRESS=HANGLOOSE 6MW6+PQ Batroun Batroun Lebanon;X-APPLE-RADIUS=500;X-TITLE=6MW6+PQ Batroun:geo:35.661930198875,34.246771332534
END:VEVENT
BEGIN:VEVENT
DTSTART;TZID=Asia/Beirut:20240608T213000
DTEND;TZID=Asia/Beirut:20240608T213000
DTSTAMP:20260423T082152
CREATED:20240605T125543Z
LAST-MODIFIED:20240605T125543Z
UID:10006197-1717882200-1717882200@gobatroun.com
SUMMARY:Dubouin & the Boosters
DESCRIPTION:Dubouin & the Boosters bringing the reggae heat this Saturday!  Feel the vibes\, join the tribe!  \n⌛️9:30PM\n 10$
URL:https://gobatroun.com/event/dubouin-the-boosters/
LOCATION:HANGLOOSE\, 6MW6+PQ Batroun\, Batroun\, Lebanon
CATEGORIES:Performing Arts|Sports
ATTACH;FMTTYPE=image/jpeg:https://gobatroun.com/wp-content/uploads/2024/06/June-8-event-dubouin.jpg
ORGANIZER;CN="HANGLOOSE":MAILTO:contact@info.com
GEO:34.246771332534;35.661930198875
X-APPLE-STRUCTURED-LOCATION;VALUE=URI;X-ADDRESS=HANGLOOSE 6MW6+PQ Batroun Batroun Lebanon;X-APPLE-RADIUS=500;X-TITLE=6MW6+PQ Batroun:geo:35.661930198875,34.246771332534
END:VEVENT
BEGIN:VEVENT
DTSTART;TZID=Asia/Beirut:20240601T210000
DTEND;TZID=Asia/Beirut:20240601T210000
DTSTAMP:20260423T082152
CREATED:20240531T072926Z
LAST-MODIFIED:20240531T072926Z
UID:10006167-1717275600-1717275600@gobatroun.com
SUMMARY:Sunset Spritz FT. Jad
DESCRIPTION:Sunset Spritz FT.Jad every Saturday \nRSVP: +961 71 872 417
URL:https://gobatroun.com/event/sunset-spritz-ft-jad/
LOCATION:HANGLOOSE\, 6MW6+PQ Batroun\, Batroun\, Lebanon
CATEGORIES:Performing Arts
ATTACH;FMTTYPE=image/jpeg:https://gobatroun.com/wp-content/uploads/2024/05/June-1st-Eventt.jpg
ORGANIZER;CN="HANGLOOSE":MAILTO:contact@info.com
GEO:34.246771332534;35.661930198875
X-APPLE-STRUCTURED-LOCATION;VALUE=URI;X-ADDRESS=HANGLOOSE 6MW6+PQ Batroun Batroun Lebanon;X-APPLE-RADIUS=500;X-TITLE=6MW6+PQ Batroun:geo:35.661930198875,34.246771332534
END:VEVENT
BEGIN:VEVENT
DTSTART;TZID=Asia/Beirut:20240531T210000
DTEND;TZID=Asia/Beirut:20240531T210000
DTSTAMP:20260423T082152
CREATED:20240531T073731Z
LAST-MODIFIED:20240531T073731Z
UID:10006168-1717189200-1717189200@gobatroun.com
SUMMARY:Sharkfin Blue
DESCRIPTION:Sharkfin Blue Live at Hangloose \nRSVP +961 71 872 417
URL:https://gobatroun.com/event/sharkfin-blue/
LOCATION:HANGLOOSE\, 6MW6+PQ Batroun\, Batroun\, Lebanon
CATEGORIES:Performing Arts
ATTACH;FMTTYPE=image/jpeg:https://gobatroun.com/wp-content/uploads/2024/05/March-31-eventt.jpg
ORGANIZER;CN="HANGLOOSE":MAILTO:contact@info.com
GEO:34.246771332534;35.661930198875
X-APPLE-STRUCTURED-LOCATION;VALUE=URI;X-ADDRESS=HANGLOOSE 6MW6+PQ Batroun Batroun Lebanon;X-APPLE-RADIUS=500;X-TITLE=6MW6+PQ Batroun:geo:35.661930198875,34.246771332534
END:VEVENT
BEGIN:VEVENT
DTSTART;TZID=Asia/Beirut:20240510T200000
DTEND;TZID=Asia/Beirut:20240510T200000
DTSTAMP:20260423T082152
CREATED:20240507T073429Z
LAST-MODIFIED:20240507T073429Z
UID:10006101-1715371200-1715371200@gobatroun.com
SUMMARY:Bonne Chose
DESCRIPTION:Bonne Chose live at Hangloose \nRSVP +961 71 872 417
URL:https://gobatroun.com/event/bonne-chose/
LOCATION:HANGLOOSE\, 6MW6+PQ Batroun\, Batroun\, Lebanon
CATEGORIES:Performing Arts
ATTACH;FMTTYPE=image/webp:https://gobatroun.com/wp-content/uploads/2024/05/Bonne-Chose-May-10th.webp
ORGANIZER;CN="HANGLOOSE":MAILTO:contact@info.com
GEO:34.246771332534;35.661930198875
X-APPLE-STRUCTURED-LOCATION;VALUE=URI;X-ADDRESS=HANGLOOSE 6MW6+PQ Batroun Batroun Lebanon;X-APPLE-RADIUS=500;X-TITLE=6MW6+PQ Batroun:geo:35.661930198875,34.246771332534
END:VEVENT
BEGIN:VEVENT
DTSTART;TZID=Asia/Beirut:20240430T210000
DTEND;TZID=Asia/Beirut:20240430T210000
DTSTAMP:20260423T082152
CREATED:20240423T100944Z
LAST-MODIFIED:20240423T100944Z
UID:10006088-1714510800-1714510800@gobatroun.com
SUMMARY:Let's Have a Laugh
DESCRIPTION:Join us on the 30th at Hangloose for an exclusive evening of laughter with @averageahmad @kawkabzuhal @majdinator & host @ahmad_khaliill \nEvent Schedule: \nDoors Open: 8:00 PM \nShow Starts: 9:00 PM \n10$ for endless giggles! \nDon’t miss out on this unique experience! \nRSRV: +96171 872 417
URL:https://gobatroun.com/event/lets-have-a-laugh/
LOCATION:HANGLOOSE\, 6MW6+PQ Batroun\, Batroun\, Lebanon
CATEGORIES:Performing Arts
ATTACH;FMTTYPE=image/webp:https://gobatroun.com/wp-content/uploads/2024/04/Lets-Have-a-Laugh.webp
ORGANIZER;CN="HANGLOOSE":MAILTO:contact@info.com
GEO:34.246771332534;35.661930198875
X-APPLE-STRUCTURED-LOCATION;VALUE=URI;X-ADDRESS=HANGLOOSE 6MW6+PQ Batroun Batroun Lebanon;X-APPLE-RADIUS=500;X-TITLE=6MW6+PQ Batroun:geo:35.661930198875,34.246771332534
END:VEVENT
BEGIN:VEVENT
DTSTART;TZID=Asia/Beirut:20240427T160000
DTEND;TZID=Asia/Beirut:20240427T160000
DTSTAMP:20260423T082152
CREATED:20240423T053215Z
LAST-MODIFIED:20240423T053215Z
UID:10006079-1714233600-1714233600@gobatroun.com
SUMMARY:A Journey Into The World Of Spirits
DESCRIPTION:Unlock the mysteries of spirits with Pernod Ricard’s Brand Ambassador\, Mr. Youssef El Ahmar\, in an exclusive live talk on April 27th at 4 PM! Join us at HangLoose for an enlightening journey through the world of fine spirits. Cheers to knowledge and good company!
URL:https://gobatroun.com/event/a-journey-into-the-world-of-spirits/
LOCATION:HANGLOOSE\, 6MW6+PQ Batroun\, Batroun\, Lebanon
CATEGORIES:Expos
ATTACH;FMTTYPE=image/webp:https://gobatroun.com/wp-content/uploads/2024/04/A-journey-into-the-world-of-spirits.webp
ORGANIZER;CN="HANGLOOSE":MAILTO:contact@info.com
GEO:34.246771332534;35.661930198875
X-APPLE-STRUCTURED-LOCATION;VALUE=URI;X-ADDRESS=HANGLOOSE 6MW6+PQ Batroun Batroun Lebanon;X-APPLE-RADIUS=500;X-TITLE=6MW6+PQ Batroun:geo:35.661930198875,34.246771332534
END:VEVENT
BEGIN:VEVENT
DTSTART;TZID=Asia/Beirut:20240426T210000
DTEND;TZID=Asia/Beirut:20240426T210000
DTSTAMP:20260423T082152
CREATED:20240422T102232Z
LAST-MODIFIED:20240422T134844Z
UID:10006078-1714165200-1714165200@gobatroun.com
SUMMARY:The Alan O’jane Project
DESCRIPTION:Get ready to rock your Friday night at Hangloose with The Alan O’jane Project! \nJoin us for some thrilling fusion rock music that will keep you on your feet all night long. See you there! \nBand charge: $10
URL:https://gobatroun.com/event/the-alan-ojane-project/
LOCATION:HANGLOOSE\, 6MW6+PQ Batroun\, Batroun\, Lebanon
CATEGORIES:Performing Arts
ATTACH;FMTTYPE=image/webp:https://gobatroun.com/wp-content/uploads/2024/04/The-Ojane-Project.webp
ORGANIZER;CN="HANGLOOSE":MAILTO:contact@info.com
GEO:34.246771332534;35.661930198875
X-APPLE-STRUCTURED-LOCATION;VALUE=URI;X-ADDRESS=HANGLOOSE 6MW6+PQ Batroun Batroun Lebanon;X-APPLE-RADIUS=500;X-TITLE=6MW6+PQ Batroun:geo:35.661930198875,34.246771332534
END:VEVENT
BEGIN:VEVENT
DTSTART;TZID=Asia/Beirut:20240416T220000
DTEND;TZID=Asia/Beirut:20240416T220000
DTSTAMP:20260423T082152
CREATED:20240416T075118Z
LAST-MODIFIED:20240416T075118Z
UID:10006071-1713304800-1713304800@gobatroun.com
SUMMARY:Champions League Night at Hangloose
DESCRIPTION:PSG vs Barcelona \nIndulge in an endless feast of beer\, fish & chips \n22$
URL:https://gobatroun.com/event/champions-league-night-at-hangloose/
LOCATION:HANGLOOSE\, 6MW6+PQ Batroun\, Batroun\, Lebanon
CATEGORIES:Sports
ATTACH;FMTTYPE=image/webp:https://gobatroun.com/wp-content/uploads/2023/12/VolleyBall-Championship-Batroun-vs-SpeedBall.webp
ORGANIZER;CN="HANGLOOSE":MAILTO:contact@info.com
GEO:34.246771332534;35.661930198875
X-APPLE-STRUCTURED-LOCATION;VALUE=URI;X-ADDRESS=HANGLOOSE 6MW6+PQ Batroun Batroun Lebanon;X-APPLE-RADIUS=500;X-TITLE=6MW6+PQ Batroun:geo:35.661930198875,34.246771332534
END:VEVENT
BEGIN:VEVENT
DTSTART;TZID=Asia/Beirut:20240413T160000
DTEND;TZID=Asia/Beirut:20240413T160000
DTSTAMP:20260423T082152
CREATED:20240409T060506Z
LAST-MODIFIED:20240409T060506Z
UID:10006060-1713024000-1713024000@gobatroun.com
SUMMARY:A Journey Through History Of Wine
DESCRIPTION:Uncorking the Chateau Trois Collines: Join Mr. Najib Moutran as he delves into Collines’ wine history\, grape varieties\, terroir\, and tasting expertise! \nSaturday speak-out with Dr. Moutran will be an enriching exploration of wine’s captivating journey.
URL:https://gobatroun.com/event/a-journey-through-history-of-wine/
LOCATION:HANGLOOSE\, 6MW6+PQ Batroun\, Batroun\, Lebanon
CATEGORIES:Conferences
ATTACH;FMTTYPE=image/webp:https://gobatroun.com/wp-content/uploads/2024/04/Journey-Through-History-Of-Wine-April-13.webp
ORGANIZER;CN="HANGLOOSE":MAILTO:contact@info.com
GEO:34.246771332534;35.661930198875
X-APPLE-STRUCTURED-LOCATION;VALUE=URI;X-ADDRESS=HANGLOOSE 6MW6+PQ Batroun Batroun Lebanon;X-APPLE-RADIUS=500;X-TITLE=6MW6+PQ Batroun:geo:35.661930198875,34.246771332534
END:VEVENT
BEGIN:VEVENT
DTSTART;TZID=Asia/Beirut:20240405T210000
DTEND;TZID=Asia/Beirut:20240405T210000
DTSTAMP:20260423T082152
CREATED:20240402T073158Z
LAST-MODIFIED:20240402T073519Z
UID:10006050-1712350800-1712350800@gobatroun.com
SUMMARY:Queens of Soul Jazz Blues Night at HangLoose
DESCRIPTION:QUEENS OF SOUL performs live on Friday\, April 5th\, the most popular Blues\, Jazz and Soul songs at Hangloose\, Batroun \nRSVP: +961 71 872 417 \n  \n 
URL:https://gobatroun.com/event/queens-of-soul-jazz-blues-night-at-hangloose/
LOCATION:HANGLOOSE\, 6MW6+PQ Batroun\, Batroun\, Lebanon
CATEGORIES:Performing Arts
ATTACH;FMTTYPE=image/webp:https://gobatroun.com/wp-content/uploads/2024/04/Queens-of-Soul-Jazz-Blues-Night-at-Hnagloose-April-5.webp
ORGANIZER;CN="HANGLOOSE":MAILTO:contact@info.com
GEO:34.246771332534;35.661930198875
X-APPLE-STRUCTURED-LOCATION;VALUE=URI;X-ADDRESS=HANGLOOSE 6MW6+PQ Batroun Batroun Lebanon;X-APPLE-RADIUS=500;X-TITLE=6MW6+PQ Batroun:geo:35.661930198875,34.246771332534
END:VEVENT
BEGIN:VEVENT
DTSTART;TZID=Asia/Beirut:20240330T210000
DTEND;TZID=Asia/Beirut:20240330T210000
DTSTAMP:20260423T082152
CREATED:20240213T135608Z
LAST-MODIFIED:20240326T134325Z
UID:10005868-1711832400-1711832400@gobatroun.com
SUMMARY:Danton Attieh followed by DJ Jule at Hangloose
DESCRIPTION:Let the acoustic rock vibes take you on a musical journey with @dantonattieh at HangLoose!
URL:https://gobatroun.com/event/danton-attieh-at-hangloose/
LOCATION:HANGLOOSE\, 6MW6+PQ Batroun\, Batroun\, Lebanon
CATEGORIES:Performing Arts
ATTACH;FMTTYPE=image/webp:https://gobatroun.com/wp-content/uploads/2024/02/DantonAttiehFollowedByDjJuleMarch30.webp
ORGANIZER;CN="HANGLOOSE":MAILTO:contact@info.com
GEO:34.246771332534;35.661930198875
X-APPLE-STRUCTURED-LOCATION;VALUE=URI;X-ADDRESS=HANGLOOSE 6MW6+PQ Batroun Batroun Lebanon;X-APPLE-RADIUS=500;X-TITLE=6MW6+PQ Batroun:geo:35.661930198875,34.246771332534
END:VEVENT
BEGIN:VEVENT
DTSTART;TZID=Asia/Beirut:20240323T163000
DTEND;TZID=Asia/Beirut:20240323T163000
DTSTAMP:20260423T082152
CREATED:20240319T085947Z
LAST-MODIFIED:20240321T125804Z
UID:10005998-1711211400-1711211400@gobatroun.com
SUMMARY:The Evolution of Photography In The Middle East with Patrick Baz at Hangloose
DESCRIPTION:Join us on March 23rd with @patrickbaz for ‘Capturing History: The Evolution of Photography in the Middle East’ \nA chitchat on how the Middle East played a critical role in the development of photography as a new technology and an art form. \nLet’s delve into the depths of conversation together ! \n  \n  \n 
URL:https://gobatroun.com/event/the-evolution-of-photography/
LOCATION:HANGLOOSE\, 6MW6+PQ Batroun\, Batroun\, Lebanon
CATEGORIES:Expos
ATTACH;FMTTYPE=image/webp:https://gobatroun.com/wp-content/uploads/2024/03/The-Evolution-of-Photography-in-the-Middle-East-with-Patrick-Baz.webp
ORGANIZER;CN="HANGLOOSE":MAILTO:contact@info.com
GEO:34.246771332534;35.661930198875
X-APPLE-STRUCTURED-LOCATION;VALUE=URI;X-ADDRESS=HANGLOOSE 6MW6+PQ Batroun Batroun Lebanon;X-APPLE-RADIUS=500;X-TITLE=6MW6+PQ Batroun:geo:35.661930198875,34.246771332534
END:VEVENT
BEGIN:VEVENT
DTSTART;TZID=Asia/Beirut:20240322T210000
DTEND;TZID=Asia/Beirut:20240322T210000
DTSTAMP:20260423T082152
CREATED:20240318T130343Z
LAST-MODIFIED:20240318T130410Z
UID:10005995-1711141200-1711141200@gobatroun.com
SUMMARY:Lorena & The Band at Hangloose
DESCRIPTION:This Friday night\, join us for a live performance with Lorena & the band live at hangloose! \n  \nLorenaAndTheBand BatrounLivePerformance LivePerformance
URL:https://gobatroun.com/event/lorena-the-band-at-hangloose/
LOCATION:HANGLOOSE\, 6MW6+PQ Batroun\, Batroun\, Lebanon
CATEGORIES:Performing Arts
ATTACH;FMTTYPE=image/webp:https://gobatroun.com/wp-content/uploads/2024/03/Lorena-The-Band-Live-at-Hangloose.webp
ORGANIZER;CN="HANGLOOSE":MAILTO:contact@info.com
GEO:34.246771332534;35.661930198875
X-APPLE-STRUCTURED-LOCATION;VALUE=URI;X-ADDRESS=HANGLOOSE 6MW6+PQ Batroun Batroun Lebanon;X-APPLE-RADIUS=500;X-TITLE=6MW6+PQ Batroun:geo:35.661930198875,34.246771332534
END:VEVENT
BEGIN:VEVENT
DTSTART;TZID=Asia/Beirut:20240308T210000
DTEND;TZID=Asia/Beirut:20240308T210000
DTSTAMP:20260423T082152
CREATED:20240304T135837Z
LAST-MODIFIED:20240304T135913Z
UID:10005960-1709931600-1709931600@gobatroun.com
SUMMARY:Jazz night\, Alessia and the band at HangLoose
DESCRIPTION:Jazz night excitement this Friday with Alessia and the band at HangLoose\nDon’t miss out on this experience! \nMarch 8 \n9 pm \n$10 band charge
URL:https://gobatroun.com/event/jazz-night-alessia-and-the-band-at-hangloose/
LOCATION:HANGLOOSE\, 6MW6+PQ Batroun\, Batroun\, Lebanon
CATEGORIES:Performing Arts
ATTACH;FMTTYPE=image/webp:https://gobatroun.com/wp-content/uploads/2024/03/Jazz-Night-Alessia-The-Band-8-3-2024.webp
ORGANIZER;CN="HANGLOOSE":MAILTO:contact@info.com
GEO:34.246771332534;35.661930198875
X-APPLE-STRUCTURED-LOCATION;VALUE=URI;X-ADDRESS=HANGLOOSE 6MW6+PQ Batroun Batroun Lebanon;X-APPLE-RADIUS=500;X-TITLE=6MW6+PQ Batroun:geo:35.661930198875,34.246771332534
END:VEVENT
BEGIN:VEVENT
DTSTART;TZID=Asia/Beirut:20240223T213000
DTEND;TZID=Asia/Beirut:20240223T213000
DTSTAMP:20260423T082152
CREATED:20240220T134450Z
LAST-MODIFIED:20240918T074551Z
UID:10005896-1708723800-1708723800@gobatroun.com
SUMMARY:Esmeralda and the Band live at Hangloose
DESCRIPTION:Esmeralda and the band are hitting the stage at Hangloose this Friday\, September 20th. Join us for a night of live music and exceptional vibes!​ \nRSVP on +961 71 872 417
URL:https://gobatroun.com/event/esmeralda-and-the-band-at-hangloose/
LOCATION:HANGLOOSE\, 6MW6+PQ Batroun\, Batroun\, Lebanon
CATEGORIES:Performing Arts
ATTACH;FMTTYPE=image/jpeg:https://gobatroun.com/wp-content/uploads/2024/02/September-20th.jpg
ORGANIZER;CN="HANGLOOSE":MAILTO:contact@info.com
GEO:34.246771332534;35.661930198875
X-APPLE-STRUCTURED-LOCATION;VALUE=URI;X-ADDRESS=HANGLOOSE 6MW6+PQ Batroun Batroun Lebanon;X-APPLE-RADIUS=500;X-TITLE=6MW6+PQ Batroun:geo:35.661930198875,34.246771332534
END:VEVENT
BEGIN:VEVENT
DTSTART;TZID=Asia/Beirut:20240221T220000
DTEND;TZID=Asia/Beirut:20240221T220000
DTSTAMP:20260423T082152
CREATED:20240220T134707Z
LAST-MODIFIED:20240220T134707Z
UID:10005897-1708552800-1708552800@gobatroun.com
SUMMARY:Champions League Game Live at Hangloose
DESCRIPTION:
URL:https://gobatroun.com/event/champions-league-game-live-at-hangloose/
LOCATION:HANGLOOSE\, 6MW6+PQ Batroun\, Batroun\, Lebanon
CATEGORIES:Performing Arts
ATTACH;FMTTYPE=image/png:https://gobatroun.com/wp-content/uploads/2024/02/Champions-League-Game-Live-at-Hangloose.png
ORGANIZER;CN="HANGLOOSE":MAILTO:contact@info.com
GEO:34.246771332534;35.661930198875
X-APPLE-STRUCTURED-LOCATION;VALUE=URI;X-ADDRESS=HANGLOOSE 6MW6+PQ Batroun Batroun Lebanon;X-APPLE-RADIUS=500;X-TITLE=6MW6+PQ Batroun:geo:35.661930198875,34.246771332534
END:VEVENT
BEGIN:VEVENT
DTSTART;TZID=Asia/Beirut:20240217T210000
DTEND;TZID=Asia/Beirut:20240217T210000
DTSTAMP:20260423T082152
CREATED:20240215T134515Z
LAST-MODIFIED:20240215T134515Z
UID:10005874-1708203600-1708203600@gobatroun.com
SUMMARY:Dj Ohmar and Dj Julz at Hangloose
DESCRIPTION:SATURDAYS WE DANCE\nall night long with Ohmar on the decks and DJ Julz setting the dance floor on fire
URL:https://gobatroun.com/event/dj-ohmar-and-dj-julz-at-hangloose/
LOCATION:HANGLOOSE\, 6MW6+PQ Batroun\, Batroun\, Lebanon
CATEGORIES:Performing Arts
ATTACH;FMTTYPE=image/webp:https://gobatroun.com/wp-content/uploads/2024/02/Dj-Ohmar-and-Dj-Julz-at-Hangloose.webp
ORGANIZER;CN="HANGLOOSE":MAILTO:contact@info.com
GEO:34.246771332534;35.661930198875
X-APPLE-STRUCTURED-LOCATION;VALUE=URI;X-ADDRESS=HANGLOOSE 6MW6+PQ Batroun Batroun Lebanon;X-APPLE-RADIUS=500;X-TITLE=6MW6+PQ Batroun:geo:35.661930198875,34.246771332534
END:VEVENT
BEGIN:VEVENT
DTSTART;TZID=Asia/Beirut:20240215T210000
DTEND;TZID=Asia/Beirut:20240215T210000
DTSTAMP:20260423T082152
CREATED:20240212T120010Z
LAST-MODIFIED:20240212T120520Z
UID:10005860-1708030800-1708030800@gobatroun.com
SUMMARY:Ziad Abi Khalil at Hangloose
DESCRIPTION:THURSDAY NIGHTS️\nJoin us every Thursday as Ziad Abi Khalil takes the stage !!\n•\nFor reservations: 71 872 417
URL:https://gobatroun.com/event/ziad-abi-khalil-at-hangloose-2/
LOCATION:HANGLOOSE\, 6MW6+PQ Batroun\, Batroun\, Lebanon
CATEGORIES:Performing Arts
ATTACH;FMTTYPE=image/png:https://gobatroun.com/wp-content/uploads/2024/02/Screenshot-3126.png
ORGANIZER;CN="HANGLOOSE":MAILTO:contact@info.com
GEO:34.246771332534;35.661930198875
X-APPLE-STRUCTURED-LOCATION;VALUE=URI;X-ADDRESS=HANGLOOSE 6MW6+PQ Batroun Batroun Lebanon;X-APPLE-RADIUS=500;X-TITLE=6MW6+PQ Batroun:geo:35.661930198875,34.246771332534
END:VEVENT
BEGIN:VEVENT
DTSTART;TZID=Asia/Beirut:20240210T220000
DTEND;TZID=Asia/Beirut:20240210T220000
DTSTAMP:20260423T082152
CREATED:20240208T063124Z
LAST-MODIFIED:20240208T063124Z
UID:10005843-1707602400-1707602400@gobatroun.com
SUMMARY:Binky Band and Dj Raimund at Hangloose
DESCRIPTION:Disco Funk Valentine Edition 💃🏼🪩🕺🏻❣️\nJoin us this Saturday for a love-filled dance extravaganza with @binky.music followed by @raimundazar at Hangloose !
URL:https://gobatroun.com/event/binky-band-and-dj-raimund-at-hangloose/
LOCATION:HANGLOOSE\, 6MW6+PQ Batroun\, Batroun\, Lebanon
CATEGORIES:Performing Arts
ATTACH;FMTTYPE=image/webp:https://gobatroun.com/wp-content/uploads/2024/02/Screenshot-3097.webp
ORGANIZER;CN="HANGLOOSE":MAILTO:contact@info.com
GEO:34.246771332534;35.661930198875
X-APPLE-STRUCTURED-LOCATION;VALUE=URI;X-ADDRESS=HANGLOOSE 6MW6+PQ Batroun Batroun Lebanon;X-APPLE-RADIUS=500;X-TITLE=6MW6+PQ Batroun:geo:35.661930198875,34.246771332534
END:VEVENT
BEGIN:VEVENT
DTSTART;TZID=Asia/Beirut:20240209T210000
DTEND;TZID=Asia/Beirut:20240209T210000
DTSTAMP:20260423T082152
CREATED:20240206T073404Z
LAST-MODIFIED:20240206T073404Z
UID:10005838-1707512400-1707512400@gobatroun.com
SUMMARY:Tony Attieh ft Dear Ear at Hangloose
DESCRIPTION:Join us this Friday night for some commercial fusion live performance by Tony Attieh ft Dear Ear 🎶🎸\n•\nFor reservations: 71 872 417
URL:https://gobatroun.com/event/tony-attieh-ft-dear-ear-at-hangloose/
LOCATION:HANGLOOSE\, 6MW6+PQ Batroun\, Batroun\, Lebanon
CATEGORIES:Performing Arts
ATTACH;FMTTYPE=image/webp:https://gobatroun.com/wp-content/uploads/2024/02/Screenshot-3084.webp
ORGANIZER;CN="HANGLOOSE":MAILTO:contact@info.com
GEO:34.246771332534;35.661930198875
X-APPLE-STRUCTURED-LOCATION;VALUE=URI;X-ADDRESS=HANGLOOSE 6MW6+PQ Batroun Batroun Lebanon;X-APPLE-RADIUS=500;X-TITLE=6MW6+PQ Batroun:geo:35.661930198875,34.246771332534
END:VEVENT
BEGIN:VEVENT
DTSTART;TZID=Asia/Beirut:20240208T210000
DTEND;TZID=Asia/Beirut:20240208T210000
DTSTAMP:20260423T082152
CREATED:20240201T062109Z
LAST-MODIFIED:20240201T062109Z
UID:10005802-1707426000-1707426000@gobatroun.com
SUMMARY:Ziad Abi Khalil at Hangloose
DESCRIPTION:Get ready for an outstanding night with @ziadabikhalilofficial taking over the stage for the first time at Hangloose !! 🎙️🎶\nThursday\, Feb 8th at 9:00 PM\n•\nFor reservations: 71 872 417
URL:https://gobatroun.com/event/ziad-abi-khalil-at-hangloose/
LOCATION:HANGLOOSE\, 6MW6+PQ Batroun\, Batroun\, Lebanon
CATEGORIES:Performing Arts
ATTACH;FMTTYPE=image/png:https://gobatroun.com/wp-content/uploads/2024/02/Screenshot-3051-1.png
ORGANIZER;CN="HANGLOOSE":MAILTO:contact@info.com
GEO:34.246771332534;35.661930198875
X-APPLE-STRUCTURED-LOCATION;VALUE=URI;X-ADDRESS=HANGLOOSE 6MW6+PQ Batroun Batroun Lebanon;X-APPLE-RADIUS=500;X-TITLE=6MW6+PQ Batroun:geo:35.661930198875,34.246771332534
END:VEVENT
BEGIN:VEVENT
DTSTART;TZID=Asia/Beirut:20240203T213000
DTEND;TZID=Asia/Beirut:20240203T213000
DTSTAMP:20260423T082152
CREATED:20240201T134314Z
LAST-MODIFIED:20240201T134314Z
UID:10005811-1706995800-1706995800@gobatroun.com
SUMMARY:Dj Dansz  at HANGLOOSE
DESCRIPTION:Spinning into Saturdays 🛸\nJoin us for an electrifying music this Saturday night with @djdansz 🎧
URL:https://gobatroun.com/event/dj-dansz-at-hangloose-3/
LOCATION:HANGLOOSE\, 6MW6+PQ Batroun\, Batroun\, Lebanon
CATEGORIES:Performing Arts
ATTACH;FMTTYPE=image/png:https://gobatroun.com/wp-content/uploads/2024/02/Screenshot-3066.png
ORGANIZER;CN="HANGLOOSE":MAILTO:contact@info.com
GEO:34.246771332534;35.661930198875
X-APPLE-STRUCTURED-LOCATION;VALUE=URI;X-ADDRESS=HANGLOOSE 6MW6+PQ Batroun Batroun Lebanon;X-APPLE-RADIUS=500;X-TITLE=6MW6+PQ Batroun:geo:35.661930198875,34.246771332534
END:VEVENT
BEGIN:VEVENT
DTSTART;TZID=Asia/Beirut:20240202T210000
DTEND;TZID=Asia/Beirut:20240202T210000
DTSTAMP:20260423T082152
CREATED:20240130T133220Z
LAST-MODIFIED:20240130T133220Z
UID:10005799-1706907600-1706907600@gobatroun.com
SUMMARY:Si-bemol and Arsenous at HANGLOOSE
DESCRIPTION:Join us for a live performance featuring Si-bemol & Arsenous this friday night at 9:00 PM !\nBand charge: 7$
URL:https://gobatroun.com/event/si-bemol-and-arsenous-at-hangloose/
LOCATION:HANGLOOSE\, 6MW6+PQ Batroun\, Batroun\, Lebanon
CATEGORIES:Performing Arts
ATTACH;FMTTYPE=image/png:https://gobatroun.com/wp-content/uploads/2024/01/Screenshot-3047.png
ORGANIZER;CN="HANGLOOSE":MAILTO:contact@info.com
GEO:34.246771332534;35.661930198875
X-APPLE-STRUCTURED-LOCATION;VALUE=URI;X-ADDRESS=HANGLOOSE 6MW6+PQ Batroun Batroun Lebanon;X-APPLE-RADIUS=500;X-TITLE=6MW6+PQ Batroun:geo:35.661930198875,34.246771332534
END:VEVENT
BEGIN:VEVENT
DTSTART;TZID=Asia/Beirut:20240127T210000
DTEND;TZID=Asia/Beirut:20240127T210000
DTSTAMP:20260423T082152
CREATED:20240125T113211Z
LAST-MODIFIED:20240125T113211Z
UID:10005779-1706389200-1706389200@gobatroun.com
SUMMARY:Dj Sass and Dj Sams at Hangloose
DESCRIPTION:This Saturday\, Doubling the beats\, twice the vibes! 🎶\nJoin us 🤙🏼
URL:https://gobatroun.com/event/dj-sass-and-dj-sams-at-hangloose/
LOCATION:HANGLOOSE\, 6MW6+PQ Batroun\, Batroun\, Lebanon
CATEGORIES:Performing Arts
ATTACH;FMTTYPE=image/png:https://gobatroun.com/wp-content/uploads/2024/01/Screenshot-3023.png
ORGANIZER;CN="HANGLOOSE":MAILTO:contact@info.com
GEO:34.246771332534;35.661930198875
X-APPLE-STRUCTURED-LOCATION;VALUE=URI;X-ADDRESS=HANGLOOSE 6MW6+PQ Batroun Batroun Lebanon;X-APPLE-RADIUS=500;X-TITLE=6MW6+PQ Batroun:geo:35.661930198875,34.246771332534
END:VEVENT
BEGIN:VEVENT
DTSTART;TZID=Asia/Beirut:20240126T210000
DTEND;TZID=Asia/Beirut:20240126T210000
DTSTAMP:20260423T082152
CREATED:20240122T113544Z
LAST-MODIFIED:20240122T113544Z
UID:10005749-1706302800-1706302800@gobatroun.com
SUMMARY:Bluesician and Friends at Hangloose
DESCRIPTION:Get ready for a night filled with blues and chills with @elias_bluesician & friends this Friday night at 9 PM
URL:https://gobatroun.com/event/bluesician-and-friends-at-hangloose/
LOCATION:HANGLOOSE\, 6MW6+PQ Batroun\, Batroun\, Lebanon
CATEGORIES:Performing Arts
ATTACH;FMTTYPE=image/png:https://gobatroun.com/wp-content/uploads/2024/01/Screenshot-2997.png
ORGANIZER;CN="HANGLOOSE":MAILTO:contact@info.com
GEO:34.246771332534;35.661930198875
X-APPLE-STRUCTURED-LOCATION;VALUE=URI;X-ADDRESS=HANGLOOSE 6MW6+PQ Batroun Batroun Lebanon;X-APPLE-RADIUS=500;X-TITLE=6MW6+PQ Batroun:geo:35.661930198875,34.246771332534
END:VEVENT
BEGIN:VEVENT
DTSTART;TZID=Asia/Beirut:20240120T210000
DTEND;TZID=Asia/Beirut:20240120T210000
DTSTAMP:20260423T082152
CREATED:20240117T130439Z
LAST-MODIFIED:20240117T130439Z
UID:10005744-1705784400-1705784400@gobatroun.com
SUMMARY:DJ SÄSS at HANGLOOSE
DESCRIPTION:Join us this Saturday for a night of electrifying beats with DJ SÄSS !
URL:https://gobatroun.com/event/dj-sass-at-hangloose/
LOCATION:HANGLOOSE\, 6MW6+PQ Batroun\, Batroun\, Lebanon
CATEGORIES:Performing Arts
ATTACH;FMTTYPE=image/png:https://gobatroun.com/wp-content/uploads/2024/01/Screenshot-2985.png
ORGANIZER;CN="HANGLOOSE":MAILTO:contact@info.com
GEO:34.246771332534;35.661930198875
X-APPLE-STRUCTURED-LOCATION;VALUE=URI;X-ADDRESS=HANGLOOSE 6MW6+PQ Batroun Batroun Lebanon;X-APPLE-RADIUS=500;X-TITLE=6MW6+PQ Batroun:geo:35.661930198875,34.246771332534
END:VEVENT
BEGIN:VEVENT
DTSTART;TZID=Asia/Beirut:20240119T213000
DTEND;TZID=Asia/Beirut:20240119T213000
DTSTAMP:20260423T082152
CREATED:20240117T082531Z
LAST-MODIFIED:20240117T082531Z
UID:10005741-1705699800-1705699800@gobatroun.com
SUMMARY:Dear Ear Band at HANGLOOSE
DESCRIPTION:Once again\, Join us for some fusion commercial music with @dearearband 🎸🔥\nFriday\, January 19th at 9PM\n•\n10$ | Band charge
URL:https://gobatroun.com/event/dear-ear-band-at-hangloose/
LOCATION:HANGLOOSE\, 6MW6+PQ Batroun\, Batroun\, Lebanon
CATEGORIES:Performing Arts
ATTACH;FMTTYPE=image/png:https://gobatroun.com/wp-content/uploads/2024/01/Screenshot-2977.png
ORGANIZER;CN="HANGLOOSE":MAILTO:contact@info.com
GEO:34.246771332534;35.661930198875
X-APPLE-STRUCTURED-LOCATION;VALUE=URI;X-ADDRESS=HANGLOOSE 6MW6+PQ Batroun Batroun Lebanon;X-APPLE-RADIUS=500;X-TITLE=6MW6+PQ Batroun:geo:35.661930198875,34.246771332534
END:VEVENT
BEGIN:VEVENT
DTSTART;TZID=Asia/Beirut:20240113T220000
DTEND;TZID=Asia/Beirut:20240113T220000
DTSTAMP:20260423T082152
CREATED:20240111T130802Z
LAST-MODIFIED:20240111T130802Z
UID:10005714-1705183200-1705183200@gobatroun.com
SUMMARY:DJ NONZ at Hangloose
DESCRIPTION:Riding the waves of beats with DJ NONZ at Hangloose this Saturday night
URL:https://gobatroun.com/event/dj-nonz-at-hangloose/
LOCATION:HANGLOOSE\, 6MW6+PQ Batroun\, Batroun\, Lebanon
CATEGORIES:Performing Arts
ATTACH;FMTTYPE=image/png:https://gobatroun.com/wp-content/uploads/2024/01/Screenshot-2952.png
ORGANIZER;CN="HANGLOOSE":MAILTO:contact@info.com
GEO:34.246771332534;35.661930198875
X-APPLE-STRUCTURED-LOCATION;VALUE=URI;X-ADDRESS=HANGLOOSE 6MW6+PQ Batroun Batroun Lebanon;X-APPLE-RADIUS=500;X-TITLE=6MW6+PQ Batroun:geo:35.661930198875,34.246771332534
END:VEVENT
END:VCALENDAR