BEGIN:VCALENDAR
VERSION:2.0
PRODID:-//Go Batroun - ECPv6.14.2//NONSGML v1.0//EN
CALSCALE:GREGORIAN
METHOD:PUBLISH
X-ORIGINAL-URL:https://gobatroun.com
X-WR-CALDESC:Events for Go Batroun
REFRESH-INTERVAL;VALUE=DURATION:PT1H
X-Robots-Tag:noindex
X-PUBLISHED-TTL:PT1H
BEGIN:VTIMEZONE
TZID:Asia/Beirut
BEGIN:DAYLIGHT
TZOFFSETFROM:+0200
TZOFFSETTO:+0300
TZNAME:EEST
DTSTART:20220326T220000
END:DAYLIGHT
BEGIN:STANDARD
TZOFFSETFROM:+0300
TZOFFSETTO:+0200
TZNAME:EET
DTSTART:20221029T210000
END:STANDARD
BEGIN:DAYLIGHT
TZOFFSETFROM:+0200
TZOFFSETTO:+0300
TZNAME:EEST
DTSTART:20230325T220000
END:DAYLIGHT
BEGIN:STANDARD
TZOFFSETFROM:+0300
TZOFFSETTO:+0200
TZNAME:EET
DTSTART:20231028T210000
END:STANDARD
END:VTIMEZONE
BEGIN:VEVENT
DTSTART;TZID=Asia/Beirut:20230201T100000
DTEND;TZID=Asia/Beirut:20230201T230000
DTSTAMP:20260423T082154
CREATED:20230130T085645Z
LAST-MODIFIED:20230130T085645Z
UID:10001856-1675245600-1675292400@gobatroun.com
SUMMARY:Pilates with Maria at Darma Ji
DESCRIPTION:
URL:https://gobatroun.com/event/pilates-with-maria-at-darma-ji-10/
LOCATION:Darma Ji
CATEGORIES:Performing Arts,Sports
ATTACH;FMTTYPE=image/jpeg:https://gobatroun.com/wp-content/uploads/2023/01/WhatsApp-Image-2023-01-16-at-9.28.57-AM.jpeg
END:VEVENT
BEGIN:VEVENT
DTSTART;TZID=Asia/Beirut:20230131T183000
DTEND;TZID=Asia/Beirut:20230131T190000
DTSTAMP:20260423T082154
CREATED:20230130T084110Z
LAST-MODIFIED:20230130T084110Z
UID:10001847-1675189800-1675191600@gobatroun.com
SUMMARY:Pilates Flow with Nadia at Darma Ji
DESCRIPTION:
URL:https://gobatroun.com/event/pilates-flow-with-nadia-at-darma-ji-5/
LOCATION:Darma Ji
CATEGORIES:Performing Arts,Sports
ATTACH;FMTTYPE=image/jpeg:https://gobatroun.com/wp-content/uploads/2023/01/WhatsApp-Image-2023-01-16-at-9.28.57-AM.jpeg
END:VEVENT
BEGIN:VEVENT
DTSTART;TZID=Asia/Beirut:20230131T100000
DTEND;TZID=Asia/Beirut:20230131T110000
DTSTAMP:20260423T082154
CREATED:20230130T084129Z
LAST-MODIFIED:20230130T084129Z
UID:10001848-1675159200-1675162800@gobatroun.com
SUMMARY:Hatha Yoga with Bassem at Darma Ji
DESCRIPTION:
URL:https://gobatroun.com/event/hatha-yoga-with-bassem-at-darma-ji-8/
LOCATION:Darma Ji
CATEGORIES:Performing Arts
ATTACH;FMTTYPE=image/jpeg:https://gobatroun.com/wp-content/uploads/2023/01/WhatsApp-Image-2023-01-16-at-9.28.57-AM.jpeg
END:VEVENT
BEGIN:VEVENT
DTSTART;TZID=Asia/Beirut:20230130T183000
DTEND;TZID=Asia/Beirut:20230130T190000
DTSTAMP:20260423T082154
CREATED:20230130T084542Z
LAST-MODIFIED:20230130T084542Z
UID:10001853-1675103400-1675105200@gobatroun.com
SUMMARY:Vinyasa Flow with Jana at Darma Ji
DESCRIPTION:
URL:https://gobatroun.com/event/vinyasa-flow-with-jana-at-darma-ji-3/
LOCATION:Darma Ji
CATEGORIES:Performing Arts,Sports
ATTACH;FMTTYPE=image/jpeg:https://gobatroun.com/wp-content/uploads/2023/01/WhatsApp-Image-2023-01-16-at-9.28.57-AM.jpeg
END:VEVENT
BEGIN:VEVENT
DTSTART;TZID=Asia/Beirut:20230130T100000
DTEND;TZID=Asia/Beirut:20230130T230000
DTSTAMP:20260423T082154
CREATED:20230130T083950Z
LAST-MODIFIED:20230130T083950Z
UID:10001844-1675072800-1675119600@gobatroun.com
SUMMARY:Pilates with Maria at Darma Ji
DESCRIPTION:
URL:https://gobatroun.com/event/pilates-with-maria-at-darma-ji-8/
LOCATION:Darma Ji
CATEGORIES:Performing Arts,Sports
ATTACH;FMTTYPE=image/jpeg:https://gobatroun.com/wp-content/uploads/2023/01/WhatsApp-Image-2023-01-16-at-9.28.57-AM.jpeg
END:VEVENT
BEGIN:VEVENT
DTSTART;TZID=Asia/Beirut:20230128T100000
DTEND;TZID=Asia/Beirut:20230128T230000
DTSTAMP:20260423T082154
CREATED:20230123T074301Z
LAST-MODIFIED:20230123T074301Z
UID:10001802-1674900000-1674946800@gobatroun.com
SUMMARY:Vinyasa Flow with Elisa at Darma Ji
DESCRIPTION:
URL:https://gobatroun.com/event/vinyasa-flow-with-elisa-at-darma-ji/
LOCATION:Darma Ji
CATEGORIES:Performing Arts,Sports
ATTACH;FMTTYPE=image/jpeg:https://gobatroun.com/wp-content/uploads/2023/01/WhatsApp-Image-2023-01-16-at-9.28.57-AM.jpeg
END:VEVENT
BEGIN:VEVENT
DTSTART;TZID=Asia/Beirut:20230127T183000
DTEND;TZID=Asia/Beirut:20230127T190000
DTSTAMP:20260423T082154
CREATED:20230123T074325Z
LAST-MODIFIED:20230123T074325Z
UID:10001803-1674844200-1674846000@gobatroun.com
SUMMARY:Hatha Yoga with Olga at Darma Ji
DESCRIPTION:
URL:https://gobatroun.com/event/hatha-yoga-with-olga-at-darma-ji-2/
LOCATION:Darma Ji
CATEGORIES:Performing Arts
ATTACH;FMTTYPE=image/jpeg:https://gobatroun.com/wp-content/uploads/2023/01/WhatsApp-Image-2023-01-16-at-9.28.57-AM.jpeg
END:VEVENT
BEGIN:VEVENT
DTSTART;TZID=Asia/Beirut:20230127T100000
DTEND;TZID=Asia/Beirut:20230127T230000
DTSTAMP:20260423T082154
CREATED:20230123T074344Z
LAST-MODIFIED:20230123T074344Z
UID:10001804-1674813600-1674860400@gobatroun.com
SUMMARY:Pilates with Maria at Darma Ji
DESCRIPTION:
URL:https://gobatroun.com/event/pilates-with-maria-at-darma-ji-5/
LOCATION:Darma Ji
CATEGORIES:Performing Arts,Sports
ATTACH;FMTTYPE=image/jpeg:https://gobatroun.com/wp-content/uploads/2023/01/WhatsApp-Image-2023-01-16-at-9.28.57-AM.jpeg
END:VEVENT
BEGIN:VEVENT
DTSTART;TZID=Asia/Beirut:20230126T183000
DTEND;TZID=Asia/Beirut:20230126T190000
DTSTAMP:20260423T082154
CREATED:20230123T074405Z
LAST-MODIFIED:20230123T074405Z
UID:10001805-1674757800-1674759600@gobatroun.com
SUMMARY:Pilates Flow with Nadia at Darma Ji
DESCRIPTION:
URL:https://gobatroun.com/event/pilates-flow-with-nadia-at-darma-ji-3/
LOCATION:Darma Ji
CATEGORIES:Performing Arts,Sports
ATTACH;FMTTYPE=image/jpeg:https://gobatroun.com/wp-content/uploads/2023/01/WhatsApp-Image-2023-01-16-at-9.28.57-AM.jpeg
END:VEVENT
BEGIN:VEVENT
DTSTART;TZID=Asia/Beirut:20230126T100000
DTEND;TZID=Asia/Beirut:20230126T110000
DTSTAMP:20260423T082154
CREATED:20230123T074414Z
LAST-MODIFIED:20230123T074414Z
UID:10001806-1674727200-1674730800@gobatroun.com
SUMMARY:Hatha Yoga with Bassem at Darma Ji
DESCRIPTION:
URL:https://gobatroun.com/event/hatha-yoga-with-bassem-at-darma-ji-6/
LOCATION:Darma Ji
CATEGORIES:Performing Arts
ATTACH;FMTTYPE=image/jpeg:https://gobatroun.com/wp-content/uploads/2023/01/WhatsApp-Image-2023-01-16-at-9.28.57-AM.jpeg
END:VEVENT
BEGIN:VEVENT
DTSTART;TZID=Asia/Beirut:20230125T183000
DTEND;TZID=Asia/Beirut:20230125T190000
DTSTAMP:20260423T082154
CREATED:20230123T074449Z
LAST-MODIFIED:20230123T074449Z
UID:10001808-1674671400-1674673200@gobatroun.com
SUMMARY:Vinyasa Flow with Elisa at Darma Ji
DESCRIPTION:
URL:https://gobatroun.com/event/vinyasa-flow-with-elisa-at-darma-ji-2/
LOCATION:Darma Ji
CATEGORIES:Performing Arts,Sports
ATTACH;FMTTYPE=image/jpeg:https://gobatroun.com/wp-content/uploads/2023/01/WhatsApp-Image-2023-01-16-at-9.28.57-AM.jpeg
END:VEVENT
BEGIN:VEVENT
DTSTART;TZID=Asia/Beirut:20230125T100000
DTEND;TZID=Asia/Beirut:20230125T230000
DTSTAMP:20260423T082154
CREATED:20230123T074432Z
LAST-MODIFIED:20230123T074432Z
UID:10001807-1674640800-1674687600@gobatroun.com
SUMMARY:Pilates with Maria at Darma Ji
DESCRIPTION:
URL:https://gobatroun.com/event/pilates-with-maria-at-darma-ji-6/
LOCATION:Darma Ji
CATEGORIES:Performing Arts,Sports
ATTACH;FMTTYPE=image/jpeg:https://gobatroun.com/wp-content/uploads/2023/01/WhatsApp-Image-2023-01-16-at-9.28.57-AM.jpeg
END:VEVENT
BEGIN:VEVENT
DTSTART;TZID=Asia/Beirut:20230124T183000
DTEND;TZID=Asia/Beirut:20230124T190000
DTSTAMP:20260423T082154
CREATED:20230123T074503Z
LAST-MODIFIED:20230123T074503Z
UID:10001809-1674585000-1674586800@gobatroun.com
SUMMARY:Pilates Flow with Nadia at Darma Ji
DESCRIPTION:
URL:https://gobatroun.com/event/pilates-flow-with-nadia-at-darma-ji-4/
LOCATION:Darma Ji
CATEGORIES:Performing Arts,Sports
ATTACH;FMTTYPE=image/jpeg:https://gobatroun.com/wp-content/uploads/2023/01/WhatsApp-Image-2023-01-16-at-9.28.57-AM.jpeg
END:VEVENT
BEGIN:VEVENT
DTSTART;TZID=Asia/Beirut:20230124T100000
DTEND;TZID=Asia/Beirut:20230124T110000
DTSTAMP:20260423T082154
CREATED:20230123T074514Z
LAST-MODIFIED:20230123T074514Z
UID:10001810-1674554400-1674558000@gobatroun.com
SUMMARY:Hatha Yoga with Bassem at Darma Ji
DESCRIPTION:
URL:https://gobatroun.com/event/hatha-yoga-with-bassem-at-darma-ji-7/
LOCATION:Darma Ji
CATEGORIES:Performing Arts
ATTACH;FMTTYPE=image/jpeg:https://gobatroun.com/wp-content/uploads/2023/01/WhatsApp-Image-2023-01-16-at-9.28.57-AM.jpeg
END:VEVENT
BEGIN:VEVENT
DTSTART;TZID=Asia/Beirut:20230123T183000
DTEND;TZID=Asia/Beirut:20230123T190000
DTSTAMP:20260423T082154
CREATED:20230123T074523Z
LAST-MODIFIED:20230123T074547Z
UID:10001811-1674498600-1674500400@gobatroun.com
SUMMARY:Vinyasa Flow with Jana at Darma Ji
DESCRIPTION:
URL:https://gobatroun.com/event/vinyasa-flow-with-jana-at-darma-ji-2/
LOCATION:Darma Ji
CATEGORIES:Performing Arts,Sports
ATTACH;FMTTYPE=image/jpeg:https://gobatroun.com/wp-content/uploads/2023/01/WhatsApp-Image-2023-01-16-at-9.28.57-AM.jpeg
END:VEVENT
BEGIN:VEVENT
DTSTART;TZID=Asia/Beirut:20230123T100000
DTEND;TZID=Asia/Beirut:20230123T230000
DTSTAMP:20260423T082154
CREATED:20230123T074537Z
LAST-MODIFIED:20230123T074537Z
UID:10001812-1674468000-1674514800@gobatroun.com
SUMMARY:Pilates with Maria at Darma Ji
DESCRIPTION:
URL:https://gobatroun.com/event/pilates-with-maria-at-darma-ji-7/
LOCATION:Darma Ji
CATEGORIES:Performing Arts,Sports
ATTACH;FMTTYPE=image/jpeg:https://gobatroun.com/wp-content/uploads/2023/01/WhatsApp-Image-2023-01-16-at-9.28.57-AM.jpeg
END:VEVENT
BEGIN:VEVENT
DTSTART;TZID=Asia/Beirut:20230121T100000
DTEND;TZID=Asia/Beirut:20230121T230000
DTSTAMP:20260423T082154
CREATED:20230116T074739Z
LAST-MODIFIED:20230116T074739Z
UID:10001773-1674295200-1674342000@gobatroun.com
SUMMARY:Vinyasa Flow with Elias at Darma Ji
DESCRIPTION:
URL:https://gobatroun.com/event/vinyasa-flow-with-elias-at-darma-ji-2/
LOCATION:Darma Ji
CATEGORIES:Performing Arts,Sports
ATTACH;FMTTYPE=image/jpeg:https://gobatroun.com/wp-content/uploads/2023/01/WhatsApp-Image-2023-01-16-at-9.28.57-AM.jpeg
END:VEVENT
BEGIN:VEVENT
DTSTART;TZID=Asia/Beirut:20230120T180000
DTEND;TZID=Asia/Beirut:20230120T190000
DTSTAMP:20260423T082154
CREATED:20230116T074637Z
LAST-MODIFIED:20230116T074637Z
UID:10001772-1674237600-1674241200@gobatroun.com
SUMMARY:Hatha Yoga with Olga at Darma Ji
DESCRIPTION:
URL:https://gobatroun.com/event/hatha-yoga-with-olga-at-darma-ji/
LOCATION:Darma Ji
CATEGORIES:Performing Arts
ATTACH;FMTTYPE=image/jpeg:https://gobatroun.com/wp-content/uploads/2023/01/WhatsApp-Image-2023-01-16-at-9.28.57-AM.jpeg
END:VEVENT
BEGIN:VEVENT
DTSTART;TZID=Asia/Beirut:20230120T100000
DTEND;TZID=Asia/Beirut:20230120T230000
DTSTAMP:20260423T082154
CREATED:20230116T074555Z
LAST-MODIFIED:20230116T074555Z
UID:10001771-1674208800-1674255600@gobatroun.com
SUMMARY:Pilates with Maria at Darma Ji
DESCRIPTION:
URL:https://gobatroun.com/event/pilates-with-maria-at-darma-ji-4/
LOCATION:Darma Ji
CATEGORIES:Performing Arts,Sports
ATTACH;FMTTYPE=image/jpeg:https://gobatroun.com/wp-content/uploads/2023/01/WhatsApp-Image-2023-01-16-at-9.28.57-AM.jpeg
END:VEVENT
BEGIN:VEVENT
DTSTART;TZID=Asia/Beirut:20230119T180000
DTEND;TZID=Asia/Beirut:20230119T190000
DTSTAMP:20260423T082154
CREATED:20230116T074400Z
LAST-MODIFIED:20230116T074400Z
UID:10001770-1674151200-1674154800@gobatroun.com
SUMMARY:Pilates Flow with Nadia at Darma Ji
DESCRIPTION:
URL:https://gobatroun.com/event/pilates-flow-with-nadia-at-darma-ji-2/
LOCATION:Darma Ji
CATEGORIES:Performing Arts,Sports
ATTACH;FMTTYPE=image/jpeg:https://gobatroun.com/wp-content/uploads/2023/01/WhatsApp-Image-2023-01-16-at-9.28.57-AM.jpeg
END:VEVENT
BEGIN:VEVENT
DTSTART;TZID=Asia/Beirut:20230119T100000
DTEND;TZID=Asia/Beirut:20230119T110000
DTSTAMP:20260423T082154
CREATED:20230116T074352Z
LAST-MODIFIED:20230116T074352Z
UID:10001769-1674122400-1674126000@gobatroun.com
SUMMARY:Hatha Yoga with Bassem at Darma Ji
DESCRIPTION:
URL:https://gobatroun.com/event/hatha-yoga-with-bassem-at-darma-ji-5/
LOCATION:Darma Ji
CATEGORIES:Performing Arts
ATTACH;FMTTYPE=image/jpeg:https://gobatroun.com/wp-content/uploads/2023/01/WhatsApp-Image-2023-01-16-at-9.28.57-AM.jpeg
END:VEVENT
BEGIN:VEVENT
DTSTART;TZID=Asia/Beirut:20230118T180000
DTEND;TZID=Asia/Beirut:20230118T190000
DTSTAMP:20260423T082154
CREATED:20230116T074257Z
LAST-MODIFIED:20230116T074257Z
UID:10001767-1674064800-1674068400@gobatroun.com
SUMMARY:Vinyasa Flow with Elias at Darma Ji
DESCRIPTION:
URL:https://gobatroun.com/event/vinyasa-flow-with-elias-at-darma-ji/
LOCATION:Darma Ji
CATEGORIES:Performing Arts,Sports
ATTACH;FMTTYPE=image/jpeg:https://gobatroun.com/wp-content/uploads/2023/01/WhatsApp-Image-2023-01-16-at-9.28.57-AM.jpeg
END:VEVENT
BEGIN:VEVENT
DTSTART;TZID=Asia/Beirut:20230118T100000
DTEND;TZID=Asia/Beirut:20230118T230000
DTSTAMP:20260423T082154
CREATED:20230116T074306Z
LAST-MODIFIED:20230116T074306Z
UID:10001768-1674036000-1674082800@gobatroun.com
SUMMARY:Pilates with Maria at Darma Ji
DESCRIPTION:
URL:https://gobatroun.com/event/pilates-with-maria-at-darma-ji-3/
LOCATION:Darma Ji
CATEGORIES:Performing Arts,Sports
ATTACH;FMTTYPE=image/jpeg:https://gobatroun.com/wp-content/uploads/2023/01/WhatsApp-Image-2023-01-16-at-9.28.57-AM.jpeg
END:VEVENT
BEGIN:VEVENT
DTSTART;TZID=Asia/Beirut:20230117T180000
DTEND;TZID=Asia/Beirut:20230117T190000
DTSTAMP:20260423T082154
CREATED:20230116T074134Z
LAST-MODIFIED:20230116T074134Z
UID:10001766-1673978400-1673982000@gobatroun.com
SUMMARY:Pilates Flow with Nadia at Darma Ji
DESCRIPTION:
URL:https://gobatroun.com/event/pilates-flow-with-nadia-at-darma-ji/
LOCATION:Darma Ji
CATEGORIES:Performing Arts,Sports
ATTACH;FMTTYPE=image/jpeg:https://gobatroun.com/wp-content/uploads/2023/01/WhatsApp-Image-2023-01-16-at-9.28.57-AM.jpeg
END:VEVENT
BEGIN:VEVENT
DTSTART;TZID=Asia/Beirut:20230117T100000
DTEND;TZID=Asia/Beirut:20230117T110000
DTSTAMP:20260423T082154
CREATED:20230116T074004Z
LAST-MODIFIED:20230116T074004Z
UID:10001765-1673949600-1673953200@gobatroun.com
SUMMARY:Hatha Yoga with Bassem at Darma Ji
DESCRIPTION:
URL:https://gobatroun.com/event/hatha-yoga-with-bassem-at-darma-ji-4/
LOCATION:Darma Ji
CATEGORIES:Performing Arts
ATTACH;FMTTYPE=image/jpeg:https://gobatroun.com/wp-content/uploads/2023/01/WhatsApp-Image-2023-01-16-at-9.28.57-AM.jpeg
END:VEVENT
BEGIN:VEVENT
DTSTART;TZID=Asia/Beirut:20230116T180000
DTEND;TZID=Asia/Beirut:20230116T190000
DTSTAMP:20260423T082154
CREATED:20230116T073636Z
LAST-MODIFIED:20230116T073636Z
UID:10001764-1673892000-1673895600@gobatroun.com
SUMMARY:Vinyasa Flow with Jana at Darma Ji
DESCRIPTION:
URL:https://gobatroun.com/event/vinyasa-flow-with-jana-at-darma-ji/
LOCATION:Darma Ji
CATEGORIES:Performing Arts,Sports
ATTACH;FMTTYPE=image/jpeg:https://gobatroun.com/wp-content/uploads/2023/01/WhatsApp-Image-2023-01-16-at-9.28.57-AM.jpeg
END:VEVENT
BEGIN:VEVENT
DTSTART;TZID=Asia/Beirut:20230116T100000
DTEND;TZID=Asia/Beirut:20230116T230000
DTSTAMP:20260423T082154
CREATED:20230116T073259Z
LAST-MODIFIED:20230116T073259Z
UID:10001763-1673863200-1673910000@gobatroun.com
SUMMARY:Pilates with Maria at Darma Ji
DESCRIPTION:
URL:https://gobatroun.com/event/pilates-with-maria-at-darma-ji-2/
LOCATION:Darma Ji
CATEGORIES:Performing Arts,Sports
ATTACH;FMTTYPE=image/jpeg:https://gobatroun.com/wp-content/uploads/2023/01/WhatsApp-Image-2023-01-16-at-9.28.57-AM.jpeg
END:VEVENT
BEGIN:VEVENT
DTSTART;TZID=Asia/Beirut:20230107T113000
DTEND;TZID=Asia/Beirut:20230107T170000
DTSTAMP:20260423T082154
CREATED:20230104T073128Z
LAST-MODIFIED:20230104T080833Z
UID:10001731-1673091000-1673110800@gobatroun.com
SUMMARY:CONNECT WITH YOUR INNER CHILD at Darma Ji
DESCRIPTION:CONNECT WITH YOUR INNER CHILD is a workshop that will help you create a new relationship with your inner child based on love and understanding\, leaving behind all the old patterns and fearful behaviors that still affect your present moment. \nMeditation has been identified as an effective mental health practice to help almost everyone improve their physical and psychological well-being. \nSome of the potential benefits of this workshop include lowering stress\, decreasing depression\, improving memory\, and strengthening your relationships\, among other things. \nAlso\, this workshop will help us to create deep states of relaxation\, harmonizes the cerebral hemispheres\, cleanses and balances the energy system\, relieves pain and physical discomfort\, relieves stress\, tension\, and hypertension\, and calms emotions….. \nJoin me at Darma Ji for a session of breathing techniques; guided meditation\, visualization\, and chitchat about the tools that we can use to keep balance in life and to attract love and abundance. \n* for people who are interested in a private session of chakra healing before or after the workshop\, please book your session earlier. \nLocation: Darma Ji – Batroun\nFor reservation: +961 3 632 900
URL:https://gobatroun.com/event/connect-with-your-inner-child-at-darma-ji/
LOCATION:Darma Ji
CATEGORIES:Performing Arts,Sports
ATTACH;FMTTYPE=image/png:https://gobatroun.com/wp-content/uploads/2023/01/Screenshot-2348.png
END:VEVENT
BEGIN:VEVENT
DTSTART;TZID=Asia/Beirut:20221216T180000
DTEND;TZID=Asia/Beirut:20221216T180000
DTSTAMP:20260423T082154
CREATED:20221214T075026Z
LAST-MODIFIED:20221214T075026Z
UID:10001662-1671213600-1671213600@gobatroun.com
SUMMARY:calm & peaceful mind in Jenny's classes at Darma Ji
DESCRIPTION:Always creating a calm & peaceful mind in Jenny’s classes 💜 \nReserve your spot & let go all the tension of your day! \n@tschennyruerue ✨\nEvery Friday at 6PM.\n📲 03-632900
URL:https://gobatroun.com/event/calm-peaceful-mind-in-jennys-classes-at-darma-ji/
LOCATION:Darma Ji
CATEGORIES:Sports
ATTACH;FMTTYPE=image/png:https://gobatroun.com/wp-content/uploads/2022/12/Screenshot-2258.png
END:VEVENT
BEGIN:VEVENT
DTSTART;TZID=Asia/Beirut:20221211T100000
DTEND;TZID=Asia/Beirut:20221211T113000
DTSTAMP:20260423T082154
CREATED:20221209T121416Z
LAST-MODIFIED:20221209T121416Z
UID:10001632-1670752800-1670758200@gobatroun.com
SUMMARY:Nisrine at Darma Ji
DESCRIPTION:“Open your hearts” \nMaster class 👇🏼\n🗓 Sunday\, Dec 11th\n🕙 10h00 – 11h30 \nJoin Nisrine for a special flow with the sounds of waves at our hub 🌊 \nThe practice will be focused on stretches that lengthens the muscles of your upper body.\nHelp yourself release some stress & anxiety while boosting your confidence & openness to love! 🤍
URL:https://gobatroun.com/event/nisrine-at-darma-ji/
LOCATION:Darma Ji
CATEGORIES:Performing Arts
ATTACH;FMTTYPE=image/png:https://gobatroun.com/wp-content/uploads/2022/12/Screenshot-2207.png
END:VEVENT
END:VCALENDAR