BEGIN:VCALENDAR
VERSION:2.0
PRODID:-//Go Batroun - ECPv6.14.2//NONSGML v1.0//EN
CALSCALE:GREGORIAN
METHOD:PUBLISH
X-ORIGINAL-URL:https://gobatroun.com
X-WR-CALDESC:Events for Go Batroun
REFRESH-INTERVAL;VALUE=DURATION:PT1H
X-Robots-Tag:noindex
X-PUBLISHED-TTL:PT1H
BEGIN:VTIMEZONE
TZID:Asia/Beirut
BEGIN:DAYLIGHT
TZOFFSETFROM:+0200
TZOFFSETTO:+0300
TZNAME:EEST
DTSTART:20230325T220000
END:DAYLIGHT
BEGIN:STANDARD
TZOFFSETFROM:+0300
TZOFFSETTO:+0200
TZNAME:EET
DTSTART:20231028T210000
END:STANDARD
END:VTIMEZONE
BEGIN:VEVENT
DTSTART;TZID=Asia/Beirut:20231213T220000
DTEND;TZID=Asia/Beirut:20231213T220000
DTSTAMP:20260424T111031
CREATED:20231220T090214Z
LAST-MODIFIED:20231220T090214Z
UID:10005564-1702504800-1702504800@gobatroun.com
SUMMARY:Stephan Roukos at Cheers
DESCRIPTION:
URL:https://gobatroun.com/event/stephan-roukos-at-cheers-54/2023-12-13/
LOCATION:Cheers
CATEGORIES:Performing Arts
ATTACH;FMTTYPE=image/png:https://gobatroun.com/wp-content/uploads/2023/12/Screenshot-2795.png
END:VEVENT
BEGIN:VEVENT
DTSTART;TZID=Asia/Beirut:20231213T220000
DTEND;TZID=Asia/Beirut:20231213T220000
DTSTAMP:20260424T111031
CREATED:20231212T075346Z
LAST-MODIFIED:20231212T105358Z
UID:10005386-1702504800-1702504800@gobatroun.com
SUMMARY:Stephan Roukos at Cheers
DESCRIPTION:
URL:https://gobatroun.com/event/stephan-roukos-at-cheers-53/
LOCATION:Cheers
CATEGORIES:Performing Arts
ATTACH;FMTTYPE=image/png:https://gobatroun.com/wp-content/uploads/2023/12/Screenshot-2684.png
END:VEVENT
BEGIN:VEVENT
DTSTART;TZID=Asia/Beirut:20231209T213000
DTEND;TZID=Asia/Beirut:20231209T213000
DTSTAMP:20260424T111031
CREATED:20231204T114345Z
LAST-MODIFIED:20231204T114345Z
UID:10005323-1702157400-1702157400@gobatroun.com
SUMMARY:Dj Salvador at Cheers
DESCRIPTION:
URL:https://gobatroun.com/event/dj-salvador-at-cheers-35/
LOCATION:Cheers
CATEGORIES:Performing Arts
ATTACH;FMTTYPE=image/png:https://gobatroun.com/wp-content/uploads/2023/12/Screenshot-2624.png
END:VEVENT
BEGIN:VEVENT
DTSTART;TZID=Asia/Beirut:20231208T220000
DTEND;TZID=Asia/Beirut:20231208T220000
DTSTAMP:20260424T111031
CREATED:20231204T114455Z
LAST-MODIFIED:20231204T114455Z
UID:10005324-1702072800-1702072800@gobatroun.com
SUMMARY:Pauly Hash at Cheers
DESCRIPTION:
URL:https://gobatroun.com/event/pauly-hash-at-cheers-2/
LOCATION:Cheers
CATEGORIES:Performing Arts
ATTACH;FMTTYPE=image/png:https://gobatroun.com/wp-content/uploads/2023/12/Screenshot-2624.png
END:VEVENT
BEGIN:VEVENT
DTSTART;TZID=Asia/Beirut:20231206T220000
DTEND;TZID=Asia/Beirut:20231206T220000
DTSTAMP:20260424T111031
CREATED:20231204T114113Z
LAST-MODIFIED:20231204T114113Z
UID:10005322-1701900000-1701900000@gobatroun.com
SUMMARY:Stephan Roukos at Cheers
DESCRIPTION:
URL:https://gobatroun.com/event/stephan-roukos-at-cheers-52/
LOCATION:Cheers
CATEGORIES:Performing Arts
ATTACH;FMTTYPE=image/png:https://gobatroun.com/wp-content/uploads/2023/08/Screenshot-2016.png
END:VEVENT
BEGIN:VEVENT
DTSTART;TZID=Asia/Beirut:20231202T213000
DTEND;TZID=Asia/Beirut:20231202T213000
DTSTAMP:20260424T111031
CREATED:20231127T132453Z
LAST-MODIFIED:20231127T132453Z
UID:10005252-1701552600-1701552600@gobatroun.com
SUMMARY:Micha and the Band at Cheers
DESCRIPTION:
URL:https://gobatroun.com/event/micha-and-the-band-at-cheers-11/
LOCATION:Cheers
CATEGORIES:Performing Arts
ATTACH;FMTTYPE=image/png:https://gobatroun.com/wp-content/uploads/2023/11/Screenshot-2556.png
END:VEVENT
BEGIN:VEVENT
DTSTART;TZID=Asia/Beirut:20231201T213000
DTEND;TZID=Asia/Beirut:20231201T213000
DTSTAMP:20260424T111031
CREATED:20231127T132401Z
LAST-MODIFIED:20231127T132401Z
UID:10005251-1701466200-1701466200@gobatroun.com
SUMMARY:Dj Salvador at Cheers
DESCRIPTION:
URL:https://gobatroun.com/event/dj-salvador-at-cheers-34/
LOCATION:Cheers
CATEGORIES:Performing Arts
ATTACH;FMTTYPE=image/png:https://gobatroun.com/wp-content/uploads/2023/11/Screenshot-2556.png
END:VEVENT
BEGIN:VEVENT
DTSTART;TZID=Asia/Beirut:20231129T220000
DTEND;TZID=Asia/Beirut:20231129T220000
DTSTAMP:20260424T111031
CREATED:20231127T132329Z
LAST-MODIFIED:20231127T132329Z
UID:10005250-1701295200-1701295200@gobatroun.com
SUMMARY:Stephan Roukos at Cheers
DESCRIPTION:
URL:https://gobatroun.com/event/stephan-roukos-at-cheers-51/
LOCATION:Cheers
CATEGORIES:Performing Arts
ATTACH;FMTTYPE=image/png:https://gobatroun.com/wp-content/uploads/2023/08/Screenshot-2016.png
END:VEVENT
BEGIN:VEVENT
DTSTART;TZID=Asia/Beirut:20231125T213000
DTEND;TZID=Asia/Beirut:20231125T213000
DTSTAMP:20260424T111031
CREATED:20231120T072724Z
LAST-MODIFIED:20231120T072724Z
UID:10005225-1700947800-1700947800@gobatroun.com
SUMMARY:Dj Salvador at Cheers
DESCRIPTION:
URL:https://gobatroun.com/event/dj-salvador-at-cheers-33/
LOCATION:Cheers
CATEGORIES:Performing Arts
ATTACH;FMTTYPE=image/png:https://gobatroun.com/wp-content/uploads/2023/08/Screenshot-2018.png
END:VEVENT
BEGIN:VEVENT
DTSTART;TZID=Asia/Beirut:20231124T220000
DTEND;TZID=Asia/Beirut:20231124T220000
DTSTAMP:20260424T111031
CREATED:20231120T072836Z
LAST-MODIFIED:20231120T072836Z
UID:10005226-1700863200-1700863200@gobatroun.com
SUMMARY:the Ray's Ft. Nidal at Cheers
DESCRIPTION:
URL:https://gobatroun.com/event/the-rays-ft-nidal-at-cheers-4/
LOCATION:Cheers
CATEGORIES:Performing Arts
ATTACH;FMTTYPE=image/png:https://gobatroun.com/wp-content/uploads/2023/11/Screenshot-2521.png
END:VEVENT
BEGIN:VEVENT
DTSTART;TZID=Asia/Beirut:20231123T220000
DTEND;TZID=Asia/Beirut:20231123T220000
DTSTAMP:20260424T111031
CREATED:20231120T073025Z
LAST-MODIFIED:20231120T073025Z
UID:10005227-1700776800-1700776800@gobatroun.com
SUMMARY:Pauly Hash at Cheers
DESCRIPTION:
URL:https://gobatroun.com/event/pauly-hash-at-cheers/
LOCATION:Cheers
CATEGORIES:Performing Arts
ATTACH;FMTTYPE=image/png:https://gobatroun.com/wp-content/uploads/2023/11/Screenshot-2521.png
END:VEVENT
BEGIN:VEVENT
DTSTART;TZID=Asia/Beirut:20231122T220000
DTEND;TZID=Asia/Beirut:20231122T220000
DTSTAMP:20260424T111031
CREATED:20231120T072705Z
LAST-MODIFIED:20231120T072705Z
UID:10005224-1700690400-1700690400@gobatroun.com
SUMMARY:Stephan Roukos at Cheers
DESCRIPTION:
URL:https://gobatroun.com/event/stephan-roukos-at-cheers-50/
LOCATION:Cheers
CATEGORIES:Performing Arts
ATTACH;FMTTYPE=image/png:https://gobatroun.com/wp-content/uploads/2023/08/Screenshot-2016.png
END:VEVENT
BEGIN:VEVENT
DTSTART;TZID=Asia/Beirut:20231118T213000
DTEND;TZID=Asia/Beirut:20231118T213000
DTSTAMP:20260424T111031
CREATED:20231115T134601Z
LAST-MODIFIED:20231115T134601Z
UID:10005212-1700343000-1700343000@gobatroun.com
SUMMARY:Dj Salvador at Cheers
DESCRIPTION:
URL:https://gobatroun.com/event/dj-salvador-at-cheers-32/
LOCATION:Cheers
CATEGORIES:Performing Arts
ATTACH;FMTTYPE=image/png:https://gobatroun.com/wp-content/uploads/2023/08/Screenshot-2018.png
END:VEVENT
BEGIN:VEVENT
DTSTART;TZID=Asia/Beirut:20231117T220000
DTEND;TZID=Asia/Beirut:20231117T220000
DTSTAMP:20260424T111031
CREATED:20231115T134544Z
LAST-MODIFIED:20231115T134544Z
UID:10005211-1700258400-1700258400@gobatroun.com
SUMMARY:Bazar Night with Dj Ado at Cheers
DESCRIPTION:
URL:https://gobatroun.com/event/bazar-night-with-dj-ado-at-cheers-6/
LOCATION:Cheers
CATEGORIES:Performing Arts
ATTACH;FMTTYPE=image/png:https://gobatroun.com/wp-content/uploads/2023/10/Screenshot-2276.png
END:VEVENT
BEGIN:VEVENT
DTSTART;TZID=Asia/Beirut:20231115T220000
DTEND;TZID=Asia/Beirut:20231115T220000
DTSTAMP:20260424T111031
CREATED:20231115T134528Z
LAST-MODIFIED:20231115T134528Z
UID:10005210-1700085600-1700085600@gobatroun.com
SUMMARY:Stephan Roukos at Cheers
DESCRIPTION:
URL:https://gobatroun.com/event/stephan-roukos-at-cheers-49/
LOCATION:Cheers
CATEGORIES:Performing Arts
ATTACH;FMTTYPE=image/png:https://gobatroun.com/wp-content/uploads/2023/08/Screenshot-2016.png
END:VEVENT
BEGIN:VEVENT
DTSTART;TZID=Asia/Beirut:20231111T213000
DTEND;TZID=Asia/Beirut:20231111T213000
DTSTAMP:20260424T111031
CREATED:20231107T124028Z
LAST-MODIFIED:20231107T124028Z
UID:10005143-1699738200-1699738200@gobatroun.com
SUMMARY:Dj Salvador at Cheers
DESCRIPTION:
URL:https://gobatroun.com/event/dj-salvador-at-cheers-31/
LOCATION:Cheers
CATEGORIES:Performing Arts
ATTACH;FMTTYPE=image/png:https://gobatroun.com/wp-content/uploads/2023/08/Screenshot-2018.png
END:VEVENT
BEGIN:VEVENT
DTSTART;TZID=Asia/Beirut:20231110T220000
DTEND;TZID=Asia/Beirut:20231110T220000
DTSTAMP:20260424T111031
CREATED:20231107T123934Z
LAST-MODIFIED:20231107T123934Z
UID:10005142-1699653600-1699653600@gobatroun.com
SUMMARY:Bazar Night with Dj Ado at Cheers
DESCRIPTION:
URL:https://gobatroun.com/event/bazar-night-with-dj-ado-at-cheers-5/
LOCATION:Cheers
CATEGORIES:Performing Arts
ATTACH;FMTTYPE=image/png:https://gobatroun.com/wp-content/uploads/2023/10/Screenshot-2276.png
END:VEVENT
BEGIN:VEVENT
DTSTART;TZID=Asia/Beirut:20231109T220000
DTEND;TZID=Asia/Beirut:20231109T220000
DTSTAMP:20260424T111031
CREATED:20231107T124216Z
LAST-MODIFIED:20231107T124216Z
UID:10005144-1699567200-1699567200@gobatroun.com
SUMMARY:DJ Housska at Cheers
DESCRIPTION:
URL:https://gobatroun.com/event/dj-housska-at-cheers/
LOCATION:Cheers
CATEGORIES:Performing Arts
ATTACH;FMTTYPE=image/png:https://gobatroun.com/wp-content/uploads/2023/11/Screenshot-2471.png
END:VEVENT
BEGIN:VEVENT
DTSTART;TZID=Asia/Beirut:20231108T220000
DTEND;TZID=Asia/Beirut:20231108T220000
DTSTAMP:20260424T111031
CREATED:20231107T123907Z
LAST-MODIFIED:20231107T123907Z
UID:10005141-1699480800-1699480800@gobatroun.com
SUMMARY:Stephan Roukos at Cheers
DESCRIPTION:
URL:https://gobatroun.com/event/stephan-roukos-at-cheers-48/
LOCATION:Cheers
CATEGORIES:Performing Arts
ATTACH;FMTTYPE=image/png:https://gobatroun.com/wp-content/uploads/2023/08/Screenshot-2016.png
END:VEVENT
BEGIN:VEVENT
DTSTART;TZID=Asia/Beirut:20231105T220000
DTEND;TZID=Asia/Beirut:20231105T220000
DTSTAMP:20260424T111031
CREATED:20231031T112015Z
LAST-MODIFIED:20231031T112015Z
UID:10005100-1699221600-1699221600@gobatroun.com
SUMMARY:Karaoke Night at Cheers
DESCRIPTION:
URL:https://gobatroun.com/event/karaoke-night-at-cheers-2/
LOCATION:Cheers
CATEGORIES:Performing Arts
ATTACH;FMTTYPE=image/png:https://gobatroun.com/wp-content/uploads/2023/10/Screenshot-2410.png
END:VEVENT
BEGIN:VEVENT
DTSTART;TZID=Asia/Beirut:20231104T220000
DTEND;TZID=Asia/Beirut:20231104T220000
DTSTAMP:20260424T111031
CREATED:20231031T111816Z
LAST-MODIFIED:20231031T111816Z
UID:10005097-1699135200-1699135200@gobatroun.com
SUMMARY:the Ray's Ft. Nidal at Cheers
DESCRIPTION:
URL:https://gobatroun.com/event/the-rays-ft-nidal-at-cheers-3/
LOCATION:Cheers
CATEGORIES:Performing Arts
ATTACH;FMTTYPE=image/png:https://gobatroun.com/wp-content/uploads/2023/10/Screenshot-2410.png
END:VEVENT
BEGIN:VEVENT
DTSTART;TZID=Asia/Beirut:20231103T213000
DTEND;TZID=Asia/Beirut:20231103T213000
DTSTAMP:20260424T111031
CREATED:20231031T111847Z
LAST-MODIFIED:20231031T111847Z
UID:10005099-1699047000-1699047000@gobatroun.com
SUMMARY:Dj Salvador at Cheers
DESCRIPTION:
URL:https://gobatroun.com/event/dj-salvador-at-cheers-30/
LOCATION:Cheers
CATEGORIES:Performing Arts
ATTACH;FMTTYPE=image/png:https://gobatroun.com/wp-content/uploads/2023/10/Screenshot-2410.png
END:VEVENT
BEGIN:VEVENT
DTSTART;TZID=Asia/Beirut:20231101T220000
DTEND;TZID=Asia/Beirut:20231101T220000
DTSTAMP:20260424T111031
CREATED:20231031T111740Z
LAST-MODIFIED:20231031T111740Z
UID:10005098-1698876000-1698876000@gobatroun.com
SUMMARY:Stephan Roukos at Cheers
DESCRIPTION:
URL:https://gobatroun.com/event/stephan-roukos-at-cheers-47/
LOCATION:Cheers
CATEGORIES:Performing Arts
ATTACH;FMTTYPE=image/png:https://gobatroun.com/wp-content/uploads/2023/08/Screenshot-2016.png
END:VEVENT
BEGIN:VEVENT
DTSTART;TZID=Asia/Beirut:20231029T210000
DTEND;TZID=Asia/Beirut:20231029T210000
DTSTAMP:20260424T111031
CREATED:20231025T053349Z
LAST-MODIFIED:20231025T053349Z
UID:10005074-1698613200-1698613200@gobatroun.com
SUMMARY:Halloween Costume Contest at Cheers
DESCRIPTION:Bring your best costume for our annual Halloween Costume Contest this Sunday for the chance to win special prizes🥂👻💃🏽💀 \nLocation @cheerscousinmike \nFor reservations\, call 📞 81 162 742
URL:https://gobatroun.com/event/halloween-costume-contest-at-cheers/
LOCATION:Cheers
CATEGORIES:Performing Arts
ATTACH;FMTTYPE=image/png:https://gobatroun.com/wp-content/uploads/2023/10/Screenshot-2383.png
END:VEVENT
BEGIN:VEVENT
DTSTART;TZID=Asia/Beirut:20231021T213000
DTEND;TZID=Asia/Beirut:20231021T213000
DTSTAMP:20260424T111031
CREATED:20231017T123725Z
LAST-MODIFIED:20231017T123744Z
UID:10005056-1697923800-1697923800@gobatroun.com
SUMMARY:Dj Salvador at Cheers
DESCRIPTION:
URL:https://gobatroun.com/event/dj-salvador-at-cheers-29/
LOCATION:Cheers
CATEGORIES:Performing Arts
ATTACH;FMTTYPE=image/png:https://gobatroun.com/wp-content/uploads/2023/08/Screenshot-2018.png
END:VEVENT
BEGIN:VEVENT
DTSTART;TZID=Asia/Beirut:20231020T220000
DTEND;TZID=Asia/Beirut:20231020T220000
DTSTAMP:20260424T111031
CREATED:20231017T124607Z
LAST-MODIFIED:20231017T124607Z
UID:10005060-1697839200-1697839200@gobatroun.com
SUMMARY:the Ray's Ft. Nidal at Cheers
DESCRIPTION:
URL:https://gobatroun.com/event/the-rays-ft-nidal-at-cheers-2/
LOCATION:Cheers
CATEGORIES:Performing Arts
ATTACH;FMTTYPE=image/png:https://gobatroun.com/wp-content/uploads/2023/10/Screenshot-2362.png
END:VEVENT
BEGIN:VEVENT
DTSTART;TZID=Asia/Beirut:20231019T220000
DTEND;TZID=Asia/Beirut:20231019T220000
DTSTAMP:20260424T111031
CREATED:20231017T123845Z
LAST-MODIFIED:20231017T123845Z
UID:10005059-1697752800-1697752800@gobatroun.com
SUMMARY:Bazar Night with Dj Ado at Cheers
DESCRIPTION:
URL:https://gobatroun.com/event/bazar-night-with-dj-ado-at-cheers-4/
LOCATION:Cheers
CATEGORIES:Performing Arts
ATTACH;FMTTYPE=image/png:https://gobatroun.com/wp-content/uploads/2023/10/Screenshot-2362.png
END:VEVENT
BEGIN:VEVENT
DTSTART;TZID=Asia/Beirut:20231018T220000
DTEND;TZID=Asia/Beirut:20231018T220000
DTSTAMP:20260424T111031
CREATED:20231017T123439Z
LAST-MODIFIED:20231017T123439Z
UID:10005057-1697666400-1697666400@gobatroun.com
SUMMARY:Stephan Roukos at Cheers
DESCRIPTION:
URL:https://gobatroun.com/event/stephan-roukos-at-cheers-46/
LOCATION:Cheers
CATEGORIES:Performing Arts
ATTACH;FMTTYPE=image/png:https://gobatroun.com/wp-content/uploads/2023/08/Screenshot-2016.png
END:VEVENT
BEGIN:VEVENT
DTSTART;TZID=Asia/Beirut:20231014T210000
DTEND;TZID=Asia/Beirut:20231014T210000
DTSTAMP:20260424T111031
CREATED:20231010T130751Z
LAST-MODIFIED:20231010T130751Z
UID:10005040-1697317200-1697317200@gobatroun.com
SUMMARY:Micha and the Band at Cheers
DESCRIPTION:For Reservations. 81/162742.
URL:https://gobatroun.com/event/micha-and-the-band-at-cheers-10/
LOCATION:Cheers
CATEGORIES:Performing Arts
ATTACH;FMTTYPE=image/png:https://gobatroun.com/wp-content/uploads/2023/10/Screenshot-2323.png
END:VEVENT
BEGIN:VEVENT
DTSTART;TZID=Asia/Beirut:20231014T210000
DTEND;TZID=Asia/Beirut:20231014T210000
DTSTAMP:20260424T111031
CREATED:20231005T082225Z
LAST-MODIFIED:20231005T082225Z
UID:10005026-1697317200-1697317200@gobatroun.com
SUMMARY:Micha and the Band at Cheers
DESCRIPTION:For Reservations. 81/162742.
URL:https://gobatroun.com/event/micha-and-the-band-at-cheers-9/
LOCATION:Cheers
CATEGORIES:Performing Arts
ATTACH;FMTTYPE=image/png:https://gobatroun.com/wp-content/uploads/2023/10/Screenshot-2292.png
END:VEVENT
END:VCALENDAR