BEGIN:VCALENDAR
VERSION:2.0
PRODID:-//Go Batroun - ECPv6.14.2//NONSGML v1.0//EN
CALSCALE:GREGORIAN
METHOD:PUBLISH
X-WR-CALNAME:Go Batroun
X-ORIGINAL-URL:https://gobatroun.com
X-WR-CALDESC:Events for Go Batroun
REFRESH-INTERVAL;VALUE=DURATION:PT1H
X-Robots-Tag:noindex
X-PUBLISHED-TTL:PT1H
BEGIN:VTIMEZONE
TZID:Asia/Beirut
BEGIN:DAYLIGHT
TZOFFSETFROM:+0200
TZOFFSETTO:+0300
TZNAME:EEST
DTSTART:20230325T220000
END:DAYLIGHT
BEGIN:STANDARD
TZOFFSETFROM:+0300
TZOFFSETTO:+0200
TZNAME:EET
DTSTART:20231028T210000
END:STANDARD
BEGIN:DAYLIGHT
TZOFFSETFROM:+0200
TZOFFSETTO:+0300
TZNAME:EEST
DTSTART:20240330T220000
END:DAYLIGHT
BEGIN:STANDARD
TZOFFSETFROM:+0300
TZOFFSETTO:+0200
TZNAME:EET
DTSTART:20241026T210000
END:STANDARD
END:VTIMEZONE
BEGIN:VEVENT
DTSTART;TZID=Asia/Beirut:20240107T213000
DTEND;TZID=Asia/Beirut:20240107T213000
DTSTAMP:20260421T200203
CREATED:20240103T064007Z
LAST-MODIFIED:20240103T064007Z
UID:10005646-1704663000-1704663000@gobatroun.com
SUMMARY:House Music at Cheers
DESCRIPTION:
URL:https://gobatroun.com/event/house-music-at-cheers/
LOCATION:Cheers
CATEGORIES:Performing Arts
ATTACH;FMTTYPE=image/png:https://gobatroun.com/wp-content/uploads/2024/01/Screenshot-2869.png
END:VEVENT
BEGIN:VEVENT
DTSTART;TZID=Asia/Beirut:20240106T213000
DTEND;TZID=Asia/Beirut:20240106T213000
DTSTAMP:20260421T200203
CREATED:20240103T063912Z
LAST-MODIFIED:20240103T063912Z
UID:10005645-1704576600-1704576600@gobatroun.com
SUMMARY:DJ Salvador at Cheers
DESCRIPTION:
URL:https://gobatroun.com/event/dj-salvador-at-cheers-38/
LOCATION:Cheers
CATEGORIES:Performing Arts
ATTACH;FMTTYPE=image/png:https://gobatroun.com/wp-content/uploads/2024/01/Screenshot-2869.png
END:VEVENT
BEGIN:VEVENT
DTSTART;TZID=Asia/Beirut:20240105T213000
DTEND;TZID=Asia/Beirut:20240105T213000
DTSTAMP:20260421T200203
CREATED:20240103T063840Z
LAST-MODIFIED:20240103T063840Z
UID:10005644-1704490200-1704490200@gobatroun.com
SUMMARY:DJ Ado at Cheers
DESCRIPTION:
URL:https://gobatroun.com/event/dj-ado-at-cheers-3/
LOCATION:Cheers
CATEGORIES:Performing Arts
ATTACH;FMTTYPE=image/png:https://gobatroun.com/wp-content/uploads/2024/01/Screenshot-2869.png
END:VEVENT
BEGIN:VEVENT
DTSTART;TZID=Asia/Beirut:20240104T213000
DTEND;TZID=Asia/Beirut:20240104T213000
DTSTAMP:20260421T200203
CREATED:20240103T063748Z
LAST-MODIFIED:20240103T063748Z
UID:10005643-1704403800-1704403800@gobatroun.com
SUMMARY:DJ Pauly Hash at Cheers
DESCRIPTION:
URL:https://gobatroun.com/event/dj-pauly-hash-at-cheers-3/
LOCATION:Cheers
CATEGORIES:Performing Arts
ATTACH;FMTTYPE=image/png:https://gobatroun.com/wp-content/uploads/2024/01/Screenshot-2869.png
END:VEVENT
BEGIN:VEVENT
DTSTART;TZID=Asia/Beirut:20240103T213000
DTEND;TZID=Asia/Beirut:20240103T213000
DTSTAMP:20260421T200203
CREATED:20240103T063707Z
LAST-MODIFIED:20240103T063707Z
UID:10005642-1704317400-1704317400@gobatroun.com
SUMMARY:Stephan Roukos at Cheers
DESCRIPTION:
URL:https://gobatroun.com/event/stephan-roukos-at-cheers-55/
LOCATION:Cheers
CATEGORIES:Performing Arts
ATTACH;FMTTYPE=image/png:https://gobatroun.com/wp-content/uploads/2024/01/Screenshot-2869.png
END:VEVENT
BEGIN:VEVENT
DTSTART;TZID=Asia/Beirut:20231231T220000
DTEND;TZID=Asia/Beirut:20231231T220000
DTSTAMP:20260421T200203
CREATED:20231220T090323Z
LAST-MODIFIED:20231220T090323Z
UID:10005568-1704060000-1704060000@gobatroun.com
SUMMARY:Dj Salvador at Cheers
DESCRIPTION:
URL:https://gobatroun.com/event/dj-salvador-at-cheers-37/2023-12-31/
LOCATION:Cheers
CATEGORIES:Performing Arts
ATTACH;FMTTYPE=image/png:https://gobatroun.com/wp-content/uploads/2023/12/Screenshot-2795.png
END:VEVENT
BEGIN:VEVENT
DTSTART;TZID=Asia/Beirut:20231230T220000
DTEND;TZID=Asia/Beirut:20231230T220000
DTSTAMP:20260421T200203
CREATED:20231220T090441Z
LAST-MODIFIED:20231220T090441Z
UID:10005572-1703973600-1703973600@gobatroun.com
SUMMARY:DJ Pauly Hash at Cheers
DESCRIPTION:
URL:https://gobatroun.com/event/dj-pauly-hash-at-cheers-2/2023-12-30/
LOCATION:Cheers
CATEGORIES:Performing Arts
ATTACH;FMTTYPE=image/png:https://gobatroun.com/wp-content/uploads/2023/12/Screenshot-2795.png
END:VEVENT
BEGIN:VEVENT
DTSTART;TZID=Asia/Beirut:20231229T220000
DTEND;TZID=Asia/Beirut:20231229T220000
DTSTAMP:20260421T200203
CREATED:20231220T091205Z
LAST-MODIFIED:20231220T091205Z
UID:10005578-1703887200-1703887200@gobatroun.com
SUMMARY:the RAYS featuring Nidal on Saxophone at Cheers
DESCRIPTION:
URL:https://gobatroun.com/event/the-rays-featuring-nidal-on-saxophone-at-cheers/
LOCATION:Cheers
CATEGORIES:Performing Arts
ATTACH;FMTTYPE=image/png:https://gobatroun.com/wp-content/uploads/2023/12/Screenshot-2795.png
END:VEVENT
BEGIN:VEVENT
DTSTART;TZID=Asia/Beirut:20231228T220000
DTEND;TZID=Asia/Beirut:20231228T220000
DTSTAMP:20260421T200203
CREATED:20231220T090938Z
LAST-MODIFIED:20231220T090938Z
UID:10005577-1703800800-1703800800@gobatroun.com
SUMMARY:DJ Ado at Cheers
DESCRIPTION:
URL:https://gobatroun.com/event/dj-ado-at-cheers-2/2023-12-28/
LOCATION:Cheers
CATEGORIES:Performing Arts
ATTACH;FMTTYPE=image/png:https://gobatroun.com/wp-content/uploads/2023/12/Screenshot-2795.png
END:VEVENT
BEGIN:VEVENT
DTSTART;TZID=Asia/Beirut:20231227T220000
DTEND;TZID=Asia/Beirut:20231227T220000
DTSTAMP:20260421T200203
CREATED:20231220T090214Z
LAST-MODIFIED:20231220T090214Z
UID:10005565-1703714400-1703714400@gobatroun.com
SUMMARY:Stephan Roukos at Cheers
DESCRIPTION:
URL:https://gobatroun.com/event/stephan-roukos-at-cheers-54/2023-12-27/
LOCATION:Cheers
CATEGORIES:Performing Arts
ATTACH;FMTTYPE=image/png:https://gobatroun.com/wp-content/uploads/2023/12/Screenshot-2795.png
END:VEVENT
BEGIN:VEVENT
DTSTART;TZID=Asia/Beirut:20231224T220000
DTEND;TZID=Asia/Beirut:20231224T220000
DTSTAMP:20260421T200203
CREATED:20231220T090938Z
LAST-MODIFIED:20231220T090938Z
UID:10005576-1703455200-1703455200@gobatroun.com
SUMMARY:DJ Ado at Cheers
DESCRIPTION:
URL:https://gobatroun.com/event/dj-ado-at-cheers-2/2023-12-24/
LOCATION:Cheers
CATEGORIES:Performing Arts
ATTACH;FMTTYPE=image/png:https://gobatroun.com/wp-content/uploads/2023/12/Screenshot-2795.png
END:VEVENT
BEGIN:VEVENT
DTSTART;TZID=Asia/Beirut:20231223T220000
DTEND;TZID=Asia/Beirut:20231223T220000
DTSTAMP:20260421T200203
CREATED:20231220T090736Z
LAST-MODIFIED:20231220T090736Z
UID:10005573-1703368800-1703368800@gobatroun.com
SUMMARY:Micha and the Band at Cheers
DESCRIPTION:
URL:https://gobatroun.com/event/micha-and-the-band-at-cheers-12/
LOCATION:Cheers
CATEGORIES:Performing Arts
ATTACH;FMTTYPE=image/png:https://gobatroun.com/wp-content/uploads/2023/12/Screenshot-2795.png
END:VEVENT
BEGIN:VEVENT
DTSTART;TZID=Asia/Beirut:20231222T213000
DTEND;TZID=Asia/Beirut:20231222T213000
DTSTAMP:20260421T200203
CREATED:20231220T090323Z
LAST-MODIFIED:20231220T090323Z
UID:10005567-1703280600-1703280600@gobatroun.com
SUMMARY:Dj Salvador at Cheers
DESCRIPTION:
URL:https://gobatroun.com/event/dj-salvador-at-cheers-37/2023-12-22/
LOCATION:Cheers
CATEGORIES:Performing Arts
ATTACH;FMTTYPE=image/png:https://gobatroun.com/wp-content/uploads/2023/12/Screenshot-2795.png
END:VEVENT
BEGIN:VEVENT
DTSTART;TZID=Asia/Beirut:20231221T213000
DTEND;TZID=Asia/Beirut:20231221T213000
DTSTAMP:20260421T200203
CREATED:20231220T090441Z
LAST-MODIFIED:20231220T090441Z
UID:10005571-1703194200-1703194200@gobatroun.com
SUMMARY:DJ Pauly Hash at Cheers
DESCRIPTION:
URL:https://gobatroun.com/event/dj-pauly-hash-at-cheers-2/2023-12-21/
LOCATION:Cheers
CATEGORIES:Performing Arts
ATTACH;FMTTYPE=image/png:https://gobatroun.com/wp-content/uploads/2023/12/Screenshot-2795.png
END:VEVENT
BEGIN:VEVENT
DTSTART;TZID=Asia/Beirut:20231217T213000
DTEND;TZID=Asia/Beirut:20231217T213000
DTSTAMP:20260421T200203
CREATED:20231212T080507Z
LAST-MODIFIED:20231212T080507Z
UID:10005389-1702848600-1702848600@gobatroun.com
SUMMARY:DJ Pauly Hash at Cheers
DESCRIPTION:
URL:https://gobatroun.com/event/dj-pauly-hash-at-cheers/
LOCATION:Cheers
CATEGORIES:Performing Arts
ATTACH;FMTTYPE=image/png:https://gobatroun.com/wp-content/uploads/2023/12/Screenshot-2684.png
END:VEVENT
BEGIN:VEVENT
DTSTART;TZID=Asia/Beirut:20231216T213000
DTEND;TZID=Asia/Beirut:20231216T213000
DTSTAMP:20260421T200203
CREATED:20231212T080333Z
LAST-MODIFIED:20231212T080333Z
UID:10005387-1702762200-1702762200@gobatroun.com
SUMMARY:Dj Salvador at Cheers
DESCRIPTION:
URL:https://gobatroun.com/event/dj-salvador-at-cheers-36/
LOCATION:Cheers
CATEGORIES:Performing Arts
ATTACH;FMTTYPE=image/png:https://gobatroun.com/wp-content/uploads/2023/12/Screenshot-2684.png
END:VEVENT
BEGIN:VEVENT
DTSTART;TZID=Asia/Beirut:20231215T213000
DTEND;TZID=Asia/Beirut:20231215T213000
DTSTAMP:20260421T200203
CREATED:20231212T080416Z
LAST-MODIFIED:20231212T080416Z
UID:10005388-1702675800-1702675800@gobatroun.com
SUMMARY:The Rays featuring Joe on Saxophone at Cheers
DESCRIPTION:
URL:https://gobatroun.com/event/the-rays-featuring-joe-on-saxophone-at-cheers/
LOCATION:Cheers
CATEGORIES:Performing Arts
ATTACH;FMTTYPE=image/png:https://gobatroun.com/wp-content/uploads/2023/12/Screenshot-2684.png
END:VEVENT
BEGIN:VEVENT
DTSTART;TZID=Asia/Beirut:20231214T213000
DTEND;TZID=Asia/Beirut:20231214T213000
DTSTAMP:20260421T200203
CREATED:20231212T080601Z
LAST-MODIFIED:20231212T110212Z
UID:10005390-1702589400-1702589400@gobatroun.com
SUMMARY:Special Charity Event at Cheers
DESCRIPTION:
URL:https://gobatroun.com/event/special-charity-event-at-cheers/
LOCATION:Cheers
CATEGORIES:Performing Arts
ATTACH;FMTTYPE=image/jpeg:https://gobatroun.com/wp-content/uploads/2023/12/WhatsApp-Image-2023-12-12-at-12.50.31_d9cbc6bb.jpg
END:VEVENT
BEGIN:VEVENT
DTSTART;TZID=Asia/Beirut:20231213T220000
DTEND;TZID=Asia/Beirut:20231213T220000
DTSTAMP:20260421T200203
CREATED:20231220T090214Z
LAST-MODIFIED:20231220T090214Z
UID:10005564-1702504800-1702504800@gobatroun.com
SUMMARY:Stephan Roukos at Cheers
DESCRIPTION:
URL:https://gobatroun.com/event/stephan-roukos-at-cheers-54/2023-12-13/
LOCATION:Cheers
CATEGORIES:Performing Arts
ATTACH;FMTTYPE=image/png:https://gobatroun.com/wp-content/uploads/2023/12/Screenshot-2795.png
END:VEVENT
BEGIN:VEVENT
DTSTART;TZID=Asia/Beirut:20231213T220000
DTEND;TZID=Asia/Beirut:20231213T220000
DTSTAMP:20260421T200203
CREATED:20231212T075346Z
LAST-MODIFIED:20231212T105358Z
UID:10005386-1702504800-1702504800@gobatroun.com
SUMMARY:Stephan Roukos at Cheers
DESCRIPTION:
URL:https://gobatroun.com/event/stephan-roukos-at-cheers-53/
LOCATION:Cheers
CATEGORIES:Performing Arts
ATTACH;FMTTYPE=image/png:https://gobatroun.com/wp-content/uploads/2023/12/Screenshot-2684.png
END:VEVENT
BEGIN:VEVENT
DTSTART;TZID=Asia/Beirut:20231209T213000
DTEND;TZID=Asia/Beirut:20231209T213000
DTSTAMP:20260421T200203
CREATED:20231204T114345Z
LAST-MODIFIED:20231204T114345Z
UID:10005323-1702157400-1702157400@gobatroun.com
SUMMARY:Dj Salvador at Cheers
DESCRIPTION:
URL:https://gobatroun.com/event/dj-salvador-at-cheers-35/
LOCATION:Cheers
CATEGORIES:Performing Arts
ATTACH;FMTTYPE=image/png:https://gobatroun.com/wp-content/uploads/2023/12/Screenshot-2624.png
END:VEVENT
BEGIN:VEVENT
DTSTART;TZID=Asia/Beirut:20231208T220000
DTEND;TZID=Asia/Beirut:20231208T220000
DTSTAMP:20260421T200203
CREATED:20231204T114455Z
LAST-MODIFIED:20231204T114455Z
UID:10005324-1702072800-1702072800@gobatroun.com
SUMMARY:Pauly Hash at Cheers
DESCRIPTION:
URL:https://gobatroun.com/event/pauly-hash-at-cheers-2/
LOCATION:Cheers
CATEGORIES:Performing Arts
ATTACH;FMTTYPE=image/png:https://gobatroun.com/wp-content/uploads/2023/12/Screenshot-2624.png
END:VEVENT
BEGIN:VEVENT
DTSTART;TZID=Asia/Beirut:20231206T220000
DTEND;TZID=Asia/Beirut:20231206T220000
DTSTAMP:20260421T200203
CREATED:20231204T114113Z
LAST-MODIFIED:20231204T114113Z
UID:10005322-1701900000-1701900000@gobatroun.com
SUMMARY:Stephan Roukos at Cheers
DESCRIPTION:
URL:https://gobatroun.com/event/stephan-roukos-at-cheers-52/
LOCATION:Cheers
CATEGORIES:Performing Arts
ATTACH;FMTTYPE=image/png:https://gobatroun.com/wp-content/uploads/2023/08/Screenshot-2016.png
END:VEVENT
BEGIN:VEVENT
DTSTART;TZID=Asia/Beirut:20231202T213000
DTEND;TZID=Asia/Beirut:20231202T213000
DTSTAMP:20260421T200203
CREATED:20231127T132453Z
LAST-MODIFIED:20231127T132453Z
UID:10005252-1701552600-1701552600@gobatroun.com
SUMMARY:Micha and the Band at Cheers
DESCRIPTION:
URL:https://gobatroun.com/event/micha-and-the-band-at-cheers-11/
LOCATION:Cheers
CATEGORIES:Performing Arts
ATTACH;FMTTYPE=image/png:https://gobatroun.com/wp-content/uploads/2023/11/Screenshot-2556.png
END:VEVENT
BEGIN:VEVENT
DTSTART;TZID=Asia/Beirut:20231201T213000
DTEND;TZID=Asia/Beirut:20231201T213000
DTSTAMP:20260421T200203
CREATED:20231127T132401Z
LAST-MODIFIED:20231127T132401Z
UID:10005251-1701466200-1701466200@gobatroun.com
SUMMARY:Dj Salvador at Cheers
DESCRIPTION:
URL:https://gobatroun.com/event/dj-salvador-at-cheers-34/
LOCATION:Cheers
CATEGORIES:Performing Arts
ATTACH;FMTTYPE=image/png:https://gobatroun.com/wp-content/uploads/2023/11/Screenshot-2556.png
END:VEVENT
BEGIN:VEVENT
DTSTART;TZID=Asia/Beirut:20231129T220000
DTEND;TZID=Asia/Beirut:20231129T220000
DTSTAMP:20260421T200203
CREATED:20231127T132329Z
LAST-MODIFIED:20231127T132329Z
UID:10005250-1701295200-1701295200@gobatroun.com
SUMMARY:Stephan Roukos at Cheers
DESCRIPTION:
URL:https://gobatroun.com/event/stephan-roukos-at-cheers-51/
LOCATION:Cheers
CATEGORIES:Performing Arts
ATTACH;FMTTYPE=image/png:https://gobatroun.com/wp-content/uploads/2023/08/Screenshot-2016.png
END:VEVENT
BEGIN:VEVENT
DTSTART;TZID=Asia/Beirut:20231125T213000
DTEND;TZID=Asia/Beirut:20231125T213000
DTSTAMP:20260421T200203
CREATED:20231120T072724Z
LAST-MODIFIED:20231120T072724Z
UID:10005225-1700947800-1700947800@gobatroun.com
SUMMARY:Dj Salvador at Cheers
DESCRIPTION:
URL:https://gobatroun.com/event/dj-salvador-at-cheers-33/
LOCATION:Cheers
CATEGORIES:Performing Arts
ATTACH;FMTTYPE=image/png:https://gobatroun.com/wp-content/uploads/2023/08/Screenshot-2018.png
END:VEVENT
BEGIN:VEVENT
DTSTART;TZID=Asia/Beirut:20231124T220000
DTEND;TZID=Asia/Beirut:20231124T220000
DTSTAMP:20260421T200203
CREATED:20231120T072836Z
LAST-MODIFIED:20231120T072836Z
UID:10005226-1700863200-1700863200@gobatroun.com
SUMMARY:the Ray's Ft. Nidal at Cheers
DESCRIPTION:
URL:https://gobatroun.com/event/the-rays-ft-nidal-at-cheers-4/
LOCATION:Cheers
CATEGORIES:Performing Arts
ATTACH;FMTTYPE=image/png:https://gobatroun.com/wp-content/uploads/2023/11/Screenshot-2521.png
END:VEVENT
BEGIN:VEVENT
DTSTART;TZID=Asia/Beirut:20231123T220000
DTEND;TZID=Asia/Beirut:20231123T220000
DTSTAMP:20260421T200203
CREATED:20231120T073025Z
LAST-MODIFIED:20231120T073025Z
UID:10005227-1700776800-1700776800@gobatroun.com
SUMMARY:Pauly Hash at Cheers
DESCRIPTION:
URL:https://gobatroun.com/event/pauly-hash-at-cheers/
LOCATION:Cheers
CATEGORIES:Performing Arts
ATTACH;FMTTYPE=image/png:https://gobatroun.com/wp-content/uploads/2023/11/Screenshot-2521.png
END:VEVENT
BEGIN:VEVENT
DTSTART;TZID=Asia/Beirut:20231122T220000
DTEND;TZID=Asia/Beirut:20231122T220000
DTSTAMP:20260421T200203
CREATED:20231120T072705Z
LAST-MODIFIED:20231120T072705Z
UID:10005224-1700690400-1700690400@gobatroun.com
SUMMARY:Stephan Roukos at Cheers
DESCRIPTION:
URL:https://gobatroun.com/event/stephan-roukos-at-cheers-50/
LOCATION:Cheers
CATEGORIES:Performing Arts
ATTACH;FMTTYPE=image/png:https://gobatroun.com/wp-content/uploads/2023/08/Screenshot-2016.png
END:VEVENT
END:VCALENDAR