BEGIN:VCALENDAR
VERSION:2.0
PRODID:-//Go Batroun - ECPv6.14.2//NONSGML v1.0//EN
CALSCALE:GREGORIAN
METHOD:PUBLISH
X-ORIGINAL-URL:https://gobatroun.com
X-WR-CALDESC:Events for Go Batroun
REFRESH-INTERVAL;VALUE=DURATION:PT1H
X-Robots-Tag:noindex
X-PUBLISHED-TTL:PT1H
BEGIN:VTIMEZONE
TZID:Asia/Beirut
BEGIN:DAYLIGHT
TZOFFSETFROM:+0200
TZOFFSETTO:+0300
TZNAME:EEST
DTSTART:20230325T220000
END:DAYLIGHT
BEGIN:STANDARD
TZOFFSETFROM:+0300
TZOFFSETTO:+0200
TZNAME:EET
DTSTART:20231028T210000
END:STANDARD
END:VTIMEZONE
BEGIN:VEVENT
DTSTART;TZID=Asia/Beirut:20230825T220000
DTEND;TZID=Asia/Beirut:20230825T220000
DTSTAMP:20260426T070750
CREATED:20230821T120145Z
LAST-MODIFIED:20230821T120145Z
UID:10004668-1693000800-1693000800@gobatroun.com
SUMMARY:Dj Undertaker at Cheers
DESCRIPTION:
URL:https://gobatroun.com/event/dj-undertaker-at-cheers-38/
LOCATION:Cheers
CATEGORIES:Performing Arts
ATTACH;FMTTYPE=image/png:https://gobatroun.com/wp-content/uploads/2023/07/Screenshot-472.png
END:VEVENT
BEGIN:VEVENT
DTSTART;TZID=Asia/Beirut:20230823T220000
DTEND;TZID=Asia/Beirut:20230823T220000
DTSTAMP:20260426T070750
CREATED:20230821T120100Z
LAST-MODIFIED:20230821T120100Z
UID:10004667-1692828000-1692828000@gobatroun.com
SUMMARY:Stephan Roukos at Cheers
DESCRIPTION:
URL:https://gobatroun.com/event/stephan-roukos-at-cheers-39/
LOCATION:Cheers
CATEGORIES:Performing Arts
ATTACH;FMTTYPE=image/png:https://gobatroun.com/wp-content/uploads/2023/07/Screenshot-2158.png
END:VEVENT
BEGIN:VEVENT
DTSTART;TZID=Asia/Beirut:20230820T200000
DTEND;TZID=Asia/Beirut:20230820T200000
DTSTAMP:20260426T070750
CREATED:20230816T075508Z
LAST-MODIFIED:20230816T075508Z
UID:10004625-1692561600-1692561600@gobatroun.com
SUMMARY:Ladies Night With Dj Liubov at Cheers
DESCRIPTION:
URL:https://gobatroun.com/event/ladies-night-with-dj-liubov-at-cheers-8/
LOCATION:Cheers
CATEGORIES:Performing Arts
ATTACH;FMTTYPE=image/png:https://gobatroun.com/wp-content/uploads/2023/07/Screenshot-1269.png
END:VEVENT
BEGIN:VEVENT
DTSTART;TZID=Asia/Beirut:20230819T213000
DTEND;TZID=Asia/Beirut:20230819T213000
DTSTAMP:20260426T070750
CREATED:20230816T075456Z
LAST-MODIFIED:20230816T075456Z
UID:10004627-1692480600-1692480600@gobatroun.com
SUMMARY:Dj Salvador at Cheers
DESCRIPTION:
URL:https://gobatroun.com/event/dj-salvador-at-cheers-22/2023-08-19/
LOCATION:Cheers
CATEGORIES:Performing Arts
ATTACH;FMTTYPE=image/png:https://gobatroun.com/wp-content/uploads/2023/07/Screenshot-1776.png
END:VEVENT
BEGIN:VEVENT
DTSTART;TZID=Asia/Beirut:20230818T220000
DTEND;TZID=Asia/Beirut:20230818T220000
DTSTAMP:20260426T070750
CREATED:20230816T075056Z
LAST-MODIFIED:20230816T075056Z
UID:10004623-1692396000-1692396000@gobatroun.com
SUMMARY:The Rays and Special Guest Rima at Cheers
DESCRIPTION:
URL:https://gobatroun.com/event/the-rays-and-special-guest-rima-at-cheers-4/
LOCATION:Cheers
CATEGORIES:Performing Arts
ATTACH;FMTTYPE=image/png:https://gobatroun.com/wp-content/uploads/2023/07/Screenshot-1341.png
END:VEVENT
BEGIN:VEVENT
DTSTART;TZID=Asia/Beirut:20230818T213000
DTEND;TZID=Asia/Beirut:20230818T213000
DTSTAMP:20260426T070750
CREATED:20230821T120021Z
LAST-MODIFIED:20230821T120021Z
UID:10004669-1692394200-1692394200@gobatroun.com
SUMMARY:Dj Salvador at Cheers
DESCRIPTION:
URL:https://gobatroun.com/event/dj-salvador-at-cheers-23/2023-08-18/
LOCATION:Cheers
CATEGORIES:Performing Arts
ATTACH;FMTTYPE=image/png:https://gobatroun.com/wp-content/uploads/2023/07/Screenshot-1776.png
END:VEVENT
BEGIN:VEVENT
DTSTART;TZID=Asia/Beirut:20230818T213000
DTEND;TZID=Asia/Beirut:20230818T213000
DTSTAMP:20260426T070750
CREATED:20230816T075456Z
LAST-MODIFIED:20230816T075456Z
UID:10004626-1692394200-1692394200@gobatroun.com
SUMMARY:Dj Salvador at Cheers
DESCRIPTION:
URL:https://gobatroun.com/event/dj-salvador-at-cheers-22/2023-08-18/
LOCATION:Cheers
CATEGORIES:Performing Arts
ATTACH;FMTTYPE=image/png:https://gobatroun.com/wp-content/uploads/2023/07/Screenshot-1776.png
END:VEVENT
BEGIN:VEVENT
DTSTART;TZID=Asia/Beirut:20230816T220000
DTEND;TZID=Asia/Beirut:20230816T220000
DTSTAMP:20260426T070750
CREATED:20230816T075011Z
LAST-MODIFIED:20230816T075011Z
UID:10004622-1692223200-1692223200@gobatroun.com
SUMMARY:Stephan Roukos at Cheers
DESCRIPTION:
URL:https://gobatroun.com/event/stephan-roukos-at-cheers-38/
LOCATION:Cheers
CATEGORIES:Performing Arts
ATTACH;FMTTYPE=image/png:https://gobatroun.com/wp-content/uploads/2023/07/Screenshot-2158.png
END:VEVENT
BEGIN:VEVENT
DTSTART;TZID=Asia/Beirut:20230813T200000
DTEND;TZID=Asia/Beirut:20230813T200000
DTSTAMP:20260426T070750
CREATED:20230808T123641Z
LAST-MODIFIED:20230808T123641Z
UID:10004552-1691956800-1691956800@gobatroun.com
SUMMARY:Ladies Night With Dj Liubov at Cheers
DESCRIPTION:
URL:https://gobatroun.com/event/ladies-night-with-dj-liubov-at-cheers-7/
LOCATION:Cheers
CATEGORIES:Performing Arts
ATTACH;FMTTYPE=image/png:https://gobatroun.com/wp-content/uploads/2023/07/Screenshot-1269.png
END:VEVENT
BEGIN:VEVENT
DTSTART;TZID=Asia/Beirut:20230812T213000
DTEND;TZID=Asia/Beirut:20230812T213000
DTSTAMP:20260426T070750
CREATED:20230808T123630Z
LAST-MODIFIED:20230808T123630Z
UID:10004551-1691875800-1691875800@gobatroun.com
SUMMARY:Dj Salvador at Cheers
DESCRIPTION:
URL:https://gobatroun.com/event/dj-salvador-at-cheers-21/
LOCATION:Cheers
CATEGORIES:Performing Arts
ATTACH;FMTTYPE=image/png:https://gobatroun.com/wp-content/uploads/2023/07/Screenshot-1776.png
END:VEVENT
BEGIN:VEVENT
DTSTART;TZID=Asia/Beirut:20230811T220000
DTEND;TZID=Asia/Beirut:20230811T220000
DTSTAMP:20260426T070750
CREATED:20230808T123615Z
LAST-MODIFIED:20230808T123615Z
UID:10004550-1691791200-1691791200@gobatroun.com
SUMMARY:Dj Undertaker at Cheers
DESCRIPTION:
URL:https://gobatroun.com/event/dj-undertaker-at-cheers-37/
LOCATION:Cheers
CATEGORIES:Performing Arts
ATTACH;FMTTYPE=image/png:https://gobatroun.com/wp-content/uploads/2023/07/Screenshot-472.png
END:VEVENT
BEGIN:VEVENT
DTSTART;TZID=Asia/Beirut:20230810T220000
DTEND;TZID=Asia/Beirut:20230810T220000
DTSTAMP:20260426T070750
CREATED:20230808T123703Z
LAST-MODIFIED:20230808T123703Z
UID:10004549-1691704800-1691704800@gobatroun.com
SUMMARY:80's night with Dj Undertaker at Cheers
DESCRIPTION:
URL:https://gobatroun.com/event/80s-night-with-dj-undertaker-at-cheers-13/
LOCATION:Cheers
CATEGORIES:Performing Arts
ATTACH;FMTTYPE=image/png:https://gobatroun.com/wp-content/uploads/2023/07/Screenshot-426.png
END:VEVENT
BEGIN:VEVENT
DTSTART;TZID=Asia/Beirut:20230809T220000
DTEND;TZID=Asia/Beirut:20230809T220000
DTSTAMP:20260426T070750
CREATED:20230808T123652Z
LAST-MODIFIED:20230808T123652Z
UID:10004548-1691618400-1691618400@gobatroun.com
SUMMARY:Stephan Roukos at Cheers
DESCRIPTION:
URL:https://gobatroun.com/event/stephan-roukos-at-cheers-37/
LOCATION:Cheers
CATEGORIES:Performing Arts
ATTACH;FMTTYPE=image/png:https://gobatroun.com/wp-content/uploads/2023/07/Screenshot-2158.png
END:VEVENT
BEGIN:VEVENT
DTSTART;TZID=Asia/Beirut:20230806T200000
DTEND;TZID=Asia/Beirut:20230806T200000
DTSTAMP:20260426T070750
CREATED:20230731T112017Z
LAST-MODIFIED:20230731T112017Z
UID:10004445-1691352000-1691352000@gobatroun.com
SUMMARY:Ladies Night With Dj Liubov at Cheers
DESCRIPTION:
URL:https://gobatroun.com/event/ladies-night-with-dj-liubov-at-cheers-6/
LOCATION:Cheers
CATEGORIES:Performing Arts
ATTACH;FMTTYPE=image/png:https://gobatroun.com/wp-content/uploads/2023/07/Screenshot-1269.png
END:VEVENT
BEGIN:VEVENT
DTSTART;TZID=Asia/Beirut:20230805T213000
DTEND;TZID=Asia/Beirut:20230805T213000
DTSTAMP:20260426T070750
CREATED:20230731T112000Z
LAST-MODIFIED:20230731T112000Z
UID:10004444-1691271000-1691271000@gobatroun.com
SUMMARY:Dj Salvador at Cheers
DESCRIPTION:
URL:https://gobatroun.com/event/dj-salvador-at-cheers-20/
LOCATION:Cheers
CATEGORIES:Performing Arts
ATTACH;FMTTYPE=image/png:https://gobatroun.com/wp-content/uploads/2023/07/Screenshot-1776.png
END:VEVENT
BEGIN:VEVENT
DTSTART;TZID=Asia/Beirut:20230804T220000
DTEND;TZID=Asia/Beirut:20230804T220000
DTSTAMP:20260426T070750
CREATED:20230731T111937Z
LAST-MODIFIED:20230731T111937Z
UID:10004443-1691186400-1691186400@gobatroun.com
SUMMARY:Dj Undertaker at Cheers
DESCRIPTION:
URL:https://gobatroun.com/event/dj-undertaker-at-cheers-36/
LOCATION:Cheers
CATEGORIES:Performing Arts
ATTACH;FMTTYPE=image/png:https://gobatroun.com/wp-content/uploads/2023/07/Screenshot-472.png
END:VEVENT
BEGIN:VEVENT
DTSTART;TZID=Asia/Beirut:20230803T220000
DTEND;TZID=Asia/Beirut:20230803T220000
DTSTAMP:20260426T070750
CREATED:20230731T111921Z
LAST-MODIFIED:20230731T111921Z
UID:10004442-1691100000-1691100000@gobatroun.com
SUMMARY:80's night with Dj Undertaker at Cheers
DESCRIPTION:
URL:https://gobatroun.com/event/80s-night-with-dj-undertaker-at-cheers-12/
LOCATION:Cheers
CATEGORIES:Performing Arts
ATTACH;FMTTYPE=image/png:https://gobatroun.com/wp-content/uploads/2023/07/Screenshot-426.png
END:VEVENT
BEGIN:VEVENT
DTSTART;TZID=Asia/Beirut:20230802T220000
DTEND;TZID=Asia/Beirut:20230802T220000
DTSTAMP:20260426T070750
CREATED:20230731T111859Z
LAST-MODIFIED:20230731T111859Z
UID:10004441-1691013600-1691013600@gobatroun.com
SUMMARY:Stephan Roukos at Cheers
DESCRIPTION:
URL:https://gobatroun.com/event/stephan-roukos-at-cheers-36/
LOCATION:Cheers
CATEGORIES:Performing Arts
ATTACH;FMTTYPE=image/png:https://gobatroun.com/wp-content/uploads/2023/07/Screenshot-2158.png
END:VEVENT
BEGIN:VEVENT
DTSTART;TZID=Asia/Beirut:20230730T200000
DTEND;TZID=Asia/Beirut:20230730T200000
DTSTAMP:20260426T070750
CREATED:20230725T085758Z
LAST-MODIFIED:20230725T085758Z
UID:10004385-1690747200-1690747200@gobatroun.com
SUMMARY:Ladies Night With Dj Liubov at Cheers
DESCRIPTION:
URL:https://gobatroun.com/event/ladies-night-with-dj-liubov-at-cheers-5/
LOCATION:Cheers
CATEGORIES:Performing Arts
ATTACH;FMTTYPE=image/png:https://gobatroun.com/wp-content/uploads/2023/07/Screenshot-1269.png
END:VEVENT
BEGIN:VEVENT
DTSTART;TZID=Asia/Beirut:20230729T213000
DTEND;TZID=Asia/Beirut:20230729T213000
DTSTAMP:20260426T070750
CREATED:20230725T085600Z
LAST-MODIFIED:20230725T085600Z
UID:10004382-1690666200-1690666200@gobatroun.com
SUMMARY:Dj Salvador at Cheers
DESCRIPTION:
URL:https://gobatroun.com/event/dj-salvador-at-cheers-19/
LOCATION:Cheers
CATEGORIES:Performing Arts
ATTACH;FMTTYPE=image/png:https://gobatroun.com/wp-content/uploads/2023/07/Screenshot-1776.png
END:VEVENT
BEGIN:VEVENT
DTSTART;TZID=Asia/Beirut:20230728T220000
DTEND;TZID=Asia/Beirut:20230728T220000
DTSTAMP:20260426T070750
CREATED:20230725T085846Z
LAST-MODIFIED:20230725T085846Z
UID:10004386-1690581600-1690581600@gobatroun.com
SUMMARY:The Rays and Special Guest Rima at Cheers
DESCRIPTION:
URL:https://gobatroun.com/event/the-rays-and-special-guest-rima-at-cheers-3/
LOCATION:Cheers
CATEGORIES:Performing Arts
ATTACH;FMTTYPE=image/png:https://gobatroun.com/wp-content/uploads/2023/07/Screenshot-1341.png
END:VEVENT
BEGIN:VEVENT
DTSTART;TZID=Asia/Beirut:20230727T220000
DTEND;TZID=Asia/Beirut:20230727T220000
DTSTAMP:20260426T070750
CREATED:20230725T085709Z
LAST-MODIFIED:20230725T085709Z
UID:10004384-1690495200-1690495200@gobatroun.com
SUMMARY:80's night with Dj Undertaker at Cheers
DESCRIPTION:
URL:https://gobatroun.com/event/80s-night-with-dj-undertaker-at-cheers-11/
LOCATION:Cheers
CATEGORIES:Performing Arts
ATTACH;FMTTYPE=image/png:https://gobatroun.com/wp-content/uploads/2023/07/Screenshot-426.png
END:VEVENT
BEGIN:VEVENT
DTSTART;TZID=Asia/Beirut:20230726T220000
DTEND;TZID=Asia/Beirut:20230726T220000
DTSTAMP:20260426T070750
CREATED:20230725T085448Z
LAST-MODIFIED:20230725T085538Z
UID:10004381-1690408800-1690408800@gobatroun.com
SUMMARY:Stephan Roukos at Cheers
DESCRIPTION:
URL:https://gobatroun.com/event/stephan-roukos-at-cheers-35/
LOCATION:Cheers
CATEGORIES:Performing Arts
ATTACH;FMTTYPE=image/png:https://gobatroun.com/wp-content/uploads/2023/07/Screenshot-2158.png
END:VEVENT
BEGIN:VEVENT
DTSTART;TZID=Asia/Beirut:20230723T200000
DTEND;TZID=Asia/Beirut:20230723T200000
DTSTAMP:20260426T070750
CREATED:20230718T130305Z
LAST-MODIFIED:20230718T130305Z
UID:10004328-1690142400-1690142400@gobatroun.com
SUMMARY:Ladies Night With Dj Liubov at Cheers
DESCRIPTION:
URL:https://gobatroun.com/event/ladies-night-with-dj-liubov-at-cheers-4/
LOCATION:Cheers
CATEGORIES:Performing Arts
ATTACH;FMTTYPE=image/png:https://gobatroun.com/wp-content/uploads/2023/07/Screenshot-1269.png
END:VEVENT
BEGIN:VEVENT
DTSTART;TZID=Asia/Beirut:20230722T213000
DTEND;TZID=Asia/Beirut:20230722T213000
DTSTAMP:20260426T070750
CREATED:20230718T130337Z
LAST-MODIFIED:20230718T130337Z
UID:10004327-1690061400-1690061400@gobatroun.com
SUMMARY:Dj Salvador at Cheers
DESCRIPTION:
URL:https://gobatroun.com/event/dj-salvador-at-cheers-18/
LOCATION:Cheers
CATEGORIES:Performing Arts
ATTACH;FMTTYPE=image/png:https://gobatroun.com/wp-content/uploads/2023/07/Screenshot-1776.png
END:VEVENT
BEGIN:VEVENT
DTSTART;TZID=Asia/Beirut:20230721T220000
DTEND;TZID=Asia/Beirut:20230721T220000
DTSTAMP:20260426T070750
CREATED:20230718T130325Z
LAST-MODIFIED:20230718T130325Z
UID:10004326-1689976800-1689976800@gobatroun.com
SUMMARY:Dj Undertaker at Cheers
DESCRIPTION:
URL:https://gobatroun.com/event/dj-undertaker-at-cheers-35/
LOCATION:Cheers
CATEGORIES:Performing Arts
ATTACH;FMTTYPE=image/png:https://gobatroun.com/wp-content/uploads/2023/07/Screenshot-472.png
END:VEVENT
BEGIN:VEVENT
DTSTART;TZID=Asia/Beirut:20230720T220000
DTEND;TZID=Asia/Beirut:20230720T220000
DTSTAMP:20260426T070750
CREATED:20230718T130315Z
LAST-MODIFIED:20230718T130315Z
UID:10004325-1689890400-1689890400@gobatroun.com
SUMMARY:80's night with Dj Undertaker at Cheers
DESCRIPTION:
URL:https://gobatroun.com/event/80s-night-with-dj-undertaker-at-cheers-10/
LOCATION:Cheers
CATEGORIES:Performing Arts
ATTACH;FMTTYPE=image/png:https://gobatroun.com/wp-content/uploads/2023/07/Screenshot-426.png
END:VEVENT
BEGIN:VEVENT
DTSTART;TZID=Asia/Beirut:20230719T220000
DTEND;TZID=Asia/Beirut:20230719T220000
DTSTAMP:20260426T070750
CREATED:20230718T130349Z
LAST-MODIFIED:20230718T130349Z
UID:10004324-1689804000-1689804000@gobatroun.com
SUMMARY:Stephan Roukos at Cheers
DESCRIPTION:
URL:https://gobatroun.com/event/stephan-roukos-at-cheers-34/
LOCATION:Cheers
CATEGORIES:Performing Arts
ATTACH;FMTTYPE=image/png:https://gobatroun.com/wp-content/uploads/2023/07/Screenshot-2158.png
END:VEVENT
BEGIN:VEVENT
DTSTART;TZID=Asia/Beirut:20230716T200000
DTEND;TZID=Asia/Beirut:20230716T200000
DTSTAMP:20260426T070750
CREATED:20230713T080515Z
LAST-MODIFIED:20230713T082303Z
UID:10003970-1689537600-1689537600@gobatroun.com
SUMMARY:Ladies Night With Dj Liubov at Cheers
DESCRIPTION:
URL:https://gobatroun.com/event/ladies-night-with-dj-liubov-at-cheers-3/
LOCATION:Cheers
CATEGORIES:Performing Arts
ATTACH;FMTTYPE=image/png:https://gobatroun.com/wp-content/uploads/2023/07/Screenshot-1269.png
END:VEVENT
BEGIN:VEVENT
DTSTART;TZID=Asia/Beirut:20230715T213000
DTEND;TZID=Asia/Beirut:20230715T213000
DTSTAMP:20260426T070750
CREATED:20230713T080515Z
LAST-MODIFIED:20230713T082509Z
UID:10003987-1689456600-1689456600@gobatroun.com
SUMMARY:Dj Salvador at Cheers
DESCRIPTION:
URL:https://gobatroun.com/event/dj-salvador-at-cheers-17/
LOCATION:Cheers
CATEGORIES:Performing Arts
ATTACH;FMTTYPE=image/png:https://gobatroun.com/wp-content/uploads/2023/07/Screenshot-1776.png
END:VEVENT
END:VCALENDAR