BEGIN:VCALENDAR
VERSION:2.0
PRODID:-//Go Batroun - ECPv6.14.2//NONSGML v1.0//EN
CALSCALE:GREGORIAN
METHOD:PUBLISH
X-WR-CALNAME:Go Batroun
X-ORIGINAL-URL:https://gobatroun.com
X-WR-CALDESC:Events for Go Batroun
REFRESH-INTERVAL;VALUE=DURATION:PT1H
X-Robots-Tag:noindex
X-PUBLISHED-TTL:PT1H
BEGIN:VTIMEZONE
TZID:Asia/Beirut
BEGIN:DAYLIGHT
TZOFFSETFROM:+0200
TZOFFSETTO:+0300
TZNAME:EEST
DTSTART:20230325T220000
END:DAYLIGHT
BEGIN:STANDARD
TZOFFSETFROM:+0300
TZOFFSETTO:+0200
TZNAME:EET
DTSTART:20231028T210000
END:STANDARD
END:VTIMEZONE
BEGIN:VEVENT
DTSTART;TZID=Asia/Beirut:20231013T213000
DTEND;TZID=Asia/Beirut:20231013T213000
DTSTAMP:20260426T014457
CREATED:20231010T131122Z
LAST-MODIFIED:20231010T131122Z
UID:10005041-1697232600-1697232600@gobatroun.com
SUMMARY:Dj Salvador at Cheers
DESCRIPTION:
URL:https://gobatroun.com/event/dj-salvador-at-cheers-28/
LOCATION:Cheers
CATEGORIES:Performing Arts
ATTACH;FMTTYPE=image/png:https://gobatroun.com/wp-content/uploads/2023/10/Screenshot-2322.png
END:VEVENT
BEGIN:VEVENT
DTSTART;TZID=Asia/Beirut:20231011T220000
DTEND;TZID=Asia/Beirut:20231011T220000
DTSTAMP:20260426T014457
CREATED:20231010T125800Z
LAST-MODIFIED:20231010T125800Z
UID:10005039-1697061600-1697061600@gobatroun.com
SUMMARY:Stephan Roukos at Cheers
DESCRIPTION:
URL:https://gobatroun.com/event/stephan-roukos-at-cheers-45/
LOCATION:Cheers
CATEGORIES:Performing Arts
ATTACH;FMTTYPE=image/png:https://gobatroun.com/wp-content/uploads/2023/08/Screenshot-2016.png
END:VEVENT
BEGIN:VEVENT
DTSTART;TZID=Asia/Beirut:20231007T220000
DTEND;TZID=Asia/Beirut:20231007T220000
DTSTAMP:20260426T014457
CREATED:20231003T120317Z
LAST-MODIFIED:20231003T120317Z
UID:10005020-1696716000-1696716000@gobatroun.com
SUMMARY:Dj Salvador at Cheers
DESCRIPTION:
URL:https://gobatroun.com/event/dj-salvador-at-cheers-27/
LOCATION:Cheers
CATEGORIES:Performing Arts
ATTACH;FMTTYPE=image/png:https://gobatroun.com/wp-content/uploads/2023/08/Screenshot-2018.png
END:VEVENT
BEGIN:VEVENT
DTSTART;TZID=Asia/Beirut:20231006T220000
DTEND;TZID=Asia/Beirut:20231006T220000
DTSTAMP:20260426T014457
CREATED:20231003T120435Z
LAST-MODIFIED:20231003T120435Z
UID:10005021-1696629600-1696629600@gobatroun.com
SUMMARY:Bazar Night with Dj Ado at Cheers
DESCRIPTION:
URL:https://gobatroun.com/event/bazar-night-with-dj-ado-at-cheers-3/
LOCATION:Cheers
CATEGORIES:Performing Arts
ATTACH;FMTTYPE=image/png:https://gobatroun.com/wp-content/uploads/2023/10/Screenshot-2276.png
END:VEVENT
BEGIN:VEVENT
DTSTART;TZID=Asia/Beirut:20231005T220000
DTEND;TZID=Asia/Beirut:20231005T220000
DTSTAMP:20260426T014457
CREATED:20231003T120302Z
LAST-MODIFIED:20231003T120302Z
UID:10005019-1696543200-1696543200@gobatroun.com
SUMMARY:Bazar Night with Dj Ado at Cheers
DESCRIPTION:
URL:https://gobatroun.com/event/bazar-night-with-dj-ado-at-cheers-2/
LOCATION:Cheers
CATEGORIES:Performing Arts
ATTACH;FMTTYPE=image/png:https://gobatroun.com/wp-content/uploads/2023/09/Screenshot-2221.png
END:VEVENT
BEGIN:VEVENT
DTSTART;TZID=Asia/Beirut:20231004T220000
DTEND;TZID=Asia/Beirut:20231004T220000
DTSTAMP:20260426T014457
CREATED:20231003T120328Z
LAST-MODIFIED:20231003T120328Z
UID:10005018-1696456800-1696456800@gobatroun.com
SUMMARY:Stephan Roukos at Cheers
DESCRIPTION:
URL:https://gobatroun.com/event/stephan-roukos-at-cheers-44/
LOCATION:Cheers
CATEGORIES:Performing Arts
ATTACH;FMTTYPE=image/png:https://gobatroun.com/wp-content/uploads/2023/08/Screenshot-2016.png
END:VEVENT
BEGIN:VEVENT
DTSTART;TZID=Asia/Beirut:20230930T220000
DTEND;TZID=Asia/Beirut:20230930T220000
DTSTAMP:20260426T014457
CREATED:20230926T130701Z
LAST-MODIFIED:20230926T130701Z
UID:10004959-1696111200-1696111200@gobatroun.com
SUMMARY:Dj Salvador at Cheers
DESCRIPTION:
URL:https://gobatroun.com/event/dj-salvador-at-cheers-26/
LOCATION:Cheers
CATEGORIES:Performing Arts
ATTACH;FMTTYPE=image/png:https://gobatroun.com/wp-content/uploads/2023/08/Screenshot-2018.png
END:VEVENT
BEGIN:VEVENT
DTSTART;TZID=Asia/Beirut:20230929T220000
DTEND;TZID=Asia/Beirut:20230929T220000
DTSTAMP:20260426T014457
CREATED:20230926T130641Z
LAST-MODIFIED:20230926T130641Z
UID:10004958-1696024800-1696024800@gobatroun.com
SUMMARY:The Rays Ft. Nidal at Cheers
DESCRIPTION:
URL:https://gobatroun.com/event/the-rays-ft-nidal-at-cheers/
LOCATION:Cheers
CATEGORIES:Performing Arts
ATTACH;FMTTYPE=image/png:https://gobatroun.com/wp-content/uploads/2023/09/Screenshot-2220.png
END:VEVENT
BEGIN:VEVENT
DTSTART;TZID=Asia/Beirut:20230928T220000
DTEND;TZID=Asia/Beirut:20230928T220000
DTSTAMP:20260426T014457
CREATED:20230926T130855Z
LAST-MODIFIED:20230926T130855Z
UID:10004960-1695938400-1695938400@gobatroun.com
SUMMARY:Bazar Night with Dj Ado at Cheers
DESCRIPTION:
URL:https://gobatroun.com/event/bazar-night-with-dj-ado-at-cheers/
LOCATION:Cheers
CATEGORIES:Performing Arts
ATTACH;FMTTYPE=image/png:https://gobatroun.com/wp-content/uploads/2023/09/Screenshot-2221.png
END:VEVENT
BEGIN:VEVENT
DTSTART;TZID=Asia/Beirut:20230927T220000
DTEND;TZID=Asia/Beirut:20230927T220000
DTSTAMP:20260426T014457
CREATED:20230926T130504Z
LAST-MODIFIED:20230926T130504Z
UID:10004957-1695852000-1695852000@gobatroun.com
SUMMARY:Stephan Roukos at Cheers
DESCRIPTION:
URL:https://gobatroun.com/event/stephan-roukos-at-cheers-43/
LOCATION:Cheers
CATEGORIES:Performing Arts
ATTACH;FMTTYPE=image/png:https://gobatroun.com/wp-content/uploads/2023/08/Screenshot-2016.png
END:VEVENT
BEGIN:VEVENT
DTSTART;TZID=Asia/Beirut:20230923T220000
DTEND;TZID=Asia/Beirut:20230923T220000
DTSTAMP:20260426T014457
CREATED:20230919T125116Z
LAST-MODIFIED:20230919T125116Z
UID:10004901-1695506400-1695506400@gobatroun.com
SUMMARY:Micha and the Band at Cheers
DESCRIPTION:
URL:https://gobatroun.com/event/micha-and-the-band-at-cheers-8/
LOCATION:Cheers
CATEGORIES:Performing Arts
ATTACH;FMTTYPE=image/png:https://gobatroun.com/wp-content/uploads/2023/09/Screenshot-2177.png
END:VEVENT
BEGIN:VEVENT
DTSTART;TZID=Asia/Beirut:20230922T220000
DTEND;TZID=Asia/Beirut:20230922T220000
DTSTAMP:20260426T014457
CREATED:20230919T124934Z
LAST-MODIFIED:20230919T124934Z
UID:10004900-1695420000-1695420000@gobatroun.com
SUMMARY:Dj ADO at Cheers
DESCRIPTION:
URL:https://gobatroun.com/event/dj-ado-at-cheers/
LOCATION:Cheers
CATEGORIES:Performing Arts
ATTACH;FMTTYPE=image/png:https://gobatroun.com/wp-content/uploads/2023/09/Screenshot-2176.png
END:VEVENT
BEGIN:VEVENT
DTSTART;TZID=Asia/Beirut:20230920T220000
DTEND;TZID=Asia/Beirut:20230920T220000
DTSTAMP:20260426T014457
CREATED:20230919T124731Z
LAST-MODIFIED:20230919T124731Z
UID:10004899-1695247200-1695247200@gobatroun.com
SUMMARY:Stephan Roukos at Cheers
DESCRIPTION:
URL:https://gobatroun.com/event/stephan-roukos-at-cheers-42/
LOCATION:Cheers
CATEGORIES:Performing Arts
ATTACH;FMTTYPE=image/png:https://gobatroun.com/wp-content/uploads/2023/08/Screenshot-2016.png
END:VEVENT
BEGIN:VEVENT
DTSTART;TZID=Asia/Beirut:20230916T220000
DTEND;TZID=Asia/Beirut:20230916T220000
DTSTAMP:20260426T014457
CREATED:20230912T122837Z
LAST-MODIFIED:20230912T122837Z
UID:10004874-1694901600-1694901600@gobatroun.com
SUMMARY:Dj Salvador at Cheers
DESCRIPTION:
URL:https://gobatroun.com/event/dj-salvador-at-cheers-25/
LOCATION:Cheers
CATEGORIES:Performing Arts
ATTACH;FMTTYPE=image/png:https://gobatroun.com/wp-content/uploads/2023/08/Screenshot-2018.png
END:VEVENT
BEGIN:VEVENT
DTSTART;TZID=Asia/Beirut:20230915T220000
DTEND;TZID=Asia/Beirut:20230915T220000
DTSTAMP:20260426T014457
CREATED:20230912T122822Z
LAST-MODIFIED:20230912T122822Z
UID:10004873-1694815200-1694815200@gobatroun.com
SUMMARY:The Rays at Cheers
DESCRIPTION:
URL:https://gobatroun.com/event/the-rays-at-cheers/
LOCATION:Cheers
CATEGORIES:Performing Arts
ATTACH;FMTTYPE=image/png:https://gobatroun.com/wp-content/uploads/2023/09/Screenshot-2095.png
END:VEVENT
BEGIN:VEVENT
DTSTART;TZID=Asia/Beirut:20230914T220000
DTEND;TZID=Asia/Beirut:20230914T220000
DTSTAMP:20260426T014457
CREATED:20230912T122725Z
LAST-MODIFIED:20230912T122725Z
UID:10004872-1694728800-1694728800@gobatroun.com
SUMMARY:80's Night with Dj Undertaker at Cheers
DESCRIPTION:
URL:https://gobatroun.com/event/80s-night-with-dj-undertaker-at-cheers-15/
LOCATION:Cheers
CATEGORIES:Performing Arts
ATTACH;FMTTYPE=image/png:https://gobatroun.com/wp-content/uploads/2023/08/Screenshot-2019.png
END:VEVENT
BEGIN:VEVENT
DTSTART;TZID=Asia/Beirut:20230913T220000
DTEND;TZID=Asia/Beirut:20230913T220000
DTSTAMP:20260426T014457
CREATED:20230912T122706Z
LAST-MODIFIED:20230912T122706Z
UID:10004871-1694642400-1694642400@gobatroun.com
SUMMARY:Stephan Roukos at Cheers
DESCRIPTION:
URL:https://gobatroun.com/event/stephan-roukos-at-cheers-40/
LOCATION:Cheers
CATEGORIES:Performing Arts
ATTACH;FMTTYPE=image/png:https://gobatroun.com/wp-content/uploads/2023/08/Screenshot-2016.png
END:VEVENT
BEGIN:VEVENT
DTSTART;TZID=Asia/Beirut:20230902T220000
DTEND;TZID=Asia/Beirut:20230902T220000
DTSTAMP:20260426T014457
CREATED:20230830T062735Z
LAST-MODIFIED:20230830T062735Z
UID:10004775-1693692000-1693692000@gobatroun.com
SUMMARY:Dj Salvador at Cheers
DESCRIPTION:
URL:https://gobatroun.com/event/dj-salvador-at-cheers-24/
LOCATION:Cheers
CATEGORIES:Performing Arts
ATTACH;FMTTYPE=image/png:https://gobatroun.com/wp-content/uploads/2023/08/Screenshot-2018.png
END:VEVENT
BEGIN:VEVENT
DTSTART;TZID=Asia/Beirut:20230901T220000
DTEND;TZID=Asia/Beirut:20230901T220000
DTSTAMP:20260426T014457
CREATED:20230830T062432Z
LAST-MODIFIED:20230830T062432Z
UID:10004774-1693605600-1693605600@gobatroun.com
SUMMARY:The Rays Featuring Sam on Saxophone at Cheers
DESCRIPTION:
URL:https://gobatroun.com/event/the-rays-featuring-sam-on-saxophone-at-cheers/
LOCATION:Cheers
CATEGORIES:Performing Arts
ATTACH;FMTTYPE=image/png:https://gobatroun.com/wp-content/uploads/2023/08/Screenshot-2017.png
END:VEVENT
BEGIN:VEVENT
DTSTART;TZID=Asia/Beirut:20230831T220000
DTEND;TZID=Asia/Beirut:20230831T220000
DTSTAMP:20260426T014457
CREATED:20230830T063120Z
LAST-MODIFIED:20230830T063120Z
UID:10004776-1693519200-1693519200@gobatroun.com
SUMMARY:80's Night with Dj Undertaker at Cheers
DESCRIPTION:
URL:https://gobatroun.com/event/80s-night-with-dj-undertaker-at-cheers-14/
LOCATION:Cheers
CATEGORIES:Performing Arts
ATTACH;FMTTYPE=image/png:https://gobatroun.com/wp-content/uploads/2023/08/Screenshot-2019.png
END:VEVENT
BEGIN:VEVENT
DTSTART;TZID=Asia/Beirut:20230831T220000
DTEND;TZID=Asia/Beirut:20230831T220000
DTSTAMP:20260426T014457
CREATED:20230830T060525Z
LAST-MODIFIED:20230830T062927Z
UID:10004772-1693519200-1693519200@gobatroun.com
SUMMARY:The Rays and SAM on Saxophone at Cheers
DESCRIPTION:
URL:https://gobatroun.com/event/the-rays-and-sam-on-saxophone-at-cheers/
LOCATION:Cheers
CATEGORIES:Performing Arts
ATTACH;FMTTYPE=image/png:https://gobatroun.com/wp-content/uploads/2023/08/Screenshot-2017.png
END:VEVENT
BEGIN:VEVENT
DTSTART;TZID=Asia/Beirut:20230830T220000
DTEND;TZID=Asia/Beirut:20230830T220000
DTSTAMP:20260426T014457
CREATED:20230830T062059Z
LAST-MODIFIED:20230830T062059Z
UID:10004773-1693432800-1693432800@gobatroun.com
SUMMARY:Stephan Roukos at Cheers
DESCRIPTION:
URL:https://gobatroun.com/event/stephan-roukos-at-cheers-41/
LOCATION:Cheers
CATEGORIES:Performing Arts
ATTACH;FMTTYPE=image/png:https://gobatroun.com/wp-content/uploads/2023/08/Screenshot-2016.png
END:VEVENT
BEGIN:VEVENT
DTSTART;TZID=Asia/Beirut:20230828T213000
DTEND;TZID=Asia/Beirut:20230828T213000
DTSTAMP:20260426T014457
CREATED:20230821T120021Z
LAST-MODIFIED:20230821T120021Z
UID:10004672-1693258200-1693258200@gobatroun.com
SUMMARY:Dj Salvador at Cheers
DESCRIPTION:
URL:https://gobatroun.com/event/dj-salvador-at-cheers-23/2023-08-28/
LOCATION:Cheers
CATEGORIES:Performing Arts
ATTACH;FMTTYPE=image/png:https://gobatroun.com/wp-content/uploads/2023/07/Screenshot-1776.png
END:VEVENT
BEGIN:VEVENT
DTSTART;TZID=Asia/Beirut:20230827T200000
DTEND;TZID=Asia/Beirut:20230827T200000
DTSTAMP:20260426T014457
CREATED:20230821T120035Z
LAST-MODIFIED:20230821T120035Z
UID:10004671-1693166400-1693166400@gobatroun.com
SUMMARY:Ladies Night With Dj Liubov at Cheers
DESCRIPTION:
URL:https://gobatroun.com/event/ladies-night-with-dj-liubov-at-cheers-9/
LOCATION:Cheers
CATEGORIES:Performing Arts
ATTACH;FMTTYPE=image/png:https://gobatroun.com/wp-content/uploads/2023/07/Screenshot-1269.png
END:VEVENT
BEGIN:VEVENT
DTSTART;TZID=Asia/Beirut:20230825T220000
DTEND;TZID=Asia/Beirut:20230825T220000
DTSTAMP:20260426T014457
CREATED:20230821T120145Z
LAST-MODIFIED:20230821T120145Z
UID:10004668-1693000800-1693000800@gobatroun.com
SUMMARY:Dj Undertaker at Cheers
DESCRIPTION:
URL:https://gobatroun.com/event/dj-undertaker-at-cheers-38/
LOCATION:Cheers
CATEGORIES:Performing Arts
ATTACH;FMTTYPE=image/png:https://gobatroun.com/wp-content/uploads/2023/07/Screenshot-472.png
END:VEVENT
BEGIN:VEVENT
DTSTART;TZID=Asia/Beirut:20230823T220000
DTEND;TZID=Asia/Beirut:20230823T220000
DTSTAMP:20260426T014457
CREATED:20230821T120100Z
LAST-MODIFIED:20230821T120100Z
UID:10004667-1692828000-1692828000@gobatroun.com
SUMMARY:Stephan Roukos at Cheers
DESCRIPTION:
URL:https://gobatroun.com/event/stephan-roukos-at-cheers-39/
LOCATION:Cheers
CATEGORIES:Performing Arts
ATTACH;FMTTYPE=image/png:https://gobatroun.com/wp-content/uploads/2023/07/Screenshot-2158.png
END:VEVENT
BEGIN:VEVENT
DTSTART;TZID=Asia/Beirut:20230820T200000
DTEND;TZID=Asia/Beirut:20230820T200000
DTSTAMP:20260426T014457
CREATED:20230816T075508Z
LAST-MODIFIED:20230816T075508Z
UID:10004625-1692561600-1692561600@gobatroun.com
SUMMARY:Ladies Night With Dj Liubov at Cheers
DESCRIPTION:
URL:https://gobatroun.com/event/ladies-night-with-dj-liubov-at-cheers-8/
LOCATION:Cheers
CATEGORIES:Performing Arts
ATTACH;FMTTYPE=image/png:https://gobatroun.com/wp-content/uploads/2023/07/Screenshot-1269.png
END:VEVENT
BEGIN:VEVENT
DTSTART;TZID=Asia/Beirut:20230819T213000
DTEND;TZID=Asia/Beirut:20230819T213000
DTSTAMP:20260426T014457
CREATED:20230816T075456Z
LAST-MODIFIED:20230816T075456Z
UID:10004627-1692480600-1692480600@gobatroun.com
SUMMARY:Dj Salvador at Cheers
DESCRIPTION:
URL:https://gobatroun.com/event/dj-salvador-at-cheers-22/2023-08-19/
LOCATION:Cheers
CATEGORIES:Performing Arts
ATTACH;FMTTYPE=image/png:https://gobatroun.com/wp-content/uploads/2023/07/Screenshot-1776.png
END:VEVENT
BEGIN:VEVENT
DTSTART;TZID=Asia/Beirut:20230818T220000
DTEND;TZID=Asia/Beirut:20230818T220000
DTSTAMP:20260426T014457
CREATED:20230816T075056Z
LAST-MODIFIED:20230816T075056Z
UID:10004623-1692396000-1692396000@gobatroun.com
SUMMARY:The Rays and Special Guest Rima at Cheers
DESCRIPTION:
URL:https://gobatroun.com/event/the-rays-and-special-guest-rima-at-cheers-4/
LOCATION:Cheers
CATEGORIES:Performing Arts
ATTACH;FMTTYPE=image/png:https://gobatroun.com/wp-content/uploads/2023/07/Screenshot-1341.png
END:VEVENT
BEGIN:VEVENT
DTSTART;TZID=Asia/Beirut:20230818T213000
DTEND;TZID=Asia/Beirut:20230818T213000
DTSTAMP:20260426T014457
CREATED:20230821T120021Z
LAST-MODIFIED:20230821T120021Z
UID:10004669-1692394200-1692394200@gobatroun.com
SUMMARY:Dj Salvador at Cheers
DESCRIPTION:
URL:https://gobatroun.com/event/dj-salvador-at-cheers-23/2023-08-18/
LOCATION:Cheers
CATEGORIES:Performing Arts
ATTACH;FMTTYPE=image/png:https://gobatroun.com/wp-content/uploads/2023/07/Screenshot-1776.png
END:VEVENT
END:VCALENDAR