BEGIN:VCALENDAR
VERSION:2.0
PRODID:-//Go Batroun - ECPv6.14.2//NONSGML v1.0//EN
CALSCALE:GREGORIAN
METHOD:PUBLISH
X-ORIGINAL-URL:https://gobatroun.com
X-WR-CALDESC:Events for Go Batroun
REFRESH-INTERVAL;VALUE=DURATION:PT1H
X-Robots-Tag:noindex
X-PUBLISHED-TTL:PT1H
BEGIN:VTIMEZONE
TZID:Asia/Beirut
BEGIN:DAYLIGHT
TZOFFSETFROM:+0200
TZOFFSETTO:+0300
TZNAME:EEST
DTSTART:20230325T220000
END:DAYLIGHT
BEGIN:STANDARD
TZOFFSETFROM:+0300
TZOFFSETTO:+0200
TZNAME:EET
DTSTART:20231028T210000
END:STANDARD
END:VTIMEZONE
BEGIN:VEVENT
DTSTART;TZID=Asia/Beirut:20230624T220000
DTEND;TZID=Asia/Beirut:20230624T220000
DTSTAMP:20260426T015801
CREATED:20230713T080413Z
LAST-MODIFIED:20230713T090445Z
UID:10004074-1687644000-1687644000@gobatroun.com
SUMMARY:Michel Najem at Casa Bar
DESCRIPTION:
URL:https://gobatroun.com/event/michel-najem-at-casa-bar-4/
LOCATION:Casa Bar
CATEGORIES:Performing Arts
ATTACH;FMTTYPE=image/png:https://gobatroun.com/wp-content/uploads/2023/07/Screenshot-1130.png
END:VEVENT
BEGIN:VEVENT
DTSTART;TZID=Asia/Beirut:20230623T210000
DTEND;TZID=Asia/Beirut:20230623T210000
DTSTAMP:20260426T015801
CREATED:20230713T080358Z
LAST-MODIFIED:20230713T091250Z
UID:10004133-1687554000-1687554000@gobatroun.com
SUMMARY:Hala Touma at Casa Bar
DESCRIPTION:Join us this Frida with Hala Touma to 💃 the night away with the perfect blend of Oriental and Occidental 🎶 \nRSVP👉🏻71 108 749 OR 81 328 117
URL:https://gobatroun.com/event/hala-touma-at-casa-bar-3/
LOCATION:Casa Bar
CATEGORIES:Performing Arts
ATTACH;FMTTYPE=image/png:https://gobatroun.com/wp-content/uploads/2023/07/Screenshot-1102.png
END:VEVENT
BEGIN:VEVENT
DTSTART;TZID=Asia/Beirut:20230616T220000
DTEND;TZID=Asia/Beirut:20230616T220000
DTSTAMP:20260426T015801
CREATED:20230713T080322Z
LAST-MODIFIED:20230713T092416Z
UID:10004205-1686952800-1686952800@gobatroun.com
SUMMARY:Rodolphe at Casa Bar
DESCRIPTION:
URL:https://gobatroun.com/event/rodolphe-at-casa-bar-2/
LOCATION:Casa Bar
ATTACH;FMTTYPE=image/png:https://gobatroun.com/wp-content/uploads/2023/07/Screenshot-994.png
END:VEVENT
BEGIN:VEVENT
DTSTART;TZID=Asia/Beirut:20230604T200000
DTEND;TZID=Asia/Beirut:20230604T200000
DTSTAMP:20260426T015801
CREATED:20230531T131649Z
LAST-MODIFIED:20230531T131649Z
UID:10003384-1685908800-1685908800@gobatroun.com
SUMMARY:Rodolph khoury at Casa Bar
DESCRIPTION:Join us this Sunday for a fusion night with Rodolph khoury \n📲 81 328 117 or 71 108 749
URL:https://gobatroun.com/event/rodolph-khoury-at-casa-bar-2/
LOCATION:Casa Bar
CATEGORIES:Performing Arts
ATTACH;FMTTYPE=image/png:https://gobatroun.com/wp-content/uploads/2023/05/Screenshot-813.png
END:VEVENT
BEGIN:VEVENT
DTSTART;TZID=Asia/Beirut:20230603T210000
DTEND;TZID=Asia/Beirut:20230603T210000
DTSTAMP:20260426T015801
CREATED:20230531T131745Z
LAST-MODIFIED:20230531T131914Z
UID:10003385-1685826000-1685826000@gobatroun.com
SUMMARY:Michel Najem at Casa Bar
DESCRIPTION:81 328 117 or 71 108 749
URL:https://gobatroun.com/event/michel-najem-at-casa-bar-2/
LOCATION:Casa Bar
CATEGORIES:Performing Arts
ATTACH;FMTTYPE=image/png:https://gobatroun.com/wp-content/uploads/2023/05/Screenshot-866.png
END:VEVENT
BEGIN:VEVENT
DTSTART;TZID=Asia/Beirut:20230528T200000
DTEND;TZID=Asia/Beirut:20230528T200000
DTSTAMP:20260426T015801
CREATED:20230525T122808Z
LAST-MODIFIED:20230525T122808Z
UID:10003346-1685304000-1685304000@gobatroun.com
SUMMARY:Rodolph khoury at Casa Bar
DESCRIPTION:Join us this Sunday for a fusion night with Rodolph khoury \n📲 81 328 117 or 71 108 749
URL:https://gobatroun.com/event/rodolph-khoury-at-casa-bar/
LOCATION:Casa Bar
CATEGORIES:Performing Arts
ATTACH;FMTTYPE=image/png:https://gobatroun.com/wp-content/uploads/2023/05/Screenshot-813.png
END:VEVENT
BEGIN:VEVENT
DTSTART;TZID=Asia/Beirut:20230520T210000
DTEND;TZID=Asia/Beirut:20230520T210000
DTSTAMP:20260426T015801
CREATED:20230517T124531Z
LAST-MODIFIED:20230517T124531Z
UID:10002366-1684616400-1684616400@gobatroun.com
SUMMARY:Michel Najem at Casa Bar
DESCRIPTION:81 328 117 or 71 108 749
URL:https://gobatroun.com/event/michel-najem-at-casa-bar/
LOCATION:Casa Bar
CATEGORIES:Performing Arts
ATTACH;FMTTYPE=image/png:https://gobatroun.com/wp-content/uploads/2023/05/Screenshot-746.png
END:VEVENT
BEGIN:VEVENT
DTSTART;TZID=Asia/Beirut:20230519T210000
DTEND;TZID=Asia/Beirut:20230519T210000
DTSTAMP:20260426T015801
CREATED:20230517T124433Z
LAST-MODIFIED:20230517T124433Z
UID:10002365-1684530000-1684530000@gobatroun.com
SUMMARY:Hala Touma at Casa Bar
DESCRIPTION:81 328 117 or 71 108 749
URL:https://gobatroun.com/event/hala-touma-at-casa-bar/
LOCATION:Casa Bar
CATEGORIES:Performing Arts
ATTACH;FMTTYPE=image/png:https://gobatroun.com/wp-content/uploads/2023/05/Screenshot-746.png
END:VEVENT
END:VCALENDAR