BEGIN:VCALENDAR
VERSION:2.0
PRODID:-//Go Batroun - ECPv6.14.2//NONSGML v1.0//EN
CALSCALE:GREGORIAN
METHOD:PUBLISH
X-ORIGINAL-URL:https://gobatroun.com
X-WR-CALDESC:Events for Go Batroun
REFRESH-INTERVAL;VALUE=DURATION:PT1H
X-Robots-Tag:noindex
X-PUBLISHED-TTL:PT1H
BEGIN:VTIMEZONE
TZID:Asia/Beirut
BEGIN:DAYLIGHT
TZOFFSETFROM:+0200
TZOFFSETTO:+0300
TZNAME:EEST
DTSTART:20220326T220000
END:DAYLIGHT
BEGIN:STANDARD
TZOFFSETFROM:+0300
TZOFFSETTO:+0200
TZNAME:EET
DTSTART:20221029T210000
END:STANDARD
BEGIN:DAYLIGHT
TZOFFSETFROM:+0200
TZOFFSETTO:+0300
TZNAME:EEST
DTSTART:20230325T220000
END:DAYLIGHT
BEGIN:STANDARD
TZOFFSETFROM:+0300
TZOFFSETTO:+0200
TZNAME:EET
DTSTART:20231028T210000
END:STANDARD
BEGIN:DAYLIGHT
TZOFFSETFROM:+0200
TZOFFSETTO:+0300
TZNAME:EEST
DTSTART:20240330T220000
END:DAYLIGHT
BEGIN:STANDARD
TZOFFSETFROM:+0300
TZOFFSETTO:+0200
TZNAME:EET
DTSTART:20241026T210000
END:STANDARD
END:VTIMEZONE
BEGIN:VEVENT
DTSTART;TZID=Asia/Beirut:20240706T110000
DTEND;TZID=Asia/Beirut:20240706T110000
DTSTAMP:20260420T061553
CREATED:20240702T092743Z
LAST-MODIFIED:20240702T092743Z
UID:10006307-1720263600-1720263600@gobatroun.com
SUMMARY:TAJALLI SOUFI
DESCRIPTION:TAJALLI SOUFI – Bolero \nOn Saturday\, July 6th\, at 11 AM\, Boléro invites you to Immerse yourself in the mystical and transcendental music of “TAJALLI SOUFI\, a serene and enchanting Sufi Music Concert. \nTicket at 30$ \nLimited Seats Available \nBe sure to secure your spot early! \nFor Booking and Info: Call +961 03 302 929 \nWe look forward to sharing this magical morning with you.
URL:https://gobatroun.com/event/tajalli-soufi/
LOCATION:Boléro Batroun\, 7M25+J6 Batroun\, Batroun\, Lebanon
CATEGORIES:Performing Arts
ATTACH;FMTTYPE=image/jpeg:https://gobatroun.com/wp-content/uploads/2024/07/Bolero-July-6-Event.jpg
GEO:34.25161416179;35.658026615144
X-APPLE-STRUCTURED-LOCATION;VALUE=URI;X-ADDRESS=Boléro Batroun 7M25+J6 Batroun Batroun Lebanon;X-APPLE-RADIUS=500;X-TITLE=7M25+J6 Batroun:geo:35.658026615144,34.25161416179
END:VEVENT
BEGIN:VEVENT
DTSTART;TZID=Asia/Beirut:20240619T180000
DTEND;TZID=Asia/Beirut:20240619T180000
DTSTAMP:20260420T061553
CREATED:20240604T054310Z
LAST-MODIFIED:20240604T054310Z
UID:10006174-1718820000-1718820000@gobatroun.com
SUMMARY:Brave Heart Sunsets at Bolero Batroun
DESCRIPTION:EXPERIENCE A MAGICAL EVENING AT @bolerobatroun ON JUNE 19TH! ✨ \nJoin us for a sunset event to save little hearts! ❤️ Don’t miss out on an evening filled with surprises\, good vibes\, and a chance to win BIG . Limited spots available! Get your tickets now by calling +961 71 483 248 or booking through @tick1t \n 
URL:https://gobatroun.com/event/brave-heart-sunsets-at-bolero-batroun/
LOCATION:Boléro Batroun\, 7M25+J6 Batroun\, Batroun\, Lebanon
CATEGORIES:Performing Arts
ATTACH;FMTTYPE=image/jpeg:https://gobatroun.com/wp-content/uploads/2024/06/June-19th-Event.jpg
GEO:34.25161416179;35.658026615144
X-APPLE-STRUCTURED-LOCATION;VALUE=URI;X-ADDRESS=Boléro Batroun 7M25+J6 Batroun Batroun Lebanon;X-APPLE-RADIUS=500;X-TITLE=7M25+J6 Batroun:geo:35.658026615144,34.25161416179
END:VEVENT
BEGIN:VEVENT
DTSTART;TZID=Asia/Beirut:20231231T220000
DTEND;TZID=Asia/Beirut:20231231T220000
DTSTAMP:20260420T061553
CREATED:20231226T144825Z
LAST-MODIFIED:20231226T144825Z
UID:10005627-1704060000-1704060000@gobatroun.com
SUMMARY:New Year’s Eve at Bolero
DESCRIPTION:Happy Holidays! 🎄 \nNew Year’s Eve Menu: \n. Cheese selection\nfrom the softest to the hardest \n. The Fresh Year Salad \n………………. \nThe grilled extravaganza \n. Marinated portobello mushrooms\ntopped with olive oil and parmigiano \n. Tender salmon\nglazed with butter and Woka’s rub \n. Sexy chicken breast rolls\nserved with mashed potatoes and herbs \n. Juicy beef tenderloin \n………………. \n. Caramelized Almonds Tiramisu \nCotillons\, the bolero way\nBehind the decks: Pauly hash\n110 USD per person\nFor reservation 03 30 29 29
URL:https://gobatroun.com/event/new-years-eve-at-bolero/
LOCATION:Boléro Batroun\, 7M25+J6 Batroun\, Batroun\, Lebanon
CATEGORIES:Performing Arts
ATTACH;FMTTYPE=image/png:https://gobatroun.com/wp-content/uploads/2023/12/Screenshot-2856.png
GEO:34.25161416179;35.658026615144
X-APPLE-STRUCTURED-LOCATION;VALUE=URI;X-ADDRESS=Boléro Batroun 7M25+J6 Batroun Batroun Lebanon;X-APPLE-RADIUS=500;X-TITLE=7M25+J6 Batroun:geo:35.658026615144,34.25161416179
END:VEVENT
BEGIN:VEVENT
DTSTART;TZID=Asia/Beirut:20230708T180000
DTEND;TZID=Asia/Beirut:20230708T180000
DTSTAMP:20260420T061553
CREATED:20230713T080451Z
LAST-MODIFIED:20230713T100124Z
UID:10004230-1688839200-1688839200@gobatroun.com
SUMMARY:Dj JPSikias\, Whale\, and 1.con.nu at Bolero
DESCRIPTION:Join us for the third edition of Garden Glam!\nOn the groovy decks: @jp.sikias @1.con.nu @waelkhoury \nDate: Saturday\, July 8\nTime: 6:00 PM onwards\nEntrance fee: 15$ (includes a drink)\nFor booking & info: 03 30 29 29
URL:https://gobatroun.com/event/dj-jpsikias-whale-and-1-con-nu-at-bolero/
LOCATION:Boléro Batroun\, 7M25+J6 Batroun\, Batroun\, Lebanon
CATEGORIES:Performing Arts
ATTACH;FMTTYPE=image/png:https://gobatroun.com/wp-content/uploads/2023/07/Screenshot-1257.png
GEO:34.25161416179;35.658026615144
X-APPLE-STRUCTURED-LOCATION;VALUE=URI;X-ADDRESS=Boléro Batroun 7M25+J6 Batroun Batroun Lebanon;X-APPLE-RADIUS=500;X-TITLE=7M25+J6 Batroun:geo:35.658026615144,34.25161416179
END:VEVENT
BEGIN:VEVENT
DTSTART;TZID=Asia/Beirut:20230602T180000
DTEND;TZID=Asia/Beirut:20230602T180000
DTSTAMP:20260420T061553
CREATED:20230522T134413Z
LAST-MODIFIED:20230602T131830Z
UID:10002391-1685728800-1685728800@gobatroun.com
SUMMARY:Garden Glam with RITA\, Rea\, and Wael El Khoury at Bolero
DESCRIPTION:Here we go again! Get ready for the highly anticipated second edition of Garden Glam! \nOur DJs are geared\, ensuring a night filled with infectious beats and irresistible rhythms. \nSo mark your calendars and start working on those dance moves. \nDate: June 2\nTime: 6:00 PM onwards\nEntrance fee: 15$ (includes a drink)\nFor booking & info: 03 30 29 29
URL:https://gobatroun.com/event/garden-glam-with-rita-rea-and-wael-el-khoury-at-bolero/
LOCATION:Boléro Batroun\, 7M25+J6 Batroun\, Batroun\, Lebanon
CATEGORIES:Performing Arts
ATTACH;FMTTYPE=image/png:https://gobatroun.com/wp-content/uploads/2023/05/Screenshot-781.png
GEO:34.25161416179;35.658026615144
X-APPLE-STRUCTURED-LOCATION;VALUE=URI;X-ADDRESS=Boléro Batroun 7M25+J6 Batroun Batroun Lebanon;X-APPLE-RADIUS=500;X-TITLE=7M25+J6 Batroun:geo:35.658026615144,34.25161416179
END:VEVENT
BEGIN:VEVENT
DTSTART;TZID=Asia/Beirut:20230513T170000
DTEND;TZID=Asia/Beirut:20230513T170000
DTSTAMP:20260420T061553
CREATED:20230501T145555Z
LAST-MODIFIED:20230501T145555Z
UID:10002271-1683997200-1683997200@gobatroun.com
SUMMARY:Garden Glam party at Bolero
DESCRIPTION:Join us for a night under the stars at our Garden Glam party! \nWith three talented DJs spinning funky jams\, @rita_ha @waelkhoury @nadermansour \nSaturday the 13th of May at 5 pm\nGet ready to let loose and dance the sunset away. \nFor booking and details call us on 03302929.
URL:https://gobatroun.com/event/garden-glam-party-at-bolero/
LOCATION:Boléro Batroun\, 7M25+J6 Batroun\, Batroun\, Lebanon
CATEGORIES:Performing Arts
ATTACH;FMTTYPE=image/png:https://gobatroun.com/wp-content/uploads/2023/05/Screenshot-521.png
GEO:34.25161416179;35.658026615144
X-APPLE-STRUCTURED-LOCATION;VALUE=URI;X-ADDRESS=Boléro Batroun 7M25+J6 Batroun Batroun Lebanon;X-APPLE-RADIUS=500;X-TITLE=7M25+J6 Batroun:geo:35.658026615144,34.25161416179
END:VEVENT
BEGIN:VEVENT
DTSTART;TZID=Asia/Beirut:20220619T170000
DTEND;TZID=Asia/Beirut:20220619T233000
DTSTAMP:20260420T061553
CREATED:20220608T080656Z
LAST-MODIFIED:20220620T101411Z
UID:10000827-1655658000-1655681400@gobatroun.com
SUMMARY:BOLERO X IT’S JUST A FLING
DESCRIPTION:N.B: Event Postponed to June 19th due to weather Conditions. \nFind me by the sea\nLaying naked on the shore\nLove is a wild spree\nThat will shake us to the core\n@itsjustafling @romaxbeirut @reab08 @1.con.nu @nadermansour \nFor booking 03302929
URL:https://gobatroun.com/event/bolero-x-its-just-a-fling/
LOCATION:Boléro Batroun\, 7M25+J6 Batroun\, Batroun\, Lebanon
CATEGORIES:Performing Arts
ATTACH;FMTTYPE=image/png:https://gobatroun.com/wp-content/uploads/2022/06/BoleroXitsjustafling.png
GEO:34.25161416179;35.658026615144
X-APPLE-STRUCTURED-LOCATION;VALUE=URI;X-ADDRESS=Boléro Batroun 7M25+J6 Batroun Batroun Lebanon;X-APPLE-RADIUS=500;X-TITLE=7M25+J6 Batroun:geo:35.658026615144,34.25161416179
END:VEVENT
END:VCALENDAR