BEGIN:VCALENDAR
VERSION:2.0
PRODID:-//Go Batroun - ECPv6.14.2//NONSGML v1.0//EN
CALSCALE:GREGORIAN
METHOD:PUBLISH
X-ORIGINAL-URL:https://gobatroun.com
X-WR-CALDESC:Events for Go Batroun
REFRESH-INTERVAL;VALUE=DURATION:PT1H
X-Robots-Tag:noindex
X-PUBLISHED-TTL:PT1H
BEGIN:VTIMEZONE
TZID:Asia/Beirut
BEGIN:DAYLIGHT
TZOFFSETFROM:+0200
TZOFFSETTO:+0300
TZNAME:EEST
DTSTART:20230325T220000
END:DAYLIGHT
BEGIN:STANDARD
TZOFFSETFROM:+0300
TZOFFSETTO:+0200
TZNAME:EET
DTSTART:20231028T210000
END:STANDARD
END:VTIMEZONE
BEGIN:VEVENT
DTSTART;VALUE=DATE:20230401
DTEND;VALUE=DATE:20230402
DTSTAMP:20260425T193349
CREATED:20230316T111304Z
LAST-MODIFIED:20230316T111304Z
UID:10002106-1680307200-1680393599@gobatroun.com
SUMMARY:Easter Tennis Tournament at Batroun Village Club
DESCRIPTION:Easter Tennis Tournament starting the 1st of April in Batroun Village Club outdoor courts. \nFees: 30$ per player\nFor information\, contact us on 03812971
URL:https://gobatroun.com/event/easter-tennis-tournament-at-batroun-village-club/
LOCATION:Batroun Village Club
CATEGORIES:Performing Arts,Sports
ATTACH;FMTTYPE=image/png:https://gobatroun.com/wp-content/uploads/2023/03/Screenshot-176.png
END:VEVENT
END:VCALENDAR