BEGIN:VCALENDAR
VERSION:2.0
PRODID:-//Go Batroun - ECPv6.14.2//NONSGML v1.0//EN
CALSCALE:GREGORIAN
METHOD:PUBLISH
X-ORIGINAL-URL:https://gobatroun.com
X-WR-CALDESC:Events for Go Batroun
REFRESH-INTERVAL;VALUE=DURATION:PT1H
X-Robots-Tag:noindex
X-PUBLISHED-TTL:PT1H
BEGIN:VTIMEZONE
TZID:Asia/Beirut
BEGIN:DAYLIGHT
TZOFFSETFROM:+0200
TZOFFSETTO:+0300
TZNAME:EEST
DTSTART:20230325T220000
END:DAYLIGHT
BEGIN:STANDARD
TZOFFSETFROM:+0300
TZOFFSETTO:+0200
TZNAME:EET
DTSTART:20231028T210000
END:STANDARD
END:VTIMEZONE
BEGIN:VEVENT
DTSTART;TZID=Asia/Beirut:20231225T080000
DTEND;TZID=Asia/Beirut:20231225T170000
DTSTAMP:20260425T235431
CREATED:20231212T064602Z
LAST-MODIFIED:20231220T074829Z
UID:10005383-1703491200-1703523600@gobatroun.com
SUMMARY:Open Buffet at Batroun Village Club
DESCRIPTION:Merry Christmas!\nJoin us at Batroun Village Club for a joyful day filled with open buffet\, music\, dance\, and celebration.\nEnjoy kids animation\, DJ\, and a visit from Santa Claus.\nFor Adult $38 and for kids $19. \nReserve now: 03.532 029 – 70.104 333. \nDon’t forget the photo session and various activities!
URL:https://gobatroun.com/event/open-buffet-at-batroun-village-club/2023-12-25/
LOCATION:Batroun Village Club
CATEGORIES:Performing Arts
ATTACH;FMTTYPE=image/png:https://gobatroun.com/wp-content/uploads/2023/12/Screenshot-2786.png
END:VEVENT
BEGIN:VEVENT
DTSTART;TZID=Asia/Beirut:20231223T160000
DTEND;TZID=Asia/Beirut:20231223T170000
DTSTAMP:20260425T235431
CREATED:20231220T082445Z
LAST-MODIFIED:20231220T082445Z
UID:10005561-1703347200-1703350800@gobatroun.com
SUMMARY:Magical Christmas Carnival at Batroun Village Club
DESCRIPTION:Join us for a magical Christmas carnival at Batroun Village Club by Kids Factory this Saturday\, December 23!\n🤡 Get ready for festive fun and an amazing clown show! \nBooking: 71599 262
URL:https://gobatroun.com/event/magical-christmas-carnival-at-batroun-village-club/
LOCATION:Batroun Village Club
CATEGORIES:Festivals,Performing Arts
ATTACH;FMTTYPE=image/png:https://gobatroun.com/wp-content/uploads/2023/12/Screenshot-2787.png
END:VEVENT
BEGIN:VEVENT
DTSTART;TZID=Asia/Beirut:20231217T080000
DTEND;TZID=Asia/Beirut:20231217T170000
DTSTAMP:20260425T235431
CREATED:20231212T064602Z
LAST-MODIFIED:20231220T074829Z
UID:10005382-1702800000-1702832400@gobatroun.com
SUMMARY:Open Buffet at Batroun Village Club
DESCRIPTION:Merry Christmas!\nJoin us at Batroun Village Club for a joyful day filled with open buffet\, music\, dance\, and celebration.\nEnjoy kids animation\, DJ\, and a visit from Santa Claus.\nFor Adult $38 and for kids $19. \nReserve now: 03.532 029 – 70.104 333. \nDon’t forget the photo session and various activities!
URL:https://gobatroun.com/event/open-buffet-at-batroun-village-club/2023-12-17/
LOCATION:Batroun Village Club
CATEGORIES:Performing Arts
ATTACH;FMTTYPE=image/png:https://gobatroun.com/wp-content/uploads/2023/12/Screenshot-2786.png
END:VEVENT
BEGIN:VEVENT
DTSTART;TZID=Asia/Beirut:20231203T080000
DTEND;TZID=Asia/Beirut:20231203T170000
DTSTAMP:20260425T235431
CREATED:20231120T062842Z
LAST-MODIFIED:20231120T062842Z
UID:10005218-1701590400-1701622800@gobatroun.com
SUMMARY:Open Buffet Sundays at Batroun Village Club
DESCRIPTION:December brings joy to Batroun Village Club with the start of Open Buffet Sundays! Enjoy beautiful songs by Layal\, Helena & Joya\, exciting Kids Factory entertainment\, and the cherished tradition of ‘Kame7 al Eid’ in celebration of St. Barbara’s Feast. [Don’t forget to encourage your kids to dress up for the occasion!] \n$35 for Adults\, $16 for kids\, & special offer for Batroun Village Club members\nFor more information and reservations\, please call 71/00 33 50 – 70/104 333
URL:https://gobatroun.com/event/open-buffet-sundays-at-batroun-village-club/
LOCATION:Batroun Village Club
CATEGORIES:Performing Arts
ATTACH;FMTTYPE=image/png:https://gobatroun.com/wp-content/uploads/2023/11/Screenshot-2515.png
END:VEVENT
BEGIN:VEVENT
DTSTART;TZID=Asia/Beirut:20231124T080000
DTEND;TZID=Asia/Beirut:20231124T170000
DTSTAMP:20260425T235431
CREATED:20231109T131613Z
LAST-MODIFIED:20231127T134711Z
UID:10005149-1700812800-1700845200@gobatroun.com
SUMMARY:Christmas at Batroun Village Club
DESCRIPTION:Christmas at Batroun Village Club\, stay tuned for the detailed program.
URL:https://gobatroun.com/event/christmas-at-batroun-village-club/
LOCATION:Batroun Village Club
CATEGORIES:Performing Arts
ATTACH;FMTTYPE=image/png:https://gobatroun.com/wp-content/uploads/2023/11/Screenshot-2476.png
END:VEVENT
BEGIN:VEVENT
DTSTART;TZID=Asia/Beirut:20230722T160000
DTEND;TZID=Asia/Beirut:20230722T190000
DTSTAMP:20260425T235431
CREATED:20230718T121900Z
LAST-MODIFIED:20230718T121900Z
UID:10004312-1690041600-1690052400@gobatroun.com
SUMMARY:Mini Studio at Batroun Village Club
DESCRIPTION:Join us for an unforgettable event @batrounvillageclub on Saturday\, July 22nd\, from 4 pm to 7 pm!\nExperience the magic of Mini Studio with a spectacular show at 6 pm. Get ready for glitter painting\, bungee trampoline\, and soap soccer!\n$15 per kid. Reserve your spot and get more information by calling 70-104333.\nDon’t miss out on this exciting adventure!🥳🔥🔥\n@ministudioclub
URL:https://gobatroun.com/event/mini-studio-at-batroun-village-club/
LOCATION:Batroun Village Club
CATEGORIES:Performing Arts
ATTACH;FMTTYPE=image/png:https://gobatroun.com/wp-content/uploads/2023/07/Screenshot-1418.png
END:VEVENT
BEGIN:VEVENT
DTSTART;VALUE=DATE:20230401
DTEND;VALUE=DATE:20230402
DTSTAMP:20260425T235431
CREATED:20230316T111304Z
LAST-MODIFIED:20230316T111304Z
UID:10002106-1680307200-1680393599@gobatroun.com
SUMMARY:Easter Tennis Tournament at Batroun Village Club
DESCRIPTION:Easter Tennis Tournament starting the 1st of April in Batroun Village Club outdoor courts. \nFees: 30$ per player\nFor information\, contact us on 03812971
URL:https://gobatroun.com/event/easter-tennis-tournament-at-batroun-village-club/
LOCATION:Batroun Village Club
CATEGORIES:Performing Arts,Sports
ATTACH;FMTTYPE=image/png:https://gobatroun.com/wp-content/uploads/2023/03/Screenshot-176.png
END:VEVENT
END:VCALENDAR