BEGIN:VCALENDAR
VERSION:2.0
PRODID:-//Go Batroun - ECPv6.14.2//NONSGML v1.0//EN
CALSCALE:GREGORIAN
METHOD:PUBLISH
X-WR-CALNAME:Go Batroun
X-ORIGINAL-URL:https://gobatroun.com
X-WR-CALDESC:Events for Go Batroun
REFRESH-INTERVAL;VALUE=DURATION:PT1H
X-Robots-Tag:noindex
X-PUBLISHED-TTL:PT1H
BEGIN:VTIMEZONE
TZID:Asia/Beirut
BEGIN:DAYLIGHT
TZOFFSETFROM:+0200
TZOFFSETTO:+0300
TZNAME:EEST
DTSTART:20230325T220000
END:DAYLIGHT
BEGIN:STANDARD
TZOFFSETFROM:+0300
TZOFFSETTO:+0200
TZNAME:EET
DTSTART:20231028T210000
END:STANDARD
END:VTIMEZONE
BEGIN:VEVENT
DTSTART;TZID=Asia/Beirut:20231130T210000
DTEND;TZID=Asia/Beirut:20231130T210000
DTSTAMP:20260422T173325
CREATED:20231102T065701Z
LAST-MODIFIED:20231102T065701Z
UID:10005112-1701378000-1701378000@gobatroun.com
SUMMARY:Dj  Bob and Selim at Barrio
DESCRIPTION:Introducing Drunky Thursday!\nKickstart your weekend early with our newest tradition. Don’t miss it 🍻 \nFor reservations and inquiries on our open bar formula\, please call this number 👇🏼\n+961 70 211 299
URL:https://gobatroun.com/event/dj-bob-and-selim-at-barrio/2023-11-30/
LOCATION:Barrio67
CATEGORIES:Performing Arts
ATTACH;FMTTYPE=image/jpeg:https://gobatroun.com/wp-content/uploads/2023/11/WhatsApp-Image-2023-11-02-at-08.44.19_d69402b2.jpg
END:VEVENT
BEGIN:VEVENT
DTSTART;TZID=Asia/Beirut:20231125T210000
DTEND;TZID=Asia/Beirut:20231125T210000
DTSTAMP:20260422T173325
CREATED:20231124T091243Z
LAST-MODIFIED:20231124T091243Z
UID:10005245-1700946000-1700946000@gobatroun.com
SUMMARY:Mariam Mezher at Barrio
DESCRIPTION:Save the Date!\nMariam Mezher is back in town\, and this Saturday\, she’s bringing her incredible talent to Barrio again. See you 🎙 \nBand charge $8 \nFor reservations\, please call this number 👇🏼\n+961 70 211 299
URL:https://gobatroun.com/event/mariam-mezher-at-barrio/
LOCATION:Barrio67
CATEGORIES:Performing Arts
ATTACH;FMTTYPE=image/png:https://gobatroun.com/wp-content/uploads/2023/11/Screenshot-2540.png
END:VEVENT
BEGIN:VEVENT
DTSTART;TZID=Asia/Beirut:20231123T210000
DTEND;TZID=Asia/Beirut:20231123T210000
DTSTAMP:20260422T173325
CREATED:20231102T065701Z
LAST-MODIFIED:20231102T065701Z
UID:10005111-1700773200-1700773200@gobatroun.com
SUMMARY:Dj  Bob and Selim at Barrio
DESCRIPTION:Introducing Drunky Thursday!\nKickstart your weekend early with our newest tradition. Don’t miss it 🍻 \nFor reservations and inquiries on our open bar formula\, please call this number 👇🏼\n+961 70 211 299
URL:https://gobatroun.com/event/dj-bob-and-selim-at-barrio/2023-11-23/
LOCATION:Barrio67
CATEGORIES:Performing Arts
ATTACH;FMTTYPE=image/jpeg:https://gobatroun.com/wp-content/uploads/2023/11/WhatsApp-Image-2023-11-02-at-08.44.19_d69402b2.jpg
END:VEVENT
BEGIN:VEVENT
DTSTART;TZID=Asia/Beirut:20231118T210000
DTEND;TZID=Asia/Beirut:20231118T210000
DTSTAMP:20260422T173325
CREATED:20231116T115320Z
LAST-MODIFIED:20231116T115320Z
UID:10005215-1700341200-1700341200@gobatroun.com
SUMMARY:Dear Ear Band at Barrio
DESCRIPTION:Back for More! 🎶\nDear Ear returns this Saturday for another night of incredible music and great vibes. \nBand charge $8 \nFor reservations\, please call this number 👇🏼\n+961 70 211 299
URL:https://gobatroun.com/event/dear-ear-band-at-barrio-2/
LOCATION:Barrio67
CATEGORIES:Performing Arts
ATTACH;FMTTYPE=image/png:https://gobatroun.com/wp-content/uploads/2023/11/Screenshot-2508.png
END:VEVENT
BEGIN:VEVENT
DTSTART;TZID=Asia/Beirut:20231116T210000
DTEND;TZID=Asia/Beirut:20231116T210000
DTSTAMP:20260422T173325
CREATED:20231102T065701Z
LAST-MODIFIED:20231102T065701Z
UID:10005110-1700168400-1700168400@gobatroun.com
SUMMARY:Dj  Bob and Selim at Barrio
DESCRIPTION:Introducing Drunky Thursday!\nKickstart your weekend early with our newest tradition. Don’t miss it 🍻 \nFor reservations and inquiries on our open bar formula\, please call this number 👇🏼\n+961 70 211 299
URL:https://gobatroun.com/event/dj-bob-and-selim-at-barrio/2023-11-16/
LOCATION:Barrio67
CATEGORIES:Performing Arts
ATTACH;FMTTYPE=image/jpeg:https://gobatroun.com/wp-content/uploads/2023/11/WhatsApp-Image-2023-11-02-at-08.44.19_d69402b2.jpg
END:VEVENT
BEGIN:VEVENT
DTSTART;TZID=Asia/Beirut:20231109T210000
DTEND;TZID=Asia/Beirut:20231109T210000
DTSTAMP:20260422T173325
CREATED:20231102T065701Z
LAST-MODIFIED:20231102T065701Z
UID:10005109-1699563600-1699563600@gobatroun.com
SUMMARY:Dj  Bob and Selim at Barrio
DESCRIPTION:Introducing Drunky Thursday!\nKickstart your weekend early with our newest tradition. Don’t miss it 🍻 \nFor reservations and inquiries on our open bar formula\, please call this number 👇🏼\n+961 70 211 299
URL:https://gobatroun.com/event/dj-bob-and-selim-at-barrio/2023-11-09/
LOCATION:Barrio67
CATEGORIES:Performing Arts
ATTACH;FMTTYPE=image/jpeg:https://gobatroun.com/wp-content/uploads/2023/11/WhatsApp-Image-2023-11-02-at-08.44.19_d69402b2.jpg
END:VEVENT
BEGIN:VEVENT
DTSTART;TZID=Asia/Beirut:20231105T210000
DTEND;TZID=Asia/Beirut:20231105T210000
DTSTAMP:20260422T173325
CREATED:20231102T105909Z
LAST-MODIFIED:20231102T105909Z
UID:10005131-1699218000-1699218000@gobatroun.com
SUMMARY:BluBox at Barrio
DESCRIPTION:Sunday Blues\, as Usual!\nDon’t miss out 🎙 \nBand charge $8 \nFor reservations\, please call this number 👇🏼\n+961 70 211 299
URL:https://gobatroun.com/event/blubox-at-barrio-3/
LOCATION:Barrio67
CATEGORIES:Performing Arts
ATTACH;FMTTYPE=image/png:https://gobatroun.com/wp-content/uploads/2023/11/Screenshot-2442.png
END:VEVENT
BEGIN:VEVENT
DTSTART;TZID=Asia/Beirut:20231104T210000
DTEND;TZID=Asia/Beirut:20231104T210000
DTSTAMP:20260422T173325
CREATED:20231101T062749Z
LAST-MODIFIED:20231101T062749Z
UID:10005103-1699131600-1699131600@gobatroun.com
SUMMARY:Dear Ear Band at Barrio
DESCRIPTION:Dear Ear Returns! 🎤\nJoin us this Saturday for another live performance this season. \nBand charge $8 \nFor reservations\, please call this number 👇🏼\n+961 70 211 299
URL:https://gobatroun.com/event/dear-ear-band-at-barrio/
LOCATION:Barrio67
CATEGORIES:Performing Arts
ATTACH;FMTTYPE=image/png:https://gobatroun.com/wp-content/uploads/2023/11/Screenshot-2413.png
END:VEVENT
BEGIN:VEVENT
DTSTART;TZID=Asia/Beirut:20231103T200000
DTEND;TZID=Asia/Beirut:20231103T200000
DTSTAMP:20260422T173325
CREATED:20231101T063029Z
LAST-MODIFIED:20231101T063029Z
UID:10005104-1699041600-1699041600@gobatroun.com
SUMMARY:Moules et Frites and Wine Night at Barrio
DESCRIPTION:New Friday Tradition Alert 🍴🥂 \nOur Moules et Frites and Wine Night has moved to Fridays. Start your weekend right! \n*$30 per person*\nFor reservations\, please call this number 👇🏼\n+961 70 211 299
URL:https://gobatroun.com/event/moules-et-frites-and-wine-night-at-barrio/
LOCATION:Barrio67
CATEGORIES:Performing Arts
ATTACH;FMTTYPE=image/png:https://gobatroun.com/wp-content/uploads/2023/11/Screenshot-2415.png
END:VEVENT
BEGIN:VEVENT
DTSTART;TZID=Asia/Beirut:20231102T210000
DTEND;TZID=Asia/Beirut:20231102T210000
DTSTAMP:20260422T173325
CREATED:20231102T065701Z
LAST-MODIFIED:20231102T065701Z
UID:10005108-1698958800-1698958800@gobatroun.com
SUMMARY:Dj  Bob and Selim at Barrio
DESCRIPTION:Introducing Drunky Thursday!\nKickstart your weekend early with our newest tradition. Don’t miss it 🍻 \nFor reservations and inquiries on our open bar formula\, please call this number 👇🏼\n+961 70 211 299
URL:https://gobatroun.com/event/dj-bob-and-selim-at-barrio/2023-11-02/
LOCATION:Barrio67
CATEGORIES:Performing Arts
ATTACH;FMTTYPE=image/jpeg:https://gobatroun.com/wp-content/uploads/2023/11/WhatsApp-Image-2023-11-02-at-08.44.19_d69402b2.jpg
END:VEVENT
BEGIN:VEVENT
DTSTART;TZID=Asia/Beirut:20231029T210000
DTEND;TZID=Asia/Beirut:20231029T210000
DTSTAMP:20260422T173325
CREATED:20231027T080056Z
LAST-MODIFIED:20231027T080056Z
UID:10005088-1698613200-1698613200@gobatroun.com
SUMMARY:BluBox at Barrio
DESCRIPTION:Get Ready for Sunday Blues! 🔥🎷\nJoin us as we welcome back @bluboxband this Sunday for another night. See you! \nBand charge $8 \nFor reservations\, please call this number 👇🏼\n+961 70 211 299
URL:https://gobatroun.com/event/blubox-at-barrio-2/
LOCATION:Barrio67
CATEGORIES:Performing Arts
ATTACH;FMTTYPE=image/png:https://gobatroun.com/wp-content/uploads/2023/10/Screenshot-2406.png
END:VEVENT
BEGIN:VEVENT
DTSTART;TZID=Asia/Beirut:20231028T210000
DTEND;TZID=Asia/Beirut:20231028T210000
DTSTAMP:20260422T173325
CREATED:20231026T085817Z
LAST-MODIFIED:20231026T085817Z
UID:10005083-1698526800-1698526800@gobatroun.com
SUMMARY:Mariam and thhe Band at Barrio
DESCRIPTION:Back for More! 🎤\n@mariam.mezher returns this Saturday\, ready to charm you with her soulful tunes. \nBand charge $8 \nFor reservations\, please call this number 👇🏼\n+961 70 211 299
URL:https://gobatroun.com/event/mariam-and-thhe-band-at-barrio/
LOCATION:Barrio67
CATEGORIES:Performing Arts
ATTACH;FMTTYPE=image/png:https://gobatroun.com/wp-content/uploads/2023/10/Screenshot-2392.png
END:VEVENT
BEGIN:VEVENT
DTSTART;TZID=Asia/Beirut:20231022T210000
DTEND;TZID=Asia/Beirut:20231022T210000
DTSTAMP:20260422T173325
CREATED:20231020T094605Z
LAST-MODIFIED:20231020T094605Z
UID:10005068-1698008400-1698008400@gobatroun.com
SUMMARY:bluBox at Barrio
DESCRIPTION:We’re excited to have @bluboxband back this Sunday delivering the blues like no other.\nDon’t miss it! \n@guy_ramy\n@jihadboustany\n@faressokhon\n@ahmad_rajjj\n@elias_bluesician \nBand charge $8 \nFor reservations\, please call this number 👇🏼\n+961 70 211 299
URL:https://gobatroun.com/event/blubox-at-barrio/
LOCATION:Barrio67
CATEGORIES:Performing Arts
ATTACH;FMTTYPE=image/png:https://gobatroun.com/wp-content/uploads/2023/10/Screenshot-2373.png
END:VEVENT
BEGIN:VEVENT
DTSTART;TZID=Asia/Beirut:20231021T210000
DTEND;TZID=Asia/Beirut:20231021T210000
DTSTAMP:20260422T173325
CREATED:20231020T094430Z
LAST-MODIFIED:20231020T094430Z
UID:10005067-1697922000-1697922000@gobatroun.com
SUMMARY:Halah Banna at Barrio
DESCRIPTION:Join us this Saturday\, October 21st\, as we welcome back the sensational @halahlb 🎙 \nBand charge $8 \nFor reservations\, please call this number 👇🏼\n+961 70 211 299
URL:https://gobatroun.com/event/halah-banna-at-barrio-2/
LOCATION:Barrio67
CATEGORIES:Performing Arts
ATTACH;FMTTYPE=image/png:https://gobatroun.com/wp-content/uploads/2023/10/Screenshot-2372.png
END:VEVENT
BEGIN:VEVENT
DTSTART;TZID=Asia/Beirut:20231014T210000
DTEND;TZID=Asia/Beirut:20231014T210000
DTSTAMP:20260422T173325
CREATED:20231012T103254Z
LAST-MODIFIED:20231012T103254Z
UID:10005047-1697317200-1697317200@gobatroun.com
SUMMARY:Mariam Mezher and The Band at Barrio
DESCRIPTION:Back by Popular Demand 🎤\nWe’re excited to have @mariam.mezher back on stage this weekend. Join us!
URL:https://gobatroun.com/event/mariam-mezher-and-the-band-at-barrio/
LOCATION:Barrio67
CATEGORIES:Performing Arts
ATTACH;FMTTYPE=image/png:https://gobatroun.com/wp-content/uploads/2023/10/Screenshot-2334.png
END:VEVENT
BEGIN:VEVENT
DTSTART;TZID=Asia/Beirut:20231007T210000
DTEND;TZID=Asia/Beirut:20231007T210000
DTSTAMP:20260422T173325
CREATED:20231005T083116Z
LAST-MODIFIED:20231005T083116Z
UID:10005028-1696712400-1696712400@gobatroun.com
SUMMARY:Halah Banna at Barrio
DESCRIPTION:Join us this Saturday as we welcome back Halah Banna for our second live event this season 🎤✨ \nBand charge $5 \nFor reservations\, please call this number 👇🏼\n+961 70 211 299
URL:https://gobatroun.com/event/halah-banna-at-barrio/
LOCATION:Barrio67
CATEGORIES:Performing Arts
ATTACH;FMTTYPE=image/png:https://gobatroun.com/wp-content/uploads/2023/10/Screenshot-2295.png
END:VEVENT
BEGIN:VEVENT
DTSTART;TZID=Asia/Beirut:20230930T210000
DTEND;TZID=Asia/Beirut:20230930T210000
DTSTAMP:20260422T173325
CREATED:20230928T054113Z
LAST-MODIFIED:20230928T054113Z
UID:10004978-1696107600-1696107600@gobatroun.com
SUMMARY:Mariam And The Band at Barrio
DESCRIPTION:The Wait Is Over! 🥁🎸 \nLive bands are back on Barrio’s stage\, and we’re thrilled to have @mariam.mezher leading the way this Saturday. See you 💚 \nBand Charge $8 per person.
URL:https://gobatroun.com/event/mariam-and-the-band-at-barrio/
LOCATION:Barrio67
CATEGORIES:Performing Arts
ATTACH;FMTTYPE=image/png:https://gobatroun.com/wp-content/uploads/2023/09/Screenshot-2234.png
END:VEVENT
BEGIN:VEVENT
DTSTART;TZID=Asia/Beirut:20230704T210000
DTEND;TZID=Asia/Beirut:20230704T210000
DTSTAMP:20260422T173325
CREATED:20230713T080503Z
LAST-MODIFIED:20230713T082147Z
UID:10003964-1688504400-1688504400@gobatroun.com
SUMMARY:Monokultur at Barrio67
DESCRIPTION:
URL:https://gobatroun.com/event/monokultur-at-barrio67/
LOCATION:Barrio67
ATTACH;FMTTYPE=image/png:https://gobatroun.com/wp-content/uploads/2023/07/Screenshot-1276.png
END:VEVENT
BEGIN:VEVENT
DTSTART;TZID=Asia/Beirut:20230622T090000
DTEND;TZID=Asia/Beirut:20230622T233000
DTSTAMP:20260422T173325
CREATED:20230713T080335Z
LAST-MODIFIED:20230713T091839Z
UID:10004164-1687424400-1687476600@gobatroun.com
SUMMARY:Moules and Frites at Barrio67
DESCRIPTION:
URL:https://gobatroun.com/event/moules-and-frites-at-barrio67-18/
LOCATION:Barrio67
CATEGORIES:Performing Arts
ATTACH;FMTTYPE=image/jpeg:https://gobatroun.com/wp-content/uploads/2023/07/WhatsApp-Image-2023-03-28-at-21.22.56.jpg
END:VEVENT
BEGIN:VEVENT
DTSTART;TZID=Asia/Beirut:20230608T090000
DTEND;TZID=Asia/Beirut:20230608T233000
DTSTAMP:20260422T173325
CREATED:20230605T132524Z
LAST-MODIFIED:20230713T100901Z
UID:10003529-1686214800-1686267000@gobatroun.com
SUMMARY:Moules and Frites at Barrio67
DESCRIPTION:
URL:https://gobatroun.com/event/moules-and-frites-at-barrio67-11/
LOCATION:Barrio67
CATEGORIES:Performing Arts
ATTACH;FMTTYPE=image/jpeg:https://gobatroun.com/wp-content/uploads/2023/03/WhatsApp-Image-2023-03-28-at-21.22.56.jpg
END:VEVENT
BEGIN:VEVENT
DTSTART;TZID=Asia/Beirut:20230603T210000
DTEND;TZID=Asia/Beirut:20230603T210000
DTSTAMP:20260422T173325
CREATED:20230602T150012Z
LAST-MODIFIED:20230712T102528Z
UID:10003520-1685826000-1685826000@gobatroun.com
SUMMARY:DEAR EAR BAND at Barrio67
DESCRIPTION:Get ready for an unforgettable Saturday night as the incredible @dearearband returns to Barrio67!Join us for a live performance filled with soulful melodies\, electrifying energy\, and musical brilliance. \nBand charge $5 \nFor reservations\, please call this number 👇🏼\n+961 70 211 299
URL:https://gobatroun.com/event/dear-ear-band-at-barrio67-2/
LOCATION:Barrio67
CATEGORIES:Performing Arts
ATTACH;FMTTYPE=image/png:https://gobatroun.com/wp-content/uploads/2023/07/Screenshot-893-xU9PIl.tmp_.png
END:VEVENT
BEGIN:VEVENT
DTSTART;TZID=Asia/Beirut:20230601T090000
DTEND;TZID=Asia/Beirut:20230601T233000
DTSTAMP:20260422T173325
CREATED:20230529T132446Z
LAST-MODIFIED:20230529T132446Z
UID:10003357-1685610000-1685662200@gobatroun.com
SUMMARY:Moules and Frites at Barrio67
DESCRIPTION:
URL:https://gobatroun.com/event/moules-and-frites-at-barrio67-10/
LOCATION:Barrio67
CATEGORIES:Performing Arts
ATTACH;FMTTYPE=image/jpeg:https://gobatroun.com/wp-content/uploads/2023/03/WhatsApp-Image-2023-03-28-at-21.22.56.jpg
END:VEVENT
BEGIN:VEVENT
DTSTART;TZID=Asia/Beirut:20230531T200000
DTEND;TZID=Asia/Beirut:20230531T200000
DTSTAMP:20260422T173325
CREATED:20230531T131257Z
LAST-MODIFIED:20230531T131257Z
UID:10003383-1685563200-1685563200@gobatroun.com
SUMMARY:Monokul Tur at Barrio67
DESCRIPTION:
URL:https://gobatroun.com/event/monokul-tur-at-barrio67/
LOCATION:Barrio67
CATEGORIES:Performing Arts
ATTACH;FMTTYPE=image/png:https://gobatroun.com/wp-content/uploads/2023/05/Screenshot-865.png
END:VEVENT
BEGIN:VEVENT
DTSTART;TZID=Asia/Beirut:20230528T203000
DTEND;TZID=Asia/Beirut:20230528T203000
DTSTAMP:20260422T173325
CREATED:20230526T143820Z
LAST-MODIFIED:20230526T143820Z
UID:10003350-1685305800-1685305800@gobatroun.com
SUMMARY:BluBox at Barrio67
DESCRIPTION:Let the soulful sounds of BluBox fill your Sunday evening as they take the stage for their last performance this season.\nIt’s going to be an unforgettable farewell. \n@guy_ramy\n@jihadboustany\n@faressokhon\n@ahmad_rajjj\n@elias_bluesician \nBand charge $5 \nFor reservations\, please call this number 👇🏼\n+961 70 211 299
URL:https://gobatroun.com/event/blubox-at-barrio67/
LOCATION:Barrio67
CATEGORIES:Performing Arts
ATTACH;FMTTYPE=image/png:https://gobatroun.com/wp-content/uploads/2023/05/Screenshot-821.png
END:VEVENT
BEGIN:VEVENT
DTSTART;TZID=Asia/Beirut:20230527T203000
DTEND;TZID=Asia/Beirut:20230527T203000
DTSTAMP:20260422T173325
CREATED:20230526T143608Z
LAST-MODIFIED:20230526T143608Z
UID:10003349-1685219400-1685219400@gobatroun.com
SUMMARY:Halah at Barrio67
DESCRIPTION:Saturday just got a whole lot better! @halahbanna is back at Barrio\, ready to enchant you with her incredible voice and powerful performance 🎙️🎶 \nBand charge $5 \nFor reservations\, please call this number 👇🏼\n+961 70 211 299
URL:https://gobatroun.com/event/halah-at-barrio67/
LOCATION:Barrio67
CATEGORIES:Performing Arts
ATTACH;FMTTYPE=image/png:https://gobatroun.com/wp-content/uploads/2023/05/Screenshot-820.png
END:VEVENT
BEGIN:VEVENT
DTSTART;TZID=Asia/Beirut:20230525T090000
DTEND;TZID=Asia/Beirut:20230525T233000
DTSTAMP:20260422T173325
CREATED:20230523T132325Z
LAST-MODIFIED:20230523T132325Z
UID:10002397-1685005200-1685057400@gobatroun.com
SUMMARY:Moules and Frites at Barrio67
DESCRIPTION:
URL:https://gobatroun.com/event/moules-and-frites-at-barrio67-9/
LOCATION:Barrio67
CATEGORIES:Performing Arts
ATTACH;FMTTYPE=image/jpeg:https://gobatroun.com/wp-content/uploads/2023/03/WhatsApp-Image-2023-03-28-at-21.22.56.jpg
END:VEVENT
BEGIN:VEVENT
DTSTART;TZID=Asia/Beirut:20230520T210000
DTEND;TZID=Asia/Beirut:20230520T210000
DTSTAMP:20260422T173325
CREATED:20230519T123411Z
LAST-MODIFIED:20230519T123411Z
UID:10002381-1684616400-1684616400@gobatroun.com
SUMMARY:Stephanie Zeidan at Barrio67
DESCRIPTION:Join us at Barrio this Saturday as @stephaniezeidan.sz takes the stage once again\, delivering an unforgettable live performance you won’t want to miss. \nBand charge $5 \nFor reservations\, please call this number 👇🏼\n+961 70 211 299
URL:https://gobatroun.com/event/stephanie-zeidan-at-barrio67-3/
LOCATION:Barrio67
CATEGORIES:Performing Arts
ATTACH;FMTTYPE=image/png:https://gobatroun.com/wp-content/uploads/2023/05/Screenshot-775.png
END:VEVENT
BEGIN:VEVENT
DTSTART;TZID=Asia/Beirut:20230518T090000
DTEND;TZID=Asia/Beirut:20230518T233000
DTSTAMP:20260422T173325
CREATED:20230515T131520Z
LAST-MODIFIED:20230515T131618Z
UID:10002348-1684400400-1684452600@gobatroun.com
SUMMARY:Moules and Frites at Barrio67
DESCRIPTION:
URL:https://gobatroun.com/event/moules-and-frites-at-barrio67-8/
LOCATION:Barrio67
CATEGORIES:Performing Arts
ATTACH;FMTTYPE=image/jpeg:https://gobatroun.com/wp-content/uploads/2023/03/WhatsApp-Image-2023-03-28-at-21.22.56.jpg
END:VEVENT
BEGIN:VEVENT
DTSTART;TZID=Asia/Beirut:20230514T200000
DTEND;TZID=Asia/Beirut:20230514T200000
DTSTAMP:20260422T173325
CREATED:20230512T142202Z
LAST-MODIFIED:20230512T142202Z
UID:10002341-1684094400-1684094400@gobatroun.com
SUMMARY:Blue Box at Barrio67
DESCRIPTION:What better way to end the weekend than with the soulful tunes of Blue Box?\nJoin us this Sunday and let the music soothe your soul. \n@guy_ramy\n@jihadboustany\n@faressokhon\n@ahmad_rajjj\n@elias_bluesician \nBand charge $5 \nFor reservations\, please call this number 👇🏼\n+961 70 211 299
URL:https://gobatroun.com/event/blue-box-at-barrio67/
LOCATION:Barrio67
CATEGORIES:Performing Arts
ATTACH;FMTTYPE=image/png:https://gobatroun.com/wp-content/uploads/2023/05/Screenshot-710.png
END:VEVENT
BEGIN:VEVENT
DTSTART;TZID=Asia/Beirut:20230513T210000
DTEND;TZID=Asia/Beirut:20230513T210000
DTSTAMP:20260422T173325
CREATED:20230512T141904Z
LAST-MODIFIED:20230512T141904Z
UID:10002340-1684011600-1684011600@gobatroun.com
SUMMARY:Mariam Mezher at Barrio 67
DESCRIPTION:Get ready to groove again this Saturday with @mariam.mezher live performance at Barrio! \nBand charge $5 \nFor reservations\, please call this number 👇🏼\n+961 70 211 299
URL:https://gobatroun.com/event/mariam-mezher-at-barrio-67/
LOCATION:Barrio67
CATEGORIES:Performing Arts
ATTACH;FMTTYPE=image/png:https://gobatroun.com/wp-content/uploads/2023/05/Screenshot-709.png
END:VEVENT
END:VCALENDAR