BEGIN:VCALENDAR
VERSION:2.0
PRODID:-//Go Batroun - ECPv6.14.2//NONSGML v1.0//EN
CALSCALE:GREGORIAN
METHOD:PUBLISH
X-ORIGINAL-URL:https://gobatroun.com
X-WR-CALDESC:Events for Go Batroun
REFRESH-INTERVAL;VALUE=DURATION:PT1H
X-Robots-Tag:noindex
X-PUBLISHED-TTL:PT1H
BEGIN:VTIMEZONE
TZID:Asia/Beirut
BEGIN:DAYLIGHT
TZOFFSETFROM:+0200
TZOFFSETTO:+0300
TZNAME:EEST
DTSTART:20230325T220000
END:DAYLIGHT
BEGIN:STANDARD
TZOFFSETFROM:+0300
TZOFFSETTO:+0200
TZNAME:EET
DTSTART:20231028T210000
END:STANDARD
END:VTIMEZONE
BEGIN:VEVENT
DTSTART;TZID=Asia/Beirut:20230203T220000
DTEND;TZID=Asia/Beirut:20230203T220000
DTSTAMP:20260421T002730
CREATED:20230131T074122Z
LAST-MODIFIED:20230131T074122Z
UID:10001864-1675461600-1675461600@gobatroun.com
SUMMARY:Dj Steve Salameh at B1 Batroun
DESCRIPTION:
URL:https://gobatroun.com/event/dj-steve-salameh-at-b1-batroun-2/
LOCATION:B1 Batroun
CATEGORIES:Performing Arts
ATTACH;FMTTYPE=image/png:https://gobatroun.com/wp-content/uploads/2023/01/Screenshot-2565.png
END:VEVENT
BEGIN:VEVENT
DTSTART;TZID=Asia/Beirut:20230128T220000
DTEND;TZID=Asia/Beirut:20230128T220000
DTSTAMP:20260421T002730
CREATED:20230125T093432Z
LAST-MODIFIED:20230125T093624Z
UID:10001831-1674943200-1674943200@gobatroun.com
SUMMARY:DJ Armen Avakian at B1 Batroun
DESCRIPTION:
URL:https://gobatroun.com/event/dj-armen-avakian-at-b1-batroun/
LOCATION:B1 Batroun
CATEGORIES:Performing Arts
ATTACH;FMTTYPE=image/png:https://gobatroun.com/wp-content/uploads/2023/01/Screenshot-2561.png
END:VEVENT
BEGIN:VEVENT
DTSTART;TZID=Asia/Beirut:20230127T220000
DTEND;TZID=Asia/Beirut:20230127T220000
DTSTAMP:20260421T002730
CREATED:20230125T093604Z
LAST-MODIFIED:20230125T093604Z
UID:10001832-1674856800-1674856800@gobatroun.com
SUMMARY:Dj Steve Salameh at B1 Batroun
DESCRIPTION:
URL:https://gobatroun.com/event/dj-steve-salameh-at-b1-batroun/
LOCATION:B1 Batroun
CATEGORIES:Performing Arts
ATTACH;FMTTYPE=image/png:https://gobatroun.com/wp-content/uploads/2023/01/Screenshot-2565.png
END:VEVENT
END:VCALENDAR