BEGIN:VCALENDAR
VERSION:2.0
PRODID:-//Go Batroun - ECPv6.14.2//NONSGML v1.0//EN
CALSCALE:GREGORIAN
METHOD:PUBLISH
X-ORIGINAL-URL:https://gobatroun.com
X-WR-CALDESC:Events for Go Batroun
REFRESH-INTERVAL;VALUE=DURATION:PT1H
X-Robots-Tag:noindex
X-PUBLISHED-TTL:PT1H
BEGIN:VTIMEZONE
TZID:Asia/Beirut
BEGIN:DAYLIGHT
TZOFFSETFROM:+0200
TZOFFSETTO:+0300
TZNAME:EEST
DTSTART:20230325T220000
END:DAYLIGHT
BEGIN:STANDARD
TZOFFSETFROM:+0300
TZOFFSETTO:+0200
TZNAME:EET
DTSTART:20231028T210000
END:STANDARD
END:VTIMEZONE
BEGIN:VEVENT
DTSTART;TZID=Asia/Beirut:20230126T180000
DTEND;TZID=Asia/Beirut:20230126T180000
DTSTAMP:20260423T031903
CREATED:20230125T114038Z
LAST-MODIFIED:20230125T114038Z
UID:10001833-1674756000-1674756000@gobatroun.com
SUMMARY:Zumba classes with Ayda Zumba at 360fit Batroun
DESCRIPTION:Who said we can’t burn calories while having fun?😌 \nIt’s a whole new level of Zumba classes\, It’s “Judansing Freely”.\nTo know more about this class\, please join us for a FREE trial class on Thursday January 26th\, 2023 at 6 pm at 360fit Batroun\, San Stephano Hotel.\nI am waiting for you all😍
URL:https://gobatroun.com/event/zumba-classes-with-ayda-zumba-at-360fit-batroun/
LOCATION:360 Batroun
CATEGORIES:Performing Arts,Sports
ATTACH;FMTTYPE=image/png:https://gobatroun.com/wp-content/uploads/2023/01/Screenshot-2566.png
END:VEVENT
END:VCALENDAR