BEGIN:VCALENDAR
VERSION:2.0
PRODID:-//Go Batroun - ECPv6.14.2//NONSGML v1.0//EN
CALSCALE:GREGORIAN
METHOD:PUBLISH
X-WR-CALNAME:Go Batroun
X-ORIGINAL-URL:https://gobatroun.com
X-WR-CALDESC:Events for Go Batroun
REFRESH-INTERVAL;VALUE=DURATION:PT1H
X-Robots-Tag:noindex
X-PUBLISHED-TTL:PT1H
BEGIN:VTIMEZONE
TZID:Asia/Beirut
BEGIN:DAYLIGHT
TZOFFSETFROM:+0200
TZOFFSETTO:+0300
TZNAME:EEST
DTSTART:20250329T220000
END:DAYLIGHT
BEGIN:STANDARD
TZOFFSETFROM:+0300
TZOFFSETTO:+0200
TZNAME:EET
DTSTART:20251025T210000
END:STANDARD
END:VTIMEZONE
BEGIN:VEVENT
DTSTART;VALUE=DATE:20250711
DTEND;VALUE=DATE:20250715
DTSTAMP:20260421T050404
CREATED:20250513T065825Z
LAST-MODIFIED:20250709T092439Z
UID:10006972-1752213600-1752472799@gobatroun.com
SUMMARY:Aegis Festival 2025
DESCRIPTION:Returning this summer for its third edition\, Aegis Festival is a 3-day music festival that celebrates the universal language of music. Serving as a sanctuary\, it is a transformational experience providing an opportunity for self-discovery through music. \n️Ticketing link
URL:https://gobatroun.com/event/aegis-festival-3/
LOCATION:Arnaoon Village\, 7MCV+77 Batroun\, Batroun\, Lebanon
CATEGORIES:Festivals
ATTACH;FMTTYPE=image/webp:https://gobatroun.com/wp-content/uploads/2025/05/Aegis-festival-11-12-13-july.webp
END:VEVENT
BEGIN:VEVENT
DTSTART;TZID=Asia/Beirut:20250716T210000
DTEND;TZID=Asia/Beirut:20250716T210000
DTSTAMP:20260421T050404
CREATED:20250716T085810Z
LAST-MODIFIED:20250716T085810Z
UID:10007088-1752699600-1752699600@gobatroun.com
SUMMARY:Amigos 5th Anniversary
DESCRIPTION:5 years of flavor\, rhythm\, and unforgettable nights  \nTurning up the heat this July 16 with Jose Carlos live from Cuba\, joined by CuBan’d and a special DJ set by Jād to keep the night going  \nBook now: +961 76 888 515
URL:https://gobatroun.com/event/amigos-5th-anniversary/
LOCATION:Pierre Y Amigos
CATEGORIES:Performing Arts
ATTACH;FMTTYPE=image/webp:https://gobatroun.com/wp-content/uploads/2025/07/pierre-y-amigos-16-jul.webp
END:VEVENT
BEGIN:VEVENT
DTSTART;TZID=Asia/Beirut:20250717T210000
DTEND;TZID=Asia/Beirut:20250717T210000
DTSTAMP:20260421T050404
CREATED:20250716T085445Z
LAST-MODIFIED:20250716T085445Z
UID:10007086-1752786000-1752786000@gobatroun.com
SUMMARY:Karaoke Night at Fay Batroun
DESCRIPTION:Bring your voice we’ve got the vibe!\nJoin Fay Batroun on Thursday\, July 17 for a karaoke night at #Fay #Batroun \nRSVP 71614162
URL:https://gobatroun.com/event/karaoke-night-at-fay-batroun/
LOCATION:Fay Batroun\, 7M46+Q2 Batroun\, Batroun\, Lebanon
CATEGORIES:Performing Arts
ATTACH;FMTTYPE=image/webp:https://gobatroun.com/wp-content/uploads/2025/07/fay-batroun-17-jul.webp
END:VEVENT
BEGIN:VEVENT
DTSTART;TZID=Asia/Beirut:20250718T190000
DTEND;TZID=Asia/Beirut:20250718T190000
DTSTAMP:20260421T050404
CREATED:20250716T085627Z
LAST-MODIFIED:20250716T085627Z
UID:10007087-1752865200-1752865200@gobatroun.com
SUMMARY:The Twin at Hangloose
DESCRIPTION:The long-awaited event of the season is here!  @andredargham & @alaindargham The twins are taking over Hangloose this Friday for a Birthday Bash with @dantonattieh & @daddyb_ 
URL:https://gobatroun.com/event/the-twin-at-hangloose/
LOCATION:HANGLOOSE\, 6MW6+PQ Batroun\, Batroun\, Lebanon
CATEGORIES:Performing Arts
ATTACH;FMTTYPE=image/webp:https://gobatroun.com/wp-content/uploads/2025/07/hangloose-18-jul.webp
ORGANIZER;CN="HANGLOOSE":MAILTO:contact@info.com
GEO:34.246771332534;35.661930198875
X-APPLE-STRUCTURED-LOCATION;VALUE=URI;X-ADDRESS=HANGLOOSE 6MW6+PQ Batroun Batroun Lebanon;X-APPLE-RADIUS=500;X-TITLE=6MW6+PQ Batroun:geo:35.661930198875,34.246771332534
END:VEVENT
BEGIN:VEVENT
DTSTART;TZID=Asia/Beirut:20250718T220000
DTEND;TZID=Asia/Beirut:20250718T220000
DTSTAMP:20260421T050404
CREATED:20250716T085153Z
LAST-MODIFIED:20250716T085255Z
UID:10007084-1752876000-1752876000@gobatroun.com
SUMMARY:Sergi at IGAZU
DESCRIPTION:Rooftop vibes this Friday ✨ \nRSVP 03 486 304\nThoum\, Batroun
URL:https://gobatroun.com/event/sergi-at-igazu-2/
CATEGORIES:Performing Arts
ATTACH;FMTTYPE=image/webp:https://gobatroun.com/wp-content/uploads/2025/07/igazu-18-jul.webp
END:VEVENT
BEGIN:VEVENT
DTSTART;TZID=Asia/Beirut:20250719T100000
DTEND;TZID=Asia/Beirut:20250719T113000
DTSTAMP:20260421T050404
CREATED:20250716T084434Z
LAST-MODIFIED:20250716T084434Z
UID:10007081-1752919200-1752924600@gobatroun.com
SUMMARY:Pilates at the Beach - Colonel Reef
DESCRIPTION:Join Maysaa Hakim at the beach for a signature BREATHE & TONE mat Pilates class!\nGet your mats ready !\n Strengthen\, stretch\, and breathe by the sea ✨ \n Duration: 1h 30 min\n @colonelreefbatroun\n July 19\, 2025\n⏰ 10:00 AM\n️ $18 \nLed by @maysaahak\nPhysiotherapist | MS Chinese Medicine\nManual Therapy | Pilates | Sports Rehab \nBy reservations only.
URL:https://gobatroun.com/event/pilates-at-the-beach-colonel-reef/
LOCATION:Colonel Reef\, 6MX5+R2 Batroun\, Batroun\, Lebanon
CATEGORIES:Sports
ATTACH;FMTTYPE=image/webp:https://gobatroun.com/wp-content/uploads/2025/07/colonel-reef-19-jul.webp
GEO:34.249604995751;35.657635266722
X-APPLE-STRUCTURED-LOCATION;VALUE=URI;X-ADDRESS=Colonel Reef 6MX5+R2 Batroun Batroun Lebanon;X-APPLE-RADIUS=500;X-TITLE=6MX5+R2 Batroun:geo:35.657635266722,34.249604995751
END:VEVENT
BEGIN:VEVENT
DTSTART;TZID=Asia/Beirut:20250719T193000
DTEND;TZID=Asia/Beirut:20250719T193000
DTSTAMP:20260421T050404
CREATED:20250716T084630Z
LAST-MODIFIED:20250716T084630Z
UID:10007082-1752953400-1752953400@gobatroun.com
SUMMARY:Blue Moon at Colonel Reef
DESCRIPTION:Kicking off this year’s lineup is no other than the marvelous Blu Radio✨ New to the scene and ready to make a splashTheir dreamy sounds and soft vocals are surely gonna knock you off your feet. Ps: Watch out for their unreleased tracks.
URL:https://gobatroun.com/event/blue-moon-at-colonel-reef/
LOCATION:Colonel Reef\, 6MX5+R2 Batroun\, Batroun\, Lebanon
CATEGORIES:Performing Arts
ATTACH;FMTTYPE=image/webp:https://gobatroun.com/wp-content/uploads/2025/07/colonel-19-jul.webp
GEO:34.249604995751;35.657635266722
X-APPLE-STRUCTURED-LOCATION;VALUE=URI;X-ADDRESS=Colonel Reef 6MX5+R2 Batroun Batroun Lebanon;X-APPLE-RADIUS=500;X-TITLE=6MX5+R2 Batroun:geo:35.657635266722,34.249604995751
END:VEVENT
BEGIN:VEVENT
DTSTART;TZID=Asia/Beirut:20250719T220000
DTEND;TZID=Asia/Beirut:20250719T220000
DTSTAMP:20260421T050404
CREATED:20250716T085323Z
LAST-MODIFIED:20250716T085323Z
UID:10007085-1752962400-1752962400@gobatroun.com
SUMMARY:Peet at IGAZU
DESCRIPTION:Saturday’s soundtrack is lit  \nRSVP 03 486 304\nThoum\, Batroun
URL:https://gobatroun.com/event/peet-at-igazu/
CATEGORIES:Performing Arts
ATTACH;FMTTYPE=image/webp:https://gobatroun.com/wp-content/uploads/2025/07/igazu-19-jul.webp
END:VEVENT
BEGIN:VEVENT
DTSTART;TZID=Asia/Beirut:20250720T180000
DTEND;TZID=Asia/Beirut:20250720T180000
DTSTAMP:20260421T050404
CREATED:20250716T090015Z
LAST-MODIFIED:20250716T090015Z
UID:10007089-1753034400-1753034400@gobatroun.com
SUMMARY:Après Sea at Pierre & Friends
DESCRIPTION:Another Sunday\, another vibe.\nAli Farahani x Jād take over Après Sea this weekend  \n Reservations ‪+961 3 352 930‬\n Cheers
URL:https://gobatroun.com/event/apres-sea-at-pierre-friends-4/
LOCATION:Pierre and Friends\, 6J6X+XQ Madfoun\, Batroun\, Lebanon
CATEGORIES:Performing Arts
ATTACH;FMTTYPE=image/webp:https://gobatroun.com/wp-content/uploads/2025/07/pierre-friends-20-jul.webp
GEO:34.212423239859;35.649460262694
X-APPLE-STRUCTURED-LOCATION;VALUE=URI;X-ADDRESS=Pierre and Friends 6J6X+XQ Madfoun Batroun Lebanon;X-APPLE-RADIUS=500;X-TITLE=6J6X+XQ Madfoun:geo:35.649460262694,34.212423239859
END:VEVENT
BEGIN:VEVENT
DTSTART;TZID=Asia/Beirut:20250720T210000
DTEND;TZID=Asia/Beirut:20250720T210000
DTSTAMP:20260421T050404
CREATED:20250716T084807Z
LAST-MODIFIED:20250716T084807Z
UID:10007083-1753045200-1753045200@gobatroun.com
SUMMARY:Chady Aidamouny at Merchak Bel Souk
DESCRIPTION:Sunday nights sound better with @chadyaidamouny.official on the oud at #MerchakBelSouk.
URL:https://gobatroun.com/event/chady-aidamouny-at-merchak-bel-souk-3/
LOCATION:Merchak بالسوق
CATEGORIES:Performing Arts
ATTACH;FMTTYPE=image/webp:https://gobatroun.com/wp-content/uploads/2025/07/merchak-bel-souk-20-jul.webp
END:VEVENT
END:VCALENDAR