BEGIN:VCALENDAR
VERSION:2.0
PRODID:-//Go Batroun - ECPv6.14.2//NONSGML v1.0//EN
CALSCALE:GREGORIAN
METHOD:PUBLISH
X-WR-CALNAME:Go Batroun
X-ORIGINAL-URL:https://gobatroun.com
X-WR-CALDESC:Events for Go Batroun
REFRESH-INTERVAL;VALUE=DURATION:PT1H
X-Robots-Tag:noindex
X-PUBLISHED-TTL:PT1H
BEGIN:VTIMEZONE
TZID:Asia/Beirut
BEGIN:DAYLIGHT
TZOFFSETFROM:+0200
TZOFFSETTO:+0300
TZNAME:EEST
DTSTART:20250329T220000
END:DAYLIGHT
BEGIN:STANDARD
TZOFFSETFROM:+0300
TZOFFSETTO:+0200
TZNAME:EET
DTSTART:20251025T210000
END:STANDARD
END:VTIMEZONE
BEGIN:VEVENT
DTSTART;TZID=Asia/Beirut:20250612T090000
DTEND;TZID=Asia/Beirut:20250612T090000
DTSTAMP:20260420T033031
CREATED:20250605T130655Z
LAST-MODIFIED:20250605T130655Z
UID:10007004-1749718800-1749718800@gobatroun.com
SUMMARY:Fuel Your Body
DESCRIPTION:Join @darinerouhana for a morning workout at Fay Batroun Garden.\n June 12 |  9AM |$20 incl. breakfast\n‍♀️ Bring your mat\n Reserve now: 71 614 162
URL:https://gobatroun.com/event/fuel-your-body/
LOCATION:Fay Batroun\, 7M46+Q2 Batroun\, Batroun\, Lebanon
CATEGORIES:Sports
ATTACH;FMTTYPE=image/webp:https://gobatroun.com/wp-content/uploads/2025/06/Fay-Batroun-12-june.webp
END:VEVENT
BEGIN:VEVENT
DTSTART;TZID=Asia/Beirut:20250613T210000
DTEND;TZID=Asia/Beirut:20250613T210000
DTSTAMP:20260420T033031
CREATED:20250612T111457Z
LAST-MODIFIED:20250612T111457Z
UID:10007012-1749848400-1749848400@gobatroun.com
SUMMARY:DJ Moshka & Skandar at Colonel
DESCRIPTION:Next Friday June 13th! An electrifying night with Skandar and DJ Moshka⚡️ \nSkandar is a French-Lebanese percussionist and trumpet player blending West African rhythms with jazz and electronic music\, creating a unique Afro-Oriental and Electro sound \nMohamad El Tannir @mo_shka is the Co-Founder and Artistic Director of Rumman. A passionate music lover\, he began DJ’ing in Lebanon over a decade ago\, bringing people together with an uplifting mix of House\, Afro-House\, and Melodic Techno \n8$ entrance fee \nFor reservations: 03 743 543 \nSee you at the reef
URL:https://gobatroun.com/event/dj-moshka-skandar-at-colonel/
LOCATION:Colonel Beer
CATEGORIES:Performing Arts
ATTACH;FMTTYPE=image/webp:https://gobatroun.com/wp-content/uploads/2025/06/colonel-13-jun.webp
END:VEVENT
BEGIN:VEVENT
DTSTART;TZID=Asia/Beirut:20250614T110000
DTEND;TZID=Asia/Beirut:20250614T130000
DTSTAMP:20260420T033031
CREATED:20250612T111114Z
LAST-MODIFIED:20250612T111114Z
UID:10007010-1749898800-1749906000@gobatroun.com
SUMMARY:Jiran Bruch Club
DESCRIPTION:This Saturday at The Corner Hub – Batroun Old Souk\nBrunch ma3l Jiran: Candle-Making Edition \nKick off your weekend with a healthy brunch by @fuaki.lb  think detox drinks  and fresh açaí bowls followed by a professional candle-making session led by @soii.home \, where you’ll craft your own fruit bowl-inspired candle. \n️ Saturday | 11:00 AM – 2:00 PM\n $45 (all included) \nSpots are limited. Message us to reserve yours!
URL:https://gobatroun.com/event/jiran-bruch-club/
LOCATION:The Corner Hub\, 7M45+FH Batroun\, Batroun\, Lebanon
CATEGORIES:Community
ATTACH;FMTTYPE=image/webp:https://gobatroun.com/wp-content/uploads/2025/06/the-corner-hub-14-jun.webp
END:VEVENT
BEGIN:VEVENT
DTSTART;TZID=Asia/Beirut:20250614T180000
DTEND;TZID=Asia/Beirut:20250614T180000
DTSTAMP:20260420T033031
CREATED:20250605T131326Z
LAST-MODIFIED:20250605T131326Z
UID:10007005-1749924000-1749924000@gobatroun.com
SUMMARY:An Open Invitation to All Culture Enthusiasts
DESCRIPTION:An Open Invitation to All Culture Enthusiasts\nThe Ministry of Culture invites you to attend The 8th Garden Poetry Festival.\nDate: Saturday\, 14/06/2025\nTime: 6:00 PM\nLocation: Poets’ Garden\, Jran\, Batroun
URL:https://gobatroun.com/event/an-open-invitation-to-all-culture-enthusiasts/
CATEGORIES:Performing Arts
ATTACH;FMTTYPE=image/webp:https://gobatroun.com/wp-content/uploads/2025/06/Ministere-de-la-culture.webp
END:VEVENT
BEGIN:VEVENT
DTSTART;TZID=Asia/Beirut:20250614T210000
DTEND;TZID=Asia/Beirut:20250614T210000
DTSTAMP:20260420T033031
CREATED:20250529T130912Z
LAST-MODIFIED:20250529T130912Z
UID:10006997-1749934800-1749934800@gobatroun.com
SUMMARY:Groov on the Moon at GreenHouse
DESCRIPTION:Are you ready for our next session? Meet us at @greenhousecafeandbar\nWe bring the grooves\, you bring the moves \n14.06.25 | SUNSET ONWARDS\nLineup dropping soon!
URL:https://gobatroun.com/event/groov-on-the-moon-at-greenhouse/
LOCATION:Green House Batroun
CATEGORIES:Performing Arts
ATTACH;FMTTYPE=image/webp:https://gobatroun.com/wp-content/uploads/2025/05/greenhouse-14-june.webp
END:VEVENT
BEGIN:VEVENT
DTSTART;TZID=Asia/Beirut:20250614T210000
DTEND;TZID=Asia/Beirut:20250614T210000
DTSTAMP:20260420T033031
CREATED:20250612T111633Z
LAST-MODIFIED:20250612T111750Z
UID:10007013-1749934800-1749934800@gobatroun.com
SUMMARY:Rasta Beirut at Colonel Reef
DESCRIPTION:It’s Not Just a Concert! It’s a Tradition \nOnce a year\, the rhythm returns to the shore\, and this year is no different. \nRasta Beirut is back at Colonel Reef for what has now become a ritual gathering of sound and soul. \nFrom the first beat to the last breeze\, this night is all about good energy\, live roots reggae\, and the people who make it unforgettable \nNext Saturday June 14\, starting from sunset and onwards\, expect the bass to hit deep\, the melodies to lift high\, and the vibes to carry you into the night. \nFollowed by an unforgettable dj performance by @jadovski \nLive. Loud. By the Sea.\nOne Band. One Love. Rasta Beirut \n10$ entrance fee \nFor reservations: 03 743 543
URL:https://gobatroun.com/event/rasta-beirut-at-colonel-reef-2/
LOCATION:Colonel Reef\, 6MX5+R2 Batroun\, Batroun\, Lebanon
CATEGORIES:Performing Arts
ATTACH;FMTTYPE=image/webp:https://gobatroun.com/wp-content/uploads/2025/06/colonel-14-jun.webp
GEO:34.249604995751;35.657635266722
X-APPLE-STRUCTURED-LOCATION;VALUE=URI;X-ADDRESS=Colonel Reef 6MX5+R2 Batroun Batroun Lebanon;X-APPLE-RADIUS=500;X-TITLE=6MX5+R2 Batroun:geo:35.657635266722,34.249604995751
END:VEVENT
BEGIN:VEVENT
DTSTART;TZID=Asia/Beirut:20250615T100000
DTEND;TZID=Asia/Beirut:20250615T200000
DTSTAMP:20260420T033031
CREATED:20250612T110918Z
LAST-MODIFIED:20250612T110918Z
UID:10007009-1749981600-1750017600@gobatroun.com
SUMMARY:Ohana By The Sea
DESCRIPTION:The sea never left us  \nOhana By The Sea is proudly relocating to a new home: Breathe Batroun! \nJoin us this Sunday\, June 15 for our summer reopening\, a full day of movement\, sea\, and connection.\nYoga\, pilates\, breathwork\, SUP & more!\nSwipe for the full day schedule and book your spot because it’s limited. \nBook through the @joinin2 app selecting Batroun as an outlet\, or contact us 76409351 \nCome celebrate summer\, community\, and a fresh new chapter by the sea.
URL:https://gobatroun.com/event/ohana-by-the-sea-2/
LOCATION:Ohana Space\, Lebanon
CATEGORIES:Sports
ATTACH;FMTTYPE=image/webp:https://gobatroun.com/wp-content/uploads/2025/06/ohana-space-15-jun.webp
END:VEVENT
BEGIN:VEVENT
DTSTART;TZID=Asia/Beirut:20250615T120000
DTEND;TZID=Asia/Beirut:20250615T120000
DTSTAMP:20260420T033031
CREATED:20250612T112129Z
LAST-MODIFIED:20250612T112129Z
UID:10007015-1749988800-1749988800@gobatroun.com
SUMMARY:Joy & The Band at Barrio67
DESCRIPTION:You asked\, we listened!\nJoy and the Band return next Sunday for round two  Live Arabic music\, BBQ\, and the vibes you loved.\nStarts at noon. \nBook your table: +961 70 211 299
URL:https://gobatroun.com/event/joy-the-band-at-barrio67/
LOCATION:Barrio67
CATEGORIES:Performing Arts
ATTACH;FMTTYPE=image/webp:https://gobatroun.com/wp-content/uploads/2025/06/barrio-15-jun.webp
END:VEVENT
BEGIN:VEVENT
DTSTART;TZID=Asia/Beirut:20250615T180000
DTEND;TZID=Asia/Beirut:20250615T180000
DTSTAMP:20260420T033031
CREATED:20250612T111256Z
LAST-MODIFIED:20250612T111256Z
UID:10007011-1750010400-1750010400@gobatroun.com
SUMMARY:Après Sea at Pierre & Friends
DESCRIPTION:The rhythm of Tulum meets the Mediterranean\n@paaxtulum makes their PnF debut next Sunday\, alongside Jād & Pambouk \n Reservations ‪+961 3 352 930‬\n Cheers
URL:https://gobatroun.com/event/apres-sea-at-pierre-friends/
LOCATION:Pierre and Friends\, 6J6X+XQ Madfoun\, Batroun\, Lebanon
CATEGORIES:Performing Arts
ATTACH;FMTTYPE=image/webp:https://gobatroun.com/wp-content/uploads/2025/06/pierre-15-jun.webp
GEO:34.212423239859;35.649460262694
X-APPLE-STRUCTURED-LOCATION;VALUE=URI;X-ADDRESS=Pierre and Friends 6J6X+XQ Madfoun Batroun Lebanon;X-APPLE-RADIUS=500;X-TITLE=6J6X+XQ Madfoun:geo:35.649460262694,34.212423239859
END:VEVENT
END:VCALENDAR