BEGIN:VCALENDAR
VERSION:2.0
PRODID:-//Go Batroun - ECPv6.14.2//NONSGML v1.0//EN
CALSCALE:GREGORIAN
METHOD:PUBLISH
X-WR-CALNAME:Go Batroun
X-ORIGINAL-URL:https://gobatroun.com
X-WR-CALDESC:Events for Go Batroun
REFRESH-INTERVAL;VALUE=DURATION:PT1H
X-Robots-Tag:noindex
X-PUBLISHED-TTL:PT1H
BEGIN:VTIMEZONE
TZID:Asia/Beirut
BEGIN:DAYLIGHT
TZOFFSETFROM:+0200
TZOFFSETTO:+0300
TZNAME:EEST
DTSTART:20240330T220000
END:DAYLIGHT
BEGIN:STANDARD
TZOFFSETFROM:+0300
TZOFFSETTO:+0200
TZNAME:EET
DTSTART:20241026T210000
END:STANDARD
END:VTIMEZONE
BEGIN:VEVENT
DTSTART;TZID=Asia/Beirut:20241213T150000
DTEND;TZID=Asia/Beirut:20241213T180000
DTSTAMP:20260421T155534
CREATED:20241211T091531Z
LAST-MODIFIED:20241211T091531Z
UID:10006711-1734102000-1734112800@gobatroun.com
SUMMARY:Bûche de Noel Baking at Dar Al Mona
DESCRIPTION:Come Bake your favorite Christmas dessert with Mimi this Friday. Learn how to prepare and decorate a delicious Bûche De Noël and get to know.
URL:https://gobatroun.com/event/buche-de-noel-baking-at-dar-al-mona/
LOCATION:Dar Al Mona\, 7M35+PM Batroun\, Batroun\, Lebanon
CATEGORIES:Performing Arts
ATTACH;FMTTYPE=image/jpeg:https://gobatroun.com/wp-content/uploads/2024/12/December-13-Event-2.jpg
GEO:34.254368398216;35.659186434674
X-APPLE-STRUCTURED-LOCATION;VALUE=URI;X-ADDRESS=Dar Al Mona 7M35+PM Batroun Batroun Lebanon;X-APPLE-RADIUS=500;X-TITLE=7M35+PM Batroun:geo:35.659186434674,34.254368398216
END:VEVENT
BEGIN:VEVENT
DTSTART;TZID=Asia/Beirut:20241213T200000
DTEND;TZID=Asia/Beirut:20241213T200000
DTSTAMP:20260421T155534
CREATED:20241211T065858Z
LAST-MODIFIED:20241211T065858Z
UID:10006706-1734120000-1734120000@gobatroun.com
SUMMARY:Paint & Sip
DESCRIPTION:Paint & Sip \nJoin for a creative evening at our Batroun atelier! Sip on exquisite IXSIR red wine as you paint your own personalized tote bag in a cozy\, inspiring setting. \nLimited seats are available\, so grab your spot now and let’s toast to art\, wine\, and good vibes! \nEntry Fee 25$
URL:https://gobatroun.com/event/paint-sip/
LOCATION:Bassem Alwan Art\, 7M34+QXW\, Batroun\, Lebanon
CATEGORIES:Performing Arts
ATTACH;FMTTYPE=image/jpeg:https://gobatroun.com/wp-content/uploads/2024/12/December-13-Event.jpg
END:VEVENT
BEGIN:VEVENT
DTSTART;TZID=Asia/Beirut:20241213T203000
DTEND;TZID=Asia/Beirut:20241213T203000
DTSTAMP:20260421T155534
CREATED:20241211T084851Z
LAST-MODIFIED:20241218T100111Z
UID:10006710-1734121800-1734121800@gobatroun.com
SUMMARY:Hangover live at Hangloose
DESCRIPTION:It’s Hangover Friday\, the 20th! \nRoland and SÄSS are taking over with funk\, disco\, and global beats. Don’t miss the groove! \nRSVP +961 71 872 417
URL:https://gobatroun.com/event/hangover-live-at-hangloose/
LOCATION:HANGLOOSE\, 6MW6+PQ Batroun\, Batroun\, Lebanon
CATEGORIES:Performing Arts
ATTACH;FMTTYPE=image/jpeg:https://gobatroun.com/wp-content/uploads/2024/12/December-20-Event-2.jpg
ORGANIZER;CN="HANGLOOSE":MAILTO:contact@info.com
GEO:34.246771332534;35.661930198875
X-APPLE-STRUCTURED-LOCATION;VALUE=URI;X-ADDRESS=HANGLOOSE 6MW6+PQ Batroun Batroun Lebanon;X-APPLE-RADIUS=500;X-TITLE=6MW6+PQ Batroun:geo:35.661930198875,34.246771332534
END:VEVENT
BEGIN:VEVENT
DTSTART;TZID=Asia/Beirut:20241214T123000
DTEND;TZID=Asia/Beirut:20241214T200000
DTSTAMP:20260421T155534
CREATED:20241216T074332Z
LAST-MODIFIED:20241216T074332Z
UID:10006716-1734179400-1734206400@gobatroun.com
SUMMARY:Arnaoon Christmas Village
DESCRIPTION:Arnaoon Christmas Village \nThe magic of Christmas is ready to unfold at Arnaoon Village! Mark your calendars for a season filled with joy\, entertainment\, and festive charm. Swipe to explore our day and night schedule and plan your visit for a holiday experience you won’t forget. \nDates: December 14th till January 5th \nFor reservations\, please call: +961 03 342 502 or +961 76 884 461
URL:https://gobatroun.com/event/arnaoon-christmas-village/2024-12-14/
LOCATION:Arnaoon Village\, 7MCV+77 Batroun\, Batroun\, Lebanon
CATEGORIES:Performing Arts
ATTACH;FMTTYPE=image/jpeg:https://gobatroun.com/wp-content/uploads/2024/12/Arnaoon-Christmas-Village.jpg
ORGANIZER;CN="Arnaoon Village":MAILTO:arnaoon@arnaoonvillage.com
END:VEVENT
BEGIN:VEVENT
DTSTART;TZID=Asia/Beirut:20241214T160000
DTEND;TZID=Asia/Beirut:20241214T160000
DTSTAMP:20260421T155534
CREATED:20241213T082954Z
LAST-MODIFIED:20241213T082954Z
UID:10006713-1734192000-1734192000@gobatroun.com
SUMMARY:Christmas Parade
DESCRIPTION:Christmas Parade \nWishing you a Christmas filled with love\, laughter and the warmth of family and friends. Merry Christmas! \nDouma Souk 4:00 PM
URL:https://gobatroun.com/event/christmas-parade-6/
LOCATION:Douma\, 6R4Q+7J3\,\, Douma\, Lebanon
CATEGORIES:Festivals|Performing Arts
ATTACH;FMTTYPE=image/jpeg:https://gobatroun.com/wp-content/uploads/2024/12/Christmas-Parade.jpg
GEO:34.205635417169;35.839081809552
X-APPLE-STRUCTURED-LOCATION;VALUE=URI;X-ADDRESS=Douma 6R4Q+7J3 Douma Lebanon;X-APPLE-RADIUS=500;X-TITLE=6R4Q+7J3\,:geo:35.839081809552,34.205635417169
END:VEVENT
BEGIN:VEVENT
DTSTART;TZID=Asia/Beirut:20241214T210000
DTEND;TZID=Asia/Beirut:20241214T210000
DTSTAMP:20260421T155534
CREATED:20241206T074154Z
LAST-MODIFIED:20241206T074154Z
UID:10006699-1734210000-1734210000@gobatroun.com
SUMMARY:BIBB FM MCH at Leyl
DESCRIPTION:BIBB\, FM\, and MCH are bringing the heat on December 14 & 21 \nJoin for two nights of crazy commercial music \nRSVP : +961 76 181 999 \n 
URL:https://gobatroun.com/event/bibb-fm-mch-at-leyl/2024-12-14/
LOCATION:Léyl
CATEGORIES:Performing Arts
ATTACH;FMTTYPE=image/jpeg:https://gobatroun.com/wp-content/uploads/2024/12/December-14-and-21.jpg
END:VEVENT
BEGIN:VEVENT
DTSTART;TZID=Asia/Beirut:20241214T220000
DTEND;TZID=Asia/Beirut:20241214T220000
DTSTAMP:20260421T155534
CREATED:20240821T073658Z
LAST-MODIFIED:20241211T073934Z
UID:10006532-1734213600-1734213600@gobatroun.com
SUMMARY:Youhanna Saad at Taiga
DESCRIPTION:Youhanna Saad at Taiga featuring dj Ralph \nRSVP +961 03 499 408
URL:https://gobatroun.com/event/youhanna-saad-at-taiga/
LOCATION:TAIGA BATROUN CLUB\, 7M46+23 Batroun\, Batroun\, Lebanon
CATEGORIES:Performing Arts
ATTACH;FMTTYPE=image/jpeg:https://gobatroun.com/wp-content/uploads/2024/08/December-14-Event.jpg
GEO:34.255082353874;35.660243950604
X-APPLE-STRUCTURED-LOCATION;VALUE=URI;X-ADDRESS=TAIGA BATROUN CLUB 7M46+23 Batroun Batroun Lebanon;X-APPLE-RADIUS=500;X-TITLE=7M46+23 Batroun:geo:35.660243950604,34.255082353874
END:VEVENT
BEGIN:VEVENT
DTSTART;TZID=Asia/Beirut:20241214T223000
DTEND;TZID=Asia/Beirut:20241214T223000
DTSTAMP:20260421T155534
CREATED:20241206T073008Z
LAST-MODIFIED:20241211T074722Z
UID:10005408-1734215400-1734215400@gobatroun.com
SUMMARY:Borhan at TAIGA Club Batroun
DESCRIPTION:Borhan at TAIGA Club Batroun \nFeaturing Dj Ralph \nReserve on +961 03 499 408
URL:https://gobatroun.com/event/borhan-shaar-at-taiga-batroun-club-19-4/
LOCATION:TAIGA BATROUN CLUB\, 7M46+23 Batroun\, Batroun\, Lebanon
CATEGORIES:Performing Arts
ATTACH;FMTTYPE=image/jpeg:https://gobatroun.com/wp-content/uploads/2023/12/December-7th-Event.jpg
GEO:34.255082353874;35.660243950604
X-APPLE-STRUCTURED-LOCATION;VALUE=URI;X-ADDRESS=TAIGA BATROUN CLUB 7M46+23 Batroun Batroun Lebanon;X-APPLE-RADIUS=500;X-TITLE=7M46+23 Batroun:geo:35.660243950604,34.255082353874
END:VEVENT
BEGIN:VEVENT
DTSTART;TZID=Asia/Beirut:20241215T123000
DTEND;TZID=Asia/Beirut:20241215T200000
DTSTAMP:20260421T155534
CREATED:20241216T074332Z
LAST-MODIFIED:20241216T074332Z
UID:10006717-1734265800-1734292800@gobatroun.com
SUMMARY:Arnaoon Christmas Village
DESCRIPTION:Arnaoon Christmas Village \nThe magic of Christmas is ready to unfold at Arnaoon Village! Mark your calendars for a season filled with joy\, entertainment\, and festive charm. Swipe to explore our day and night schedule and plan your visit for a holiday experience you won’t forget. \nDates: December 14th till January 5th \nFor reservations\, please call: +961 03 342 502 or +961 76 884 461
URL:https://gobatroun.com/event/arnaoon-christmas-village/2024-12-15/
LOCATION:Arnaoon Village\, 7MCV+77 Batroun\, Batroun\, Lebanon
CATEGORIES:Performing Arts
ATTACH;FMTTYPE=image/jpeg:https://gobatroun.com/wp-content/uploads/2024/12/Arnaoon-Christmas-Village.jpg
ORGANIZER;CN="Arnaoon Village":MAILTO:arnaoon@arnaoonvillage.com
END:VEVENT
END:VCALENDAR