BEGIN:VCALENDAR
VERSION:2.0
PRODID:-//Go Batroun - ECPv6.14.2//NONSGML v1.0//EN
CALSCALE:GREGORIAN
METHOD:PUBLISH
X-ORIGINAL-URL:https://gobatroun.com
X-WR-CALDESC:Events for Go Batroun
REFRESH-INTERVAL;VALUE=DURATION:PT1H
X-Robots-Tag:noindex
X-PUBLISHED-TTL:PT1H
BEGIN:VTIMEZONE
TZID:Asia/Beirut
BEGIN:DAYLIGHT
TZOFFSETFROM:+0200
TZOFFSETTO:+0300
TZNAME:EEST
DTSTART:20240330T220000
END:DAYLIGHT
BEGIN:STANDARD
TZOFFSETFROM:+0300
TZOFFSETTO:+0200
TZNAME:EET
DTSTART:20241026T210000
END:STANDARD
END:VTIMEZONE
BEGIN:VEVENT
DTSTART;TZID=Asia/Beirut:20241119T180000
DTEND;TZID=Asia/Beirut:20241119T193000
DTSTAMP:20260423T070533
CREATED:20241113T093500Z
LAST-MODIFIED:20241113T093500Z
UID:10006664-1732039200-1732044600@gobatroun.com
SUMMARY:Vinyasa Yoga at Hangloose
DESCRIPTION:Vinyasa Yoga at Hangloose \nJoin us for Vinyasa Yoga with Joanna Massoud \nEvery Tuesday | 6:00 PM – 7:30 PM \n$10 per person \nFind your flow\, release stress\, and embrace the peaceful vibes. All levels welcome! \nRSVP: +961 71 872 417 \n10$/Person
URL:https://gobatroun.com/event/vinyasa-yoga-at-hangloose/
LOCATION:HANGLOOSE\, 6MW6+PQ Batroun\, Batroun\, Lebanon
CATEGORIES:Sports
ATTACH;FMTTYPE=image/jpeg:https://gobatroun.com/wp-content/uploads/2024/11/Tuesday-Yoga.jpg
GEO:34.246771332534;35.661930198875
X-APPLE-STRUCTURED-LOCATION;VALUE=URI;X-ADDRESS=HANGLOOSE 6MW6+PQ Batroun Batroun Lebanon;X-APPLE-RADIUS=500;X-TITLE=6MW6+PQ Batroun:geo:35.661930198875,34.246771332534
END:VEVENT
BEGIN:VEVENT
DTSTART;TZID=Asia/Beirut:20240901T183000
DTEND;TZID=Asia/Beirut:20240901T200000
DTSTAMP:20260423T070533
CREATED:20240813T071118Z
LAST-MODIFIED:20240813T071118Z
UID:10006505-1725215400-1725220800@gobatroun.com
SUMMARY:Emotional Release Breathwork Workshop
DESCRIPTION:Emotional Release Breathwork Workshop with Imad Naassi \nWelcome back to Imad Naassi to Ohana By The Sea! \nJoin for a series of conscious connected breathing sessions designed to support emotional release\, trauma healing\, and subconscious reprogramming. \nDates: August 4th\, 11th\, 18th\, and September 1st \nTime: 6:30 PM – 8:00 PM \nLocation: Ohana by the Sea at Mayouli Batroun Contribution: $20 per session \nUnder Imad’s expert guidance\, experience a nurturing space where deep healing and transformation can occur. \nSecure your spot now via the @joinin2 app or by contacting +961 76 409 451 \nContribution: 20$
URL:https://gobatroun.com/event/emotional-release-breathwork-workshop/2024-09-01/
LOCATION:Mayouli\, 7M88+PP Batroun\, Batroun\, Lebanon
CATEGORIES:Sports
ATTACH;FMTTYPE=image/jpeg:https://gobatroun.com/wp-content/uploads/2024/08/Breathwork.jpg
GEO:34.266795819013;35.666856562531
X-APPLE-STRUCTURED-LOCATION;VALUE=URI;X-ADDRESS=Mayouli 7M88+PP Batroun Batroun Lebanon;X-APPLE-RADIUS=500;X-TITLE=7M88+PP Batroun:geo:35.666856562531,34.266795819013
END:VEVENT
BEGIN:VEVENT
DTSTART;TZID=Asia/Beirut:20240825T183000
DTEND;TZID=Asia/Beirut:20240825T183000
DTSTAMP:20260423T070533
CREATED:20240821T064800Z
LAST-MODIFIED:20240821T064800Z
UID:10006530-1724610600-1724610600@gobatroun.com
SUMMARY:SUP YOGA
DESCRIPTION:SUP YOGA \nOur Stand-Up Paddleboarding Schedule For This Week \nWe’re excited to introduce a new schedule on the board. \nExperience the gentle movements of Qi Gong\, the core-strengthening exercises of Pilates\, and the soothing poses of yoga\, all while finding stillness on the water. \nSchedule: \nSunrise SUP at 8:30 am:\n– Float and Flow Saturday 23\, with rawiaeid \nSunset SUP at 6:30 pm:\n– Qi Gong Friday 23\, with barrak.tony\n– Pilates Saturday 24\, with jessflows\n– Float & Flow Sunday 25\, with usefulgherez \nSecure your spot today through the @joinin2 app or by reaching out to us at +961 76 409 351.
URL:https://gobatroun.com/event/sup-yoga/2024-08-25/
LOCATION:Routes
CATEGORIES:Sports
ATTACH;FMTTYPE=image/jpeg:https://gobatroun.com/wp-content/uploads/2024/08/August-23-24-25.jpg
END:VEVENT
BEGIN:VEVENT
DTSTART;TZID=Asia/Beirut:20240824T183000
DTEND;TZID=Asia/Beirut:20240824T183000
DTSTAMP:20260423T070533
CREATED:20240821T064800Z
LAST-MODIFIED:20240821T064800Z
UID:10006529-1724524200-1724524200@gobatroun.com
SUMMARY:SUP YOGA
DESCRIPTION:SUP YOGA \nOur Stand-Up Paddleboarding Schedule For This Week \nWe’re excited to introduce a new schedule on the board. \nExperience the gentle movements of Qi Gong\, the core-strengthening exercises of Pilates\, and the soothing poses of yoga\, all while finding stillness on the water. \nSchedule: \nSunrise SUP at 8:30 am:\n– Float and Flow Saturday 23\, with rawiaeid \nSunset SUP at 6:30 pm:\n– Qi Gong Friday 23\, with barrak.tony\n– Pilates Saturday 24\, with jessflows\n– Float & Flow Sunday 25\, with usefulgherez \nSecure your spot today through the @joinin2 app or by reaching out to us at +961 76 409 351.
URL:https://gobatroun.com/event/sup-yoga/2024-08-24/2/
LOCATION:Routes
CATEGORIES:Sports
ATTACH;FMTTYPE=image/jpeg:https://gobatroun.com/wp-content/uploads/2024/08/August-23-24-25.jpg
END:VEVENT
BEGIN:VEVENT
DTSTART;TZID=Asia/Beirut:20240824T083000
DTEND;TZID=Asia/Beirut:20240824T083000
DTSTAMP:20260423T070533
CREATED:20240821T064800Z
LAST-MODIFIED:20240821T064800Z
UID:10006528-1724488200-1724488200@gobatroun.com
SUMMARY:SUP YOGA
DESCRIPTION:SUP YOGA \nOur Stand-Up Paddleboarding Schedule For This Week \nWe’re excited to introduce a new schedule on the board. \nExperience the gentle movements of Qi Gong\, the core-strengthening exercises of Pilates\, and the soothing poses of yoga\, all while finding stillness on the water. \nSchedule: \nSunrise SUP at 8:30 am:\n– Float and Flow Saturday 23\, with rawiaeid \nSunset SUP at 6:30 pm:\n– Qi Gong Friday 23\, with barrak.tony\n– Pilates Saturday 24\, with jessflows\n– Float & Flow Sunday 25\, with usefulgherez \nSecure your spot today through the @joinin2 app or by reaching out to us at +961 76 409 351.
URL:https://gobatroun.com/event/sup-yoga/2024-08-24/1/
LOCATION:Routes
CATEGORIES:Sports
ATTACH;FMTTYPE=image/jpeg:https://gobatroun.com/wp-content/uploads/2024/08/August-23-24-25.jpg
END:VEVENT
BEGIN:VEVENT
DTSTART;TZID=Asia/Beirut:20240823T183000
DTEND;TZID=Asia/Beirut:20240823T183000
DTSTAMP:20260423T070533
CREATED:20240821T064800Z
LAST-MODIFIED:20240821T064800Z
UID:10006527-1724437800-1724437800@gobatroun.com
SUMMARY:SUP YOGA
DESCRIPTION:SUP YOGA \nOur Stand-Up Paddleboarding Schedule For This Week \nWe’re excited to introduce a new schedule on the board. \nExperience the gentle movements of Qi Gong\, the core-strengthening exercises of Pilates\, and the soothing poses of yoga\, all while finding stillness on the water. \nSchedule: \nSunrise SUP at 8:30 am:\n– Float and Flow Saturday 23\, with rawiaeid \nSunset SUP at 6:30 pm:\n– Qi Gong Friday 23\, with barrak.tony\n– Pilates Saturday 24\, with jessflows\n– Float & Flow Sunday 25\, with usefulgherez \nSecure your spot today through the @joinin2 app or by reaching out to us at +961 76 409 351.
URL:https://gobatroun.com/event/sup-yoga/2024-08-23/
LOCATION:Routes
CATEGORIES:Sports
ATTACH;FMTTYPE=image/jpeg:https://gobatroun.com/wp-content/uploads/2024/08/August-23-24-25.jpg
END:VEVENT
BEGIN:VEVENT
DTSTART;TZID=Asia/Beirut:20240818T063000
DTEND;TZID=Asia/Beirut:20240818T200000
DTSTAMP:20260423T070533
CREATED:20240813T071118Z
LAST-MODIFIED:20240813T071118Z
UID:10006504-1723962600-1724011200@gobatroun.com
SUMMARY:Emotional Release Breathwork Workshop
DESCRIPTION:Emotional Release Breathwork Workshop with Imad Naassi \nWelcome back to Imad Naassi to Ohana By The Sea! \nJoin for a series of conscious connected breathing sessions designed to support emotional release\, trauma healing\, and subconscious reprogramming. \nDates: August 4th\, 11th\, 18th\, and September 1st \nTime: 6:30 PM – 8:00 PM \nLocation: Ohana by the Sea at Mayouli Batroun Contribution: $20 per session \nUnder Imad’s expert guidance\, experience a nurturing space where deep healing and transformation can occur. \nSecure your spot now via the @joinin2 app or by contacting +961 76 409 451 \nContribution: 20$
URL:https://gobatroun.com/event/emotional-release-breathwork-workshop/2024-08-18/
LOCATION:Mayouli\, 7M88+PP Batroun\, Batroun\, Lebanon
CATEGORIES:Sports
ATTACH;FMTTYPE=image/jpeg:https://gobatroun.com/wp-content/uploads/2024/08/Breathwork.jpg
GEO:34.266795819013;35.666856562531
X-APPLE-STRUCTURED-LOCATION;VALUE=URI;X-ADDRESS=Mayouli 7M88+PP Batroun Batroun Lebanon;X-APPLE-RADIUS=500;X-TITLE=7M88+PP Batroun:geo:35.666856562531,34.266795819013
END:VEVENT
BEGIN:VEVENT
DTSTART;TZID=Asia/Beirut:20240813T080000
DTEND;TZID=Asia/Beirut:20240813T170000
DTSTAMP:20260423T070533
CREATED:20240813T071118Z
LAST-MODIFIED:20240813T071118Z
UID:10006503-1723536000-1723568400@gobatroun.com
SUMMARY:Emotional Release Breathwork Workshop
DESCRIPTION:Emotional Release Breathwork Workshop with Imad Naassi \nWelcome back to Imad Naassi to Ohana By The Sea! \nJoin for a series of conscious connected breathing sessions designed to support emotional release\, trauma healing\, and subconscious reprogramming. \nDates: August 4th\, 11th\, 18th\, and September 1st \nTime: 6:30 PM – 8:00 PM \nLocation: Ohana by the Sea at Mayouli Batroun Contribution: $20 per session \nUnder Imad’s expert guidance\, experience a nurturing space where deep healing and transformation can occur. \nSecure your spot now via the @joinin2 app or by contacting +961 76 409 451 \nContribution: 20$
URL:https://gobatroun.com/event/emotional-release-breathwork-workshop/2024-08-13/
LOCATION:Mayouli\, 7M88+PP Batroun\, Batroun\, Lebanon
CATEGORIES:Sports
ATTACH;FMTTYPE=image/jpeg:https://gobatroun.com/wp-content/uploads/2024/08/Breathwork.jpg
GEO:34.266795819013;35.666856562531
X-APPLE-STRUCTURED-LOCATION;VALUE=URI;X-ADDRESS=Mayouli 7M88+PP Batroun Batroun Lebanon;X-APPLE-RADIUS=500;X-TITLE=7M88+PP Batroun:geo:35.666856562531,34.266795819013
END:VEVENT
END:VCALENDAR