BEGIN:VCALENDAR
VERSION:2.0
PRODID:-//Go Batroun - ECPv6.14.2//NONSGML v1.0//EN
CALSCALE:GREGORIAN
METHOD:PUBLISH
X-ORIGINAL-URL:https://gobatroun.com
X-WR-CALDESC:Events for Go Batroun
REFRESH-INTERVAL;VALUE=DURATION:PT1H
X-Robots-Tag:noindex
X-PUBLISHED-TTL:PT1H
BEGIN:VTIMEZONE
TZID:Asia/Beirut
BEGIN:DAYLIGHT
TZOFFSETFROM:+0200
TZOFFSETTO:+0300
TZNAME:EEST
DTSTART:20240330T220000
END:DAYLIGHT
BEGIN:STANDARD
TZOFFSETFROM:+0300
TZOFFSETTO:+0200
TZNAME:EET
DTSTART:20241026T210000
END:STANDARD
BEGIN:DAYLIGHT
TZOFFSETFROM:+0200
TZOFFSETTO:+0300
TZNAME:EEST
DTSTART:20250329T220000
END:DAYLIGHT
BEGIN:STANDARD
TZOFFSETFROM:+0300
TZOFFSETTO:+0200
TZNAME:EET
DTSTART:20251025T210000
END:STANDARD
END:VTIMEZONE
BEGIN:VEVENT
DTSTART;TZID=Asia/Beirut:20250309T070000
DTEND;TZID=Asia/Beirut:20250309T140000
DTSTAMP:20260421T145609
CREATED:20250307T112920Z
LAST-MODIFIED:20250307T112920Z
UID:10006881-1741503600-1741528800@gobatroun.com
SUMMARY:Follow The Lakes with Routes
DESCRIPTION:This weekend\, an exciting adventure over the Peaks of Akoura awaits.\nJoin Routes on Sunday\, March 9\, snowshoeing between lakes of Akoura. We start our hike on a hill overlooking the lakes of Akoura\, passing between them and then climb the mountains of Akoura conquering one peak after the other.\nAfter our hike\, We will enjoy warm meals and tea\, to warm up our bodies after our adventure\, at a local restaurant. \nEvent Details: \n* DATE: Sunday\, March 9.\n* MEETING POINT:\n Beirut Al Nahar Building-Martyr square Downtown(we can pick up hikers along the way) at 7:00 AM.\n Byblos Public Park at 8:00 AM. \nPS: Punctuality is highly important! \n* HIKE DEPARTURE: 9:30AM.\n* HIKE DURATION: 4 hours.\n* DISTANCE: 8 KM.\n* HIKE DIFFICULTY: Moderate. \nBE PREPARED:\nBring light snacks to boost your energy up (such as nuts\, dry fruits and water). winter clothing\, winter shoes\, jacket\, gloves\, beanie\, sunscreen\, sunglass and changing clothes. \nYou can book by calling\nRoutes Team 76-338762 -————————————————————————————\nEvent Participation Fees :\n• 35$/Person including Transportation. • 30$/Person for groups of 4 and more (Including Transportation) • 30$/Person for People who will join by their own car. \nThis event will include: Snowshoeing equipments\, Routes guides\, Local guide\, First Aid kit\, Breakfast (Tea ☕️ & Croissants ) & Photos. \nMaximum number of participants for this hike is 25. \nDISCLAIMER:\nEvery participant assumes all possible risks and is responsible for his/her own safety and security.
URL:https://gobatroun.com/event/follow-the-lakes-with-routes/
LOCATION:Routes
CATEGORIES:Sports
ATTACH;FMTTYPE=image/webp:https://gobatroun.com/wp-content/uploads/2025/03/routes-9-mar.webp
END:VEVENT
BEGIN:VEVENT
DTSTART;TZID=Asia/Beirut:20250302T110000
DTEND;TZID=Asia/Beirut:20250302T110000
DTSTAMP:20260421T145609
CREATED:20250228T092728Z
LAST-MODIFIED:20250228T092728Z
UID:10006857-1740913200-1740913200@gobatroun.com
SUMMARY:Niha Mountain Journey with Routes
DESCRIPTION:Niha\, a quite\, undiscovered small village in the mountains of Batroun.\nJoin Routes\, this Sunday\, to unveil mind-blowing white winter scenes of Batroun Mountains and Landscapes\, where we will get lost alone with the wonderful white snow and amazing nature of Niha\,  in one of the most undiscovered cedars forest in Lebanon. Ending our snowshoeing adventure with a Magical sunset on Snow and grabbing a yummy bite at one of the local’s cozy and warm houses.\nYour Furry friends are more than welcome\, but please keep them leashed. \nEvent Details: \n* DATE: Sunday\, March 2.\n* MEETING POINT:\n Beirut Al Nahar Building-Martyr square Downtown(we can pick up hikers along the way) at 11:00 AM.\n Batroun routes station at 12:00 PM. \nPS: Punctuality is highly important! \n* HIKE DEPARTURE: 1:30 PM.\n* HIKE DURATION: 4 hours.\n* DISTANCE: 8 KM.\n* HIKE DIFFICULTY: Easy to Moderate. \nBE PREPARED:\nBring light snacks to boost your energy up (such as nuts\, dry fruits and water). winter clothing\, winter shoes\, jacket\, gloves\, beenie\, sunscreen\, sunglass and changing clothes. \nYou can book by calling\nRoutes Team 76-338762 -————————————————————————————\nEvent Participation Fees :\n• 35$/Person including Transportation. • 30$/Person for groups of 4 and more (Including Transportation) • 30$/Person for People who will join by their own car. \nThis event will include: Transportation from and to Beirut\, Snowshoeing equipments\, Routes guides\, First Aid kit\, & Photos. \nMaximum number of participants for this hike is 25. \nDISCLAIMER:\nEvery participant assumes all possible risks and is responsible for his/her own safety and security.
URL:https://gobatroun.com/event/niha-mountain-journey-with-routes/
LOCATION:Niha\, Niha\, Niha\, Lebanon
CATEGORIES:Sports
ATTACH;FMTTYPE=image/webp:https://gobatroun.com/wp-content/uploads/2025/02/routes.webp
END:VEVENT
BEGIN:VEVENT
DTSTART;TZID=Asia/Beirut:20250222T160000
DTEND;TZID=Asia/Beirut:20250222T183000
DTSTAMP:20260421T145609
CREATED:20250221T093558Z
LAST-MODIFIED:20250221T094133Z
UID:10006845-1740240000-1740249000@gobatroun.com
SUMMARY:Winter Carnaval at Dream Ville
DESCRIPTION:Snow much fun is coming your way! \nMask making\, snowman cooking\, games\, and more
URL:https://gobatroun.com/event/winter-carnaval-at-dream-ville/
LOCATION:Dream Ville
CATEGORIES:Performing Arts
ATTACH;FMTTYPE=image/webp:https://gobatroun.com/wp-content/uploads/2025/02/dream-ville-feb-22-1.webp
END:VEVENT
BEGIN:VEVENT
DTSTART;TZID=Asia/Beirut:20250216T070000
DTEND;TZID=Asia/Beirut:20250216T070000
DTSTAMP:20260421T145609
CREATED:20250211T122122Z
LAST-MODIFIED:20250211T123132Z
UID:10006834-1739689200-1739689200@gobatroun.com
SUMMARY:Forest Wonderland with Routes
DESCRIPTION:Tannourine Nature Reserve lies in a splendidly beautiful area and protects one of the largest and densest cedar forests in the Middle East . \nOn Friday February 14 or Sunday February 16\, we are going Snowshoeing into this magical cedars reserve to explore and learn more about our ancient majestic trees. ❄️\nWe will end our day with a nice Local meal at @tannourinevalley \nEvent Details: \n* DATE: Friday\, February 14.  Sunday\, February 16.\n* MEETING POINT:\nBeirut Al Nahar Building-Martyr square Downtown(we can pick up hikers along the way) at 7:00 AM.\nBatroun routes station at 8:00 AM. \nPS: Punctuality is highly important! \n* HIKE DEPARTURE: 9:30AM.\n* HIKE DURATION: 4 hours.\n* DISTANCE: 8 KM.\n* HIKE DIFFICULTY: Easy to Moderate. \nBE PREPARED:\nBring light snacks to boost your energy up (such as nuts\, dry fruits and water). winter clothing\, winter shoes\, jacket\, gloves & hat\, sunscreen\, sunglass and changing clothes. \nYou can book by calling\nRoutes Team 76-338762 -————————————————————————————\nEvent Participation Fees :\n• 35$/Person including Transportation. • 30$/Person for groups of 4 and more (Including Transportation) • 30$/Person for People who will join by their own car. \nThis event will include: Snowshoeing equipments\, Routes guides\, Local guide\, Entrance to the Reserve\, First Aid kit\, Breakfast (Tea ☕️ & Croissants ) & Photos. \nMaximum number of participants for this hike is 25. \n✨ Special Offer! If you wish to extend your adventure and stay overnight in Tannourine\, Tannourine Valley Hotel is offering a 15% discount on your night stay. Contact @tannourinevalley to book your night stay. \nSee you ☺️ \nDISCLAIMER:\nEvery participant assumes all possible risks and is responsible for his/her own safety and security.
URL:https://gobatroun.com/event/forest-wonderland-with-routes/2025-02-16/
LOCATION:Tannourine Cedars Reserve
CATEGORIES:Sports
ATTACH;FMTTYPE=image/webp:https://gobatroun.com/wp-content/uploads/2025/02/routes-14-16-feb.webp
END:VEVENT
BEGIN:VEVENT
DTSTART;TZID=Asia/Beirut:20250214T070000
DTEND;TZID=Asia/Beirut:20250214T070000
DTSTAMP:20260421T145609
CREATED:20250211T122122Z
LAST-MODIFIED:20250211T123132Z
UID:10006833-1739516400-1739516400@gobatroun.com
SUMMARY:Forest Wonderland with Routes
DESCRIPTION:Tannourine Nature Reserve lies in a splendidly beautiful area and protects one of the largest and densest cedar forests in the Middle East . \nOn Friday February 14 or Sunday February 16\, we are going Snowshoeing into this magical cedars reserve to explore and learn more about our ancient majestic trees. ❄️\nWe will end our day with a nice Local meal at @tannourinevalley \nEvent Details: \n* DATE: Friday\, February 14.  Sunday\, February 16.\n* MEETING POINT:\nBeirut Al Nahar Building-Martyr square Downtown(we can pick up hikers along the way) at 7:00 AM.\nBatroun routes station at 8:00 AM. \nPS: Punctuality is highly important! \n* HIKE DEPARTURE: 9:30AM.\n* HIKE DURATION: 4 hours.\n* DISTANCE: 8 KM.\n* HIKE DIFFICULTY: Easy to Moderate. \nBE PREPARED:\nBring light snacks to boost your energy up (such as nuts\, dry fruits and water). winter clothing\, winter shoes\, jacket\, gloves & hat\, sunscreen\, sunglass and changing clothes. \nYou can book by calling\nRoutes Team 76-338762 -————————————————————————————\nEvent Participation Fees :\n• 35$/Person including Transportation. • 30$/Person for groups of 4 and more (Including Transportation) • 30$/Person for People who will join by their own car. \nThis event will include: Snowshoeing equipments\, Routes guides\, Local guide\, Entrance to the Reserve\, First Aid kit\, Breakfast (Tea ☕️ & Croissants ) & Photos. \nMaximum number of participants for this hike is 25. \n✨ Special Offer! If you wish to extend your adventure and stay overnight in Tannourine\, Tannourine Valley Hotel is offering a 15% discount on your night stay. Contact @tannourinevalley to book your night stay. \nSee you ☺️ \nDISCLAIMER:\nEvery participant assumes all possible risks and is responsible for his/her own safety and security.
URL:https://gobatroun.com/event/forest-wonderland-with-routes/2025-02-14/
LOCATION:Tannourine Cedars Reserve
CATEGORIES:Sports
ATTACH;FMTTYPE=image/webp:https://gobatroun.com/wp-content/uploads/2025/02/routes-14-16-feb.webp
END:VEVENT
BEGIN:VEVENT
DTSTART;VALUE=DATE:20250210
DTEND;VALUE=DATE:20250212
DTSTAMP:20260421T145609
CREATED:20250207T124553Z
LAST-MODIFIED:20250207T124553Z
UID:10006828-1739167200-1739253599@gobatroun.com
SUMMARY:Winter Camp with Dream Ville
DESCRIPTION:Join Dream Ville for an unforgettable winter camp from February 10-14!\nDive into fun with exciting robotics sessions powered by @mindscapelb .\nDon’t forget to book now and secure your spot for an adventure filled with learning\, friendship\, and endless memories!
URL:https://gobatroun.com/event/winter-camp-with-dream-ville/
LOCATION:Dream Ville
CATEGORIES:Sports
ATTACH;FMTTYPE=image/webp:https://gobatroun.com/wp-content/uploads/2025/02/dream-ville-feb-10-to-14.webp
END:VEVENT
BEGIN:VEVENT
DTSTART;TZID=Asia/Beirut:20250209T093000
DTEND;TZID=Asia/Beirut:20250209T133000
DTSTAMP:20260421T145609
CREATED:20250207T095633Z
LAST-MODIFIED:20250207T095924Z
UID:10006826-1739093400-1739107800@gobatroun.com
SUMMARY:Into The Forest With Routes
DESCRIPTION:* DATES: Sunday\, February 9. \n* MEETING POINT: \nBeirut Al Nahar Building-Martyr square Downtown(we can pick up hikers along the way) at 7:00 AM. \nBatroun routes station at 8:00 AM. \nPS: Punctuality is highly important! \n* HIKE DEPARTURE: 9:30AM.\n* HIKE DURATION: 4 hours\n* DISTANCE: 8 KM.\n* HIKE DIFFICULTY: Easy – Moderate \nBE PREPARED: \nBring light snacks to boost your energy up (such as nuts\, dry fruits and water).\nwinter clothing\, winter shoes\, jacket\, gloves & hat\, sunscreen\, sunglass and changing clothes. \nYou can book by calling\nRoutes Team 76-338762 -————————————————————————————\nEvent Participation Fees : \n• 30$/Person including Transportation.\n• 25$/Person for groups of 4 and more (Including Transportation)\n• 25$/Person for People who will join with their own car. \nThis event will include:\nSnowshoeing equipments\, Routes guides\, local guide\, First Aid kit\, Breakfast (Tea & Croissants ) & Photos. \nMaximum number of participants for this hike is 25. \nDISCLAIMER: \nEvery participant assumes all possible risks and is responsible for his/her own safety and security.
URL:https://gobatroun.com/event/into-the-forest-with-routes/
LOCATION:Routes
CATEGORIES:Sports
ATTACH;FMTTYPE=image/webp:https://gobatroun.com/wp-content/uploads/2025/02/routes-feb-9.webp
END:VEVENT
BEGIN:VEVENT
DTSTART;TZID=Asia/Beirut:20241201T070000
DTEND;TZID=Asia/Beirut:20241201T070000
DTSTAMP:20260421T145609
CREATED:20241129T093653Z
LAST-MODIFIED:20241129T093653Z
UID:10006685-1733036400-1733036400@gobatroun.com
SUMMARY:Cedar Wonderland Hike with Routes
DESCRIPTION:Cedar Wonderland Hike with Routes \nThis Sunday\, we’re thrilled to enjoy a spontaneous snow hike on the first day of winter!\nJoin us for an unforgettable adventure through a breathtaking cedar forest blanketed in fresh light snow.\nStarting from Hadath al-Jibbeh village\, we’ll hike through serene landscapes and ascend to the summit near the iconic Patriarch Room.\nFrom there\, we’ll descend toward the magical cedars of Niha and finish in Niha village\, where we will enjoy warm bites at a locals house. \nGet ready to immerse yourself in the beauty of Lebanon’s early days of winter wonderland without the need for snowshoeing equipment. \nEvent Details : \n* DATE: Sunday\, December 1st. \n* MEETING POINT: \nBeirut al Nahar Building: 7:00 AM.\nBatroun\, Routes Bike Rental Station: 8:00 AM. \nPS: Punctuality is highly important! \n* HIKE DEPARTURE: 9:30 AM.\n* HIKE DURATION: 4 hours\n* HIKE DIFFICULTY: Moderate- Adventurous\n* DISTANCE: 14 KM \nBE PREPARED: \nBring at least 1.5 liters of water\, light snacks to boost your energy (such as dried fruits and nuts)\, warm hiking clothes\, waterproof hiking boots\, sunscreen\, sunglasses & a winter jacket. \nYou can book by calling\nRoutes Team +961 76 338 762 -———————————————————————————— \nEvent Participation Fees : \n* 25$/person.\n* 20$/person for Groups of 4 and More. \nThis event will include: Transportation from and to Beirut\, Routes Guides\, Local Guide\, First aid Kit\, Escort Truck in case of emergency & Photos. \nMaximum number of participants for this Hike is 30. \nSee you \nDISCLAIMER: \nEvery participant assumes all possible risks and is responsible for his/her own safety and security.
URL:https://gobatroun.com/event/cedar-wonderland-hike-with-routes/
LOCATION:Routes
CATEGORIES:Performing Arts
ATTACH;FMTTYPE=image/jpeg:https://gobatroun.com/wp-content/uploads/2024/11/December-1st-Event.jpg
END:VEVENT
END:VCALENDAR