BEGIN:VCALENDAR
VERSION:2.0
PRODID:-//Go Batroun - ECPv6.14.2//NONSGML v1.0//EN
CALSCALE:GREGORIAN
METHOD:PUBLISH
X-WR-CALNAME:Go Batroun
X-ORIGINAL-URL:https://gobatroun.com
X-WR-CALDESC:Events for Go Batroun
REFRESH-INTERVAL;VALUE=DURATION:PT1H
X-Robots-Tag:noindex
X-PUBLISHED-TTL:PT1H
BEGIN:VTIMEZONE
TZID:Asia/Beirut
BEGIN:DAYLIGHT
TZOFFSETFROM:+0200
TZOFFSETTO:+0300
TZNAME:EEST
DTSTART:20250329T220000
END:DAYLIGHT
BEGIN:STANDARD
TZOFFSETFROM:+0300
TZOFFSETTO:+0200
TZNAME:EET
DTSTART:20251025T210000
END:STANDARD
END:VTIMEZONE
BEGIN:VEVENT
DTSTART;TZID=Asia/Beirut:20250208T100000
DTEND;TZID=Asia/Beirut:20250208T130000
DTSTAMP:20260424T183313
CREATED:20250129T080220Z
LAST-MODIFIED:20250129T080220Z
UID:10006818-1739008800-1739019600@gobatroun.com
SUMMARY:Python Programming Training Course
DESCRIPTION:Python programming Training Course \nتنظم اللجنة الثقافية في بلدية البترون بالتعاون مع أكاديمية Mindscape دورة تدريبية في البرمجة باستخدام Python \nالسبت 8 شباط 2025 \nفي مبنى بلدية البترون \nمن الساعة 10 حتى 1 ظهراً \nالفئة العمرية: من 15 سنة حتى 25 سنة \nللحجز الإتصال على الرقم 627 252 71 961 + \nقبل 5 شباط
URL:https://gobatroun.com/event/python-programming-training-course/
LOCATION:Batroun Municipality
CATEGORIES:Community
ATTACH;FMTTYPE=image/jpeg:https://gobatroun.com/wp-content/uploads/2025/01/February-8.jpg
END:VEVENT
END:VCALENDAR