BEGIN:VCALENDAR
VERSION:2.0
PRODID:-//Go Batroun - ECPv6.14.2//NONSGML v1.0//EN
CALSCALE:GREGORIAN
METHOD:PUBLISH
X-ORIGINAL-URL:https://gobatroun.com
X-WR-CALDESC:Events for Go Batroun
REFRESH-INTERVAL;VALUE=DURATION:PT1H
X-Robots-Tag:noindex
X-PUBLISHED-TTL:PT1H
BEGIN:VTIMEZONE
TZID:Asia/Beirut
BEGIN:DAYLIGHT
TZOFFSETFROM:+0200
TZOFFSETTO:+0300
TZNAME:EEST
DTSTART:20240330T220000
END:DAYLIGHT
BEGIN:STANDARD
TZOFFSETFROM:+0300
TZOFFSETTO:+0200
TZNAME:EET
DTSTART:20241026T210000
END:STANDARD
END:VTIMEZONE
BEGIN:VEVENT
DTSTART;TZID=Asia/Beirut:20240818T080000
DTEND;TZID=Asia/Beirut:20240818T080000
DTSTAMP:20260419T221623
CREATED:20240816T083329Z
LAST-MODIFIED:20240816T083329Z
UID:10006513-1723968000-1723968000@gobatroun.com
SUMMARY:Into the Cave with Routes
DESCRIPTION:Into the Cave with Routes \nThis Sunday\, we are going into the cave to explore the hidden gem beneath the ground of Akoura Village \nWe will go into Rouels Cave\, the third longest cave in Lebanon\, enjoy its mesmerizing natural formations and explore the adventurous section of the Cave. \nAfter this experience\, we will follow the river\, to reach a waterfall carved between the rocks \, where we will enjoy swimming in the cold refreshing waters of Roueis Source \nDon’t forget to bring your snacks with you\, our lunch will be next to the waterfall\, picnic style \nEvent Details: \n* DATE: Sunday\, August 18\n* MEETING POINT: \nBeirut Al Nahar Building-Martyr square Downtown (we can pick up hikers along the way) at 7:00 AM. \nByblos- Public Garden Parking at 8:00 AM. \nPS: Punctuality is highly important! \n* EVENT DEPARTURE: 10:00AM.\n* EVENT DURATION: 7 hours.\n* HIKE DISTANCE: 2 KM.\n* HIKE DIFFICULTY: Moderate\, Adventurous. \nBE PREPARED: \nBring light snacks to boost your energy up (such as nuts\, dates\, fruits\, sandwiches and at least 1L of water)\, hiking shoes\, swimwear\, towel\, hat\, sunscreen and sunglasses. \nYou can book by calling\nRoutes Team 76-338762 -————————————————————————————\nEvent Participation Fees :\n• 35$/Person including Transportation. • 25$/Person for people joining in their own car. \nThis event will Include:\nRoutes guides\, Local guide\, Caving guide\, PPE (Helmets\, Headlights) First Aid kit\, Breakfast (Tea & Croissants ) & Photos. \nMaximum number of participants for this hike is 30. \nSee you \nDISCLAIMER:\nEvery participant assumes all possible risks and is responsible for his/her own safety and security.
URL:https://gobatroun.com/event/into-the-cave-with-routes/
LOCATION:Routes
CATEGORIES:Sports
ATTACH;FMTTYPE=image/jpeg:https://gobatroun.com/wp-content/uploads/2024/08/August-18-Event-2.jpg
END:VEVENT
BEGIN:VEVENT
DTSTART;TZID=Asia/Beirut:20240728T100000
DTEND;TZID=Asia/Beirut:20240728T170000
DTSTAMP:20260419T221623
CREATED:20240723T115035Z
LAST-MODIFIED:20240724T051355Z
UID:10006442-1722160800-1722186000@gobatroun.com
SUMMARY:Into the Holy Valley with Routes
DESCRIPTION:Into the Holy Valley with Routes \nKadisha valley a world heritage site protected by the UNESCO for its beauty and richness in history\, culture and natural beauty.\nThis Sunday we will wander into the holy valley of kadisha\, scattered with caves\, chapels\, rivers\, waterfalls\, hermitages and monasteries carved in the rocky face of the valley.\nWe will start our trail from the top of Hadshit village passing by hawka and fradis village.\nWe will end our hike at a local restaurant for some tasty bites \nEvent Details: \n* DATE: Sunday\, July 28.\n* MEETING POINT:\nBeirut Al Nahar Building-Martyr square Downtown(we can pick up hikers along the way) at 7:00 AM.\nBatroun- Routes Bike rental Station at 8:00 AM. \nPS: Punctuality is highly important! \n* HIKE DEPARTURE: 10:00AM.\n* HIKE DURATION: 4 hours.\n* DISTANCE: 11 KM.\n* HIKE DIFFICULTY: Moderate. \nBE PREPARED:\nBring light snacks to boost your energy up (such as nuts\, dates\, dried fruits and at least 1L of water)\, hiking shoes\, jacket\, hat\, sunscreen and sunglasses. \nYou can book by calling\nRoutes Team +961 76 338 762 -————————————————————————————\nEvent Participation Fees :\n• 25$/Person including Transportation. • 20$/Person for groups of 4 and more (Including Transportation) \nThis event will Include:\nRoutes guides\, Local guide\, First Aid kit\, Breakfast (Tea ☕️ & Croissants ) & Photos. \nMaximum number of participants for this hike is 30. \nSee you ☺️ \nDISCLAIMER:\nEvery participant assumes all possible risks and is responsible for his/her own safety and security.
URL:https://gobatroun.com/event/into-the-holy-valley/
LOCATION:Routes
CATEGORIES:Sports
ATTACH;FMTTYPE=image/jpeg:https://gobatroun.com/wp-content/uploads/2024/07/July-28-Event-2.jpg
END:VEVENT
END:VCALENDAR