BEGIN:VCALENDAR
VERSION:2.0
PRODID:-//Go Batroun - ECPv6.14.2//NONSGML v1.0//EN
CALSCALE:GREGORIAN
METHOD:PUBLISH
X-WR-CALNAME:Go Batroun
X-ORIGINAL-URL:https://gobatroun.com
X-WR-CALDESC:Events for Go Batroun
REFRESH-INTERVAL;VALUE=DURATION:PT1H
X-Robots-Tag:noindex
X-PUBLISHED-TTL:PT1H
BEGIN:VTIMEZONE
TZID:Asia/Beirut
BEGIN:DAYLIGHT
TZOFFSETFROM:+0200
TZOFFSETTO:+0300
TZNAME:EEST
DTSTART:20240330T220000
END:DAYLIGHT
BEGIN:STANDARD
TZOFFSETFROM:+0300
TZOFFSETTO:+0200
TZNAME:EET
DTSTART:20241026T210000
END:STANDARD
END:VTIMEZONE
BEGIN:VEVENT
DTSTART;TZID=Asia/Beirut:20240908T150000
DTEND;TZID=Asia/Beirut:20240908T233000
DTSTAMP:20260423T085845
CREATED:20240830T080145Z
LAST-MODIFIED:20240830T080145Z
UID:10006577-1725807600-1725838200@gobatroun.com
SUMMARY:Dead End Brunch at Soult Beach
DESCRIPTION:Catch the sun\, sea\, and a bunch of fun at @dead.end.brunch ’s beach edition\, featuring a DJ lineup worth the wait and will be revealed soon. \nHappening Sunday\, 8th soultbeach. \neastvillagecuisine will be serving up delicious food. \nDead End Brunch & friends: setsail.to timelessbeirut soultbeach dead.end.paradise alnkvn_music \nFor reservations and more information call: +961 81 424 577
URL:https://gobatroun.com/event/dead-end-brunch-at-soult-beach/
LOCATION:Soult beach\, 6MR6+H4 Kfar Aabida\, Batroun\, Lebanon
CATEGORIES:Performing Arts
ATTACH;FMTTYPE=image/jpeg:https://gobatroun.com/wp-content/uploads/2024/08/September-8-Event.jpg
END:VEVENT
BEGIN:VEVENT
DTSTART;TZID=Asia/Beirut:20240907T213000
DTEND;TZID=Asia/Beirut:20240907T213000
DTSTAMP:20260423T085845
CREATED:20240905T122151Z
LAST-MODIFIED:20240905T122151Z
UID:10006603-1725744600-1725744600@gobatroun.com
SUMMARY:Music Event at Tilt
DESCRIPTION:Music Event at Tilt with Walid Kanaan & the Band \nBook Now +961 03 250 703
URL:https://gobatroun.com/event/music-event-at-tilt/
LOCATION:Tilt\, 6QG7+HG Zan\, Batroun\, Lebanon
CATEGORIES:Performing Arts
ATTACH;FMTTYPE=image/jpeg:https://gobatroun.com/wp-content/uploads/2024/09/September-7th-2.jpg
END:VEVENT
BEGIN:VEVENT
DTSTART;TZID=Asia/Beirut:20240907T190000
DTEND;TZID=Asia/Beirut:20240907T190000
DTSTAMP:20260423T085845
CREATED:20240905T090219Z
LAST-MODIFIED:20240905T090219Z
UID:10006592-1725735600-1725735600@gobatroun.com
SUMMARY:Vinyl Party عالسطيحة at Hangloose
DESCRIPTION:Vinyl Party عالسطيحة at Hangloose \nWith DJ Roland Ragi \n+961 71 872 417
URL:https://gobatroun.com/event/vinyl-party-%d8%b9%d8%a7%d9%84%d8%b3%d8%b7%d9%8a%d8%ad%d8%a9-at-hangloose/
LOCATION:HANGLOOSE\, 6MW6+PQ Batroun\, Batroun\, Lebanon
CATEGORIES:Performing Arts
ATTACH;FMTTYPE=image/jpeg:https://gobatroun.com/wp-content/uploads/2024/09/September-7th-1.jpg
ORGANIZER;CN="HANGLOOSE":MAILTO:contact@info.com
GEO:34.246771332534;35.661930198875
X-APPLE-STRUCTURED-LOCATION;VALUE=URI;X-ADDRESS=HANGLOOSE 6MW6+PQ Batroun Batroun Lebanon;X-APPLE-RADIUS=500;X-TITLE=6MW6+PQ Batroun:geo:35.661930198875,34.246771332534
END:VEVENT
BEGIN:VEVENT
DTSTART;TZID=Asia/Beirut:20240901T220000
DTEND;TZID=Asia/Beirut:20240901T220000
DTSTAMP:20260423T085845
CREATED:20240826T064911Z
LAST-MODIFIED:20240826T064911Z
UID:10006556-1725228000-1725228000@gobatroun.com
SUMMARY:Blubay Festival
DESCRIPTION:Blubay Festival \nFriday 30 August : Jom & Terry\, Ornen\, Elio Dib \nSaturday 31 August : BUBB\, MC H\, KAYY\, WAJJ \nSunday 01 September : Aridi\, Ralf Azar \nFor info & Reservations +961 76 149 944
URL:https://gobatroun.com/event/blubay-festival/2024-09-01/
LOCATION:Blu Bay Batroun\, 6MW6+QJ Batroun\, Batroun\, Lebanon
CATEGORIES:Performing Arts
ATTACH;FMTTYPE=image/jpeg:https://gobatroun.com/wp-content/uploads/2024/08/August-30-Events.jpg
END:VEVENT
BEGIN:VEVENT
DTSTART;TZID=Asia/Beirut:20240831T220000
DTEND;TZID=Asia/Beirut:20240831T220000
DTSTAMP:20260423T085846
CREATED:20240826T064911Z
LAST-MODIFIED:20240826T064911Z
UID:10006555-1725141600-1725141600@gobatroun.com
SUMMARY:Blubay Festival
DESCRIPTION:Blubay Festival \nFriday 30 August : Jom & Terry\, Ornen\, Elio Dib \nSaturday 31 August : BUBB\, MC H\, KAYY\, WAJJ \nSunday 01 September : Aridi\, Ralf Azar \nFor info & Reservations +961 76 149 944
URL:https://gobatroun.com/event/blubay-festival/2024-08-31/
LOCATION:Blu Bay Batroun\, 6MW6+QJ Batroun\, Batroun\, Lebanon
CATEGORIES:Performing Arts
ATTACH;FMTTYPE=image/jpeg:https://gobatroun.com/wp-content/uploads/2024/08/August-30-Events.jpg
END:VEVENT
BEGIN:VEVENT
DTSTART;TZID=Asia/Beirut:20240831T203000
DTEND;TZID=Asia/Beirut:20240831T203000
DTSTAMP:20260423T085846
CREATED:20240826T055021Z
LAST-MODIFIED:20240826T055021Z
UID:10006553-1725136200-1725136200@gobatroun.com
SUMMARY:Ashkara and DJ Bob at colonel Reef
DESCRIPTION:Ashkara and DJ Bob at colonel Reef for a night you won’t forget on August 31st starting at 8.30 PM \nTable Reservation +961 03 743 543
URL:https://gobatroun.com/event/ashkara-and-dj-bob-at-colonel-reef/
LOCATION:Colonel Reef\, 6MX5+R2 Batroun\, Batroun\, Lebanon
CATEGORIES:Performing Arts
ATTACH;FMTTYPE=image/jpeg:https://gobatroun.com/wp-content/uploads/2024/08/August-31-Event-1.jpg
GEO:34.249604995751;35.657635266722
X-APPLE-STRUCTURED-LOCATION;VALUE=URI;X-ADDRESS=Colonel Reef 6MX5+R2 Batroun Batroun Lebanon;X-APPLE-RADIUS=500;X-TITLE=6MX5+R2 Batroun:geo:35.657635266722,34.249604995751
END:VEVENT
BEGIN:VEVENT
DTSTART;TZID=Asia/Beirut:20240830T220000
DTEND;TZID=Asia/Beirut:20240830T220000
DTSTAMP:20260423T085846
CREATED:20240826T064911Z
LAST-MODIFIED:20240826T064911Z
UID:10006554-1725055200-1725055200@gobatroun.com
SUMMARY:Blubay Festival
DESCRIPTION:Blubay Festival \nFriday 30 August : Jom & Terry\, Ornen\, Elio Dib \nSaturday 31 August : BUBB\, MC H\, KAYY\, WAJJ \nSunday 01 September : Aridi\, Ralf Azar \nFor info & Reservations +961 76 149 944
URL:https://gobatroun.com/event/blubay-festival/2024-08-30/
LOCATION:Blu Bay Batroun\, 6MW6+QJ Batroun\, Batroun\, Lebanon
CATEGORIES:Performing Arts
ATTACH;FMTTYPE=image/jpeg:https://gobatroun.com/wp-content/uploads/2024/08/August-30-Events.jpg
END:VEVENT
BEGIN:VEVENT
DTSTART;TZID=Asia/Beirut:20240820T203000
DTEND;TZID=Asia/Beirut:20240820T203000
DTSTAMP:20260423T085846
CREATED:20240819T063912Z
LAST-MODIFIED:20240819T063912Z
UID:10006520-1724185800-1724185800@gobatroun.com
SUMMARY:Tuesday Rituals at Ile Beachbar
DESCRIPTION:Tuesday Rituals at Ile Beach Bar featuring NIC-GIO \nRSVP +961 81 488 471 or +961 71 009 776
URL:https://gobatroun.com/event/tuesday-rituals-at-ile-beachbar/
LOCATION:Île Beach Bar\, 6MW5+M8 Batroun\, Heri\, Lebanon
CATEGORIES:Performing Arts
ATTACH;FMTTYPE=image/png:https://gobatroun.com/wp-content/uploads/2024/08/August-20.png
GEO:34.246743804228;35.658362321019
X-APPLE-STRUCTURED-LOCATION;VALUE=URI;X-ADDRESS=Île Beach Bar 6MW5+M8 Batroun Heri Lebanon;X-APPLE-RADIUS=500;X-TITLE=6MW5+M8 Batroun:geo:35.658362321019,34.246743804228
END:VEVENT
BEGIN:VEVENT
DTSTART;TZID=Asia/Beirut:20240817T193000
DTEND;TZID=Asia/Beirut:20240817T193000
DTSTAMP:20260423T085846
CREATED:20240809T094023Z
LAST-MODIFIED:20240809T094023Z
UID:10006497-1723923000-1723923000@gobatroun.com
SUMMARY:Yal Solan Live Performance
DESCRIPTION:Yal Solan Live Performance \nGet ready to be captivated by the enchanting melodies of Yal Solan! Join us on August 17** for an evening of soulful music & poetry and unforgettable moments. Let her voice transport you to a world of pure magic. \nDate: August 17\, 2024 \nLocation:  snaw_bar_camping \nBand charge : $10 \nDon’t miss out! Book your spot before it’s too late! RSVP now and be part of this incredible experience. \nInfo: +961 71 942 776
URL:https://gobatroun.com/event/yal-solan-live-performance/
LOCATION:Snaw Bar Camping\, 6MRV+PW Ijdabra\, Ijdabra\, Lebanon
CATEGORIES:Performing Arts
ATTACH;FMTTYPE=image/jpeg:https://gobatroun.com/wp-content/uploads/2024/08/August-17-Event-1.jpg
GEO:34.241856415941;35.694771331139
X-APPLE-STRUCTURED-LOCATION;VALUE=URI;X-ADDRESS=Snaw Bar Camping 6MRV+PW Ijdabra Ijdabra Lebanon;X-APPLE-RADIUS=500;X-TITLE=6MRV+PW Ijdabra:geo:35.694771331139,34.241856415941
END:VEVENT
END:VCALENDAR