BEGIN:VCALENDAR
VERSION:2.0
PRODID:-//Go Batroun - ECPv6.14.2//NONSGML v1.0//EN
CALSCALE:GREGORIAN
METHOD:PUBLISH
X-ORIGINAL-URL:https://gobatroun.com
X-WR-CALDESC:Events for Go Batroun
REFRESH-INTERVAL;VALUE=DURATION:PT1H
X-Robots-Tag:noindex
X-PUBLISHED-TTL:PT1H
BEGIN:VTIMEZONE
TZID:Asia/Beirut
BEGIN:DAYLIGHT
TZOFFSETFROM:+0200
TZOFFSETTO:+0300
TZNAME:EEST
DTSTART:20220326T220000
END:DAYLIGHT
BEGIN:STANDARD
TZOFFSETFROM:+0300
TZOFFSETTO:+0200
TZNAME:EET
DTSTART:20221029T210000
END:STANDARD
END:VTIMEZONE
BEGIN:VEVENT
DTSTART;TZID=Asia/Beirut:20220619T080000
DTEND;TZID=Asia/Beirut:20220619T190000
DTSTAMP:20260425T201005
CREATED:20220615T082346Z
LAST-MODIFIED:20220615T083903Z
UID:10000852-1655625600-1655665200@gobatroun.com
SUMMARY:Into the Waterfall
DESCRIPTION:Summer is here and the heat waves are getting stronger☀️. Let’s bring back the fun to our hike by taking refreshing dips in the natural pool while discovering the elephant canyon in Yahshoush🌲.\nThat’s not just it\, our friends from @guardiansofthefalls will be taking over the last part where they’ll be leading us into an adventurous hidden trail to reach and descend the last waterfall\, canyoning style 🤙. \nJoin us on Sunday 19th of June to enjoy a hike and a glimpse of a canyoning experience. We will be divided into two-team of 10 to keep the experience smooth and fun
URL:https://gobatroun.com/event/routes-and-guardians-of-the-falls/
LOCATION:Routes
CATEGORIES:Sports
ATTACH;FMTTYPE=image/png:https://gobatroun.com/wp-content/uploads/2022/06/Screenshot-17.png
END:VEVENT
END:VCALENDAR