BEGIN:VCALENDAR
VERSION:2.0
PRODID:-//Go Batroun - ECPv6.14.2//NONSGML v1.0//EN
CALSCALE:GREGORIAN
METHOD:PUBLISH
X-WR-CALNAME:Go Batroun
X-ORIGINAL-URL:https://gobatroun.com
X-WR-CALDESC:Events for Go Batroun
REFRESH-INTERVAL;VALUE=DURATION:PT1H
X-Robots-Tag:noindex
X-PUBLISHED-TTL:PT1H
BEGIN:VTIMEZONE
TZID:Asia/Beirut
BEGIN:DAYLIGHT
TZOFFSETFROM:+0200
TZOFFSETTO:+0300
TZNAME:EEST
DTSTART:20230325T220000
END:DAYLIGHT
BEGIN:STANDARD
TZOFFSETFROM:+0300
TZOFFSETTO:+0200
TZNAME:EET
DTSTART:20231028T210000
END:STANDARD
END:VTIMEZONE
BEGIN:VEVENT
DTSTART;TZID=Asia/Beirut:20230218T080000
DTEND;TZID=Asia/Beirut:20230218T200000
DTSTAMP:20260422T013940
CREATED:20230210T084906Z
LAST-MODIFIED:20230210T084906Z
UID:10001939-1676707200-1676750400@gobatroun.com
SUMMARY:NIHA Cedar Forest
DESCRIPTION:Event Details : \n* DATE: Saturday 18 February 2023 \n* MEETING POINT: \nBeirut Al Nahar Building-Martyr square Downtown(we can pick up hikers along the way) at 7:00 am \nBatroun Routes station at 8:00 am. \nPS: Punctuality is highly important! \n* HIKE DEPARTURE: 9:30 AM.\n* HIKE DURATION: 3h 30 min\n* LEVEL: Easy to moderate\n* Trail: 8 km \nBE PREPARED: \nBring light snacks to boost your energy up (such as nuts\, dry fruits and water).\nwinter clothing\, winter shoes\, jacket\, gloves & hat\, sunscreen\, sunglass and changing clothes. \nYou can book by calling\nRoutes Team 76-338762 ————————————————————————————-\nEvent Participation Fees : \n* 25$ including Transportation.\n* 20$ for People who will join by their own car. \nThis event will include transportation \,Snowshoeing equipment\, Routes guides\, Local guides\, Breakfast (Tea & Croissants). \nMaximum number of participants for this hike is 25.
URL:https://gobatroun.com/event/niha-cedar-forest/
LOCATION:Routes
CATEGORIES:Performing Arts
ATTACH;FMTTYPE=image/jpeg:https://gobatroun.com/wp-content/uploads/2023/02/1136840120230209062810.jpg
END:VEVENT
END:VCALENDAR