BEGIN:VCALENDAR
VERSION:2.0
PRODID:-//Go Batroun - ECPv6.14.2//NONSGML v1.0//EN
CALSCALE:GREGORIAN
METHOD:PUBLISH
X-WR-CALNAME:Go Batroun
X-ORIGINAL-URL:https://gobatroun.com
X-WR-CALDESC:Events for Go Batroun
REFRESH-INTERVAL;VALUE=DURATION:PT1H
X-Robots-Tag:noindex
X-PUBLISHED-TTL:PT1H
BEGIN:VTIMEZONE
TZID:Asia/Beirut
BEGIN:DAYLIGHT
TZOFFSETFROM:+0200
TZOFFSETTO:+0300
TZNAME:EEST
DTSTART:20220326T220000
END:DAYLIGHT
BEGIN:STANDARD
TZOFFSETFROM:+0300
TZOFFSETTO:+0200
TZNAME:EET
DTSTART:20221029T210000
END:STANDARD
END:VTIMEZONE
BEGIN:VEVENT
DTSTART;TZID=Asia/Beirut:20221026T220000
DTEND;TZID=Asia/Beirut:20221026T220000
DTSTAMP:20260420T072447
CREATED:20221024T084119Z
LAST-MODIFIED:20221024T084119Z
UID:10001490-1666821600-1666821600@gobatroun.com
SUMMARY:Live Match FC Barca vs FC Bayern München at Seven Doors
DESCRIPTION:
URL:https://gobatroun.com/event/live-match-fc-barca-vs-fc-bayern-munchen-at-seven-doors/
LOCATION:Seven Doors
CATEGORIES:Performing Arts,Sports
ATTACH;FMTTYPE=image/png:https://gobatroun.com/wp-content/uploads/2022/10/Screenshot-1978.png
END:VEVENT
END:VCALENDAR