BEGIN:VCALENDAR
VERSION:2.0
PRODID:-//Go Batroun - ECPv6.14.2//NONSGML v1.0//EN
CALSCALE:GREGORIAN
METHOD:PUBLISH
X-ORIGINAL-URL:https://gobatroun.com
X-WR-CALDESC:Events for Go Batroun
REFRESH-INTERVAL;VALUE=DURATION:PT1H
X-Robots-Tag:noindex
X-PUBLISHED-TTL:PT1H
BEGIN:VTIMEZONE
TZID:Asia/Beirut
BEGIN:DAYLIGHT
TZOFFSETFROM:+0200
TZOFFSETTO:+0300
TZNAME:EEST
DTSTART:20220326T220000
END:DAYLIGHT
BEGIN:STANDARD
TZOFFSETFROM:+0300
TZOFFSETTO:+0200
TZNAME:EET
DTSTART:20221029T210000
END:STANDARD
END:VTIMEZONE
BEGIN:VEVENT
DTSTART;TZID=Asia/Beirut:20220915T210000
DTEND;TZID=Asia/Beirut:20220915T210000
DTSTAMP:20260420T100733
CREATED:20220912T072836Z
LAST-MODIFIED:20220912T072836Z
UID:10001344-1663275600-1663275600@gobatroun.com
SUMMARY:80’s night at Tramway Batroun
DESCRIPTION:It’s about 80’s night EVERY THURSDAY at Tramway Batroun\, Ft. @dj_chub_official ! Let’s get the groove on 🪩 \nRSVP at 📲 03 51 41 01
URL:https://gobatroun.com/event/80s-night-at-tramway-batroun-3/
LOCATION:Tramway Gastro Pub\, 7M45+CQ Batroun\, Batroun\, Lebanon
CATEGORIES:Performing Arts
ATTACH;FMTTYPE=image/png:https://gobatroun.com/wp-content/uploads/2022/08/Screenshot-1467-1.png
END:VEVENT
BEGIN:VEVENT
DTSTART;TZID=Asia/Beirut:20220917T203000
DTEND;TZID=Asia/Beirut:20220917T203000
DTSTAMP:20260420T100733
CREATED:20220914T071700Z
LAST-MODIFIED:20220914T071700Z
UID:10001365-1663446600-1663446600@gobatroun.com
SUMMARY:رواد ميرزا في مار شينا حردين
DESCRIPTION:بمناسبة عيد مار شينا شفيع الرعية وقف حردين يقدم : \nالعشاء القروي السنوي \nRawad Mirzaكما وسيحي هذا الحفل النجم ‏ \nفي ساحة الرعية \n 2022 17 ايلول \nالدخول مجاني
URL:https://gobatroun.com/event/%d8%b1%d9%88%d8%a7%d8%af-%d9%85%d9%8a%d8%b1%d8%b2%d8%a7-%d9%81%d9%8a-%d9%85%d8%a7%d8%b1-%d8%b4%d9%8a%d9%86%d8%a7-%d8%ad%d8%b1%d8%af%d9%8a%d9%86/
LOCATION:Hardine
CATEGORIES:Festivals,Performing Arts
ATTACH;FMTTYPE=image/jpeg:https://gobatroun.com/wp-content/uploads/2022/09/306766156_5350194541758898_6989143376643706614_n.jpg
END:VEVENT
END:VCALENDAR